Workbook

Sheet NAVODILA
B4: NAVODILA ZA IZPOLNITEV PREDRAČUNA – SEZNAMA RAZPISANEGA BLAGA (OBR-8a)
B6: 1. Ponudnik mora Predračun - Seznama razpisanega blaga (OBR – 8a) izpolniti, natisniti in natisnjeni izvod podpisati in žigosati.
B8: 2. Ponudnik k ponudbi predloži Predračun - Seznam razpisanega blaga (lastni natis izpolnjenega predračuna iz OBR-8a) v pisni in obvezno tudi v elektronski obliki - na CD-ju ali USB ključku (v primeru enostavnega postopka ob elektronski oddaji ponudbe ponudniki dajo xls. datoteko in scan natisnjene verzije - pdf datoteko kot priponko k elektronski ponudbi).
B10: 3. Ponudnik mora v »Predračun - Seznam razpisanega blaga« (exelova datoteka) pri vrstah blaga, ki jih ponuja (v polja obarvana z rumeno barvo) obvezno vpisati naslednje podatke:
B12: Opcija 1:
B13: o veljavna cena brez DDV/EM
B14: o popust (stopnja fiksnega popusta)
B15: o stopnjo DDV
B16: o proizvajalca ponujenega blaga / izvajalca storitve
B17: o ponudnikov naziv blaga / storitve
B18: o EAN kodo ponujenega blaga / storitve (če jo ima)
B19: o kataloško številko ponujenega blaga / storitve (če jo ima)
... B46: o cena brez DDV mora vsebovati vse stroške, popuste, rabate.

Sheet 1. Podatki naročnika
B4: Podatki naročnika
B5: Naročnik: | C5: Splošna bolnišnica Novo mesto
B6: JN št.: | C6: 16-18/17
B7: Predmet JN: | C7: ORTOPEDSKE ENDOPROTEZE
B8: Obdobje priznane sposobnosti in usposobljenosti:
B9: Obdobje JN:
B10: Vrsta postopka JN: | C10: odprti postopek
B11: Okvirni sporazumi: | C11: Ne
B12: Vrsta predmeta JN: | C12: BLAGO
B13: Status:
B15: Aplikacija Javna naročila, različica 2.3.4

Sheet 2. Podatki o ponudniku
B4: Podatki o ponudniku
B5: Naziv:
B6: Naslov:
B7: Identifikacijska številka za DDV:
B8: Telefon:
B9: Faks:
B10: Kontaktna oseba:
B11: Elektronski naslov:

Sheet 3. Strokovne zahteve naročnika
B4: Strokovne zahteve naročnika
B7: Kot je navedeno v Specifikaciji zahtev v Word datoteki razpisne dokumentacije.

Sheet Sklop I.
C4: Seznam razpisanega blaga za sklop:
B5: I. | C5: KOLČNE ENDOPROTEZE
C7: =IF('2. Podatki o ponudniku'!C5<>"","Naziv ponudnika: " & '2. Podatki o ponudniku'!C5,"")
C8: =IF('2. Podatki o ponudniku'!C7<>"","Identifikacijska številka za DDV: " & '2. Podatki o ponudniku'!C7,"")
A11: * | B11: 1. | C11: podsklop: KLINASTO OBLIKOVANA BREZCEMENTNA KOLČNA ENDOPROTEZA Z NAVOJNO PONVICO | H11: ZAPRT | L11: KLINASTO OBLIKOVANA BREZCEMENTNA KOLČNA ENDOPROTEZA Z NAVOJNO PONVICO
A12: EOB | B12: Zap. št. | C12: Naziv blaga | D12: Lastnost 1 | E12: Lastnost 2 | F12: Lastnost 3 | G12: Lastnost 4 | H12: EM | I12: Količina | J12: Št. vzorcev | K12: Var. | L12: Veljavna cena brez DDV | M12: Popust | N12: Stopnja DDV | O12: Cena brez DDV | P12: Cena z DDV | Q12: Vrednost brez DDV | R12: Vrednost z DDV | S12: Proizvajalec | T12: Ponudnikov naziv blaga | U12: EAN | V12: Kataloška številka | W12: Opomba
B13: 1 | C13: Kolk DEBLO brezcementno brez trohanternega krila pokrito s hidroksiapatitom, velikost 1-14 | E13: Glej teh.specifikacije | H13: KOS | I13: 15 | K13: 1 | O13: =ROUND(ROUND(L13,4)*(1-M13),4) -> 0 | P13: =ROUND(ROUND(O13,4)*(1+N13),4) -> 0 | Q13: =ROUND($I13*O13,4) -> 0 | R13: =ROUND($I13*P13,4) -> 0
B14: 2 | C14: Kolk GLAVA keramična, velikosti premera 28, 32, 36 in 40 mm; velikost S-XXL | D14: delta; konus 12/14; | H14: KOS | I14: 9 | K14: 1 | O14: =ROUND(ROUND(L14,4)*(1-M14),4) -> 0 | P14: =ROUND(ROUND(O14,4)*(1+N14),4) -> 0 | Q14: =ROUND($I14*O14,4) -> 0 | R14: =ROUND($I14*P14,4) -> 0
B15: 3 | C15: Kolk GLAVA kovinska, velikosti premera 22, 28, 32 in 36 mm; velikost S-XXL | D15: konus 12/14; iz materiala CoCrMo po ISO standardu 5832-4 | H15: KOS | I15: 1 | K15: 1 | O15: =ROUND(ROUND(L15,4)*(1-M15),4) -> 0 | P15: =ROUND(ROUND(O15,4)*(1+N15),4) -> 0 | Q15: =ROUND($I15*O15,4) -> 0 | R15: =ROUND($I15*P15,4) -> 0
B16: 4 | C16: Kolk PONVICA kovinska samorezna navojna; velikosti premera ponvice vsaj 37 -72 mm | E16: Glej teh.specifikacije | H16: KOS | I16: 1 | K16: 1 | O16: =ROUND(ROUND(L16,4)*(1-M16),4) -> 0 | P16: =ROUND(ROUND(O16,4)*(1+N16),4) -> 0 | Q16: =ROUND($I16*O16,4) -> 0 | R16: =ROUND($I16*P16,4) -> 0
B17: 5 | C17: Kolk VLOŽEK polietilenski v standardni izvedbi; velikosti premera 22 mm, 28 mm, 32 mm in 36mm | D17: iz cross-linked polietilena | H17: KOS | I17: 3 | K17: 1 | O17: =ROUND(ROUND(L17,4)*(1-M17),4) -> 0 | P17: =ROUND(ROUND(O17,4)*(1+N17),4) -> 0 | Q17: =ROUND($I17*O17,4) -> 0 | R17: =ROUND($I17*P17,4) -> 0
B18: 6 | C18: Kolk VLOŽEK polietilenski v antiluksacijski izvedbi; velikosti premera 22 mm, 28 mm, 32 mm in 36mm | D18: iz cross-linked polietilena | H18: KOS | I18: 1 | K18: 1 | O18: =ROUND(ROUND(L18,4)*(1-M18),4) -> 0 | P18: =ROUND(ROUND(O18,4)*(1+N18),4) -> 0 | Q18: =ROUND($I18*O18,4) -> 0 | R18: =ROUND($I18*P18,4) -> 0
P19: Skupaj: | Q19: =SUM(Q13:Q18) -> 0 | R19: =SUM(R13:R18) -> 0
A22: * | B22: 2. | C22: podsklop: KLINASTO OBLIKOVANA RAVNA BREZCEMENTNA KOLČNA ENDOPROTEZA Z HIDROKSIAPATITOM ZA MINIMALNO INVAZIVEN ANTERIORNI KIRURŠKI PRISTOP | H22: ZAPRT | L22: KLINASTO OBLIKOVANA RAVNA BREZCEMENTNA KOLČNA ENDOPROTEZA Z HIDROKSIAPATITOM ZA MINIMALNO INVAZIVEN ANTERIORNI KIRURŠKI PRISTOP
A23: EOB | B23: Zap. št. | C23: Naziv blaga | D23: Lastnost 1 | E23: Lastnost 2 | F23: Lastnost 3 | G23: Lastnost 4 | H23: EM | I23: Količina | J23: Št. vzorcev | K23: Var. | L23: Veljavna cena brez DDV | M23: Popust | N23: Stopnja DDV | O23: Cena brez DDV | P23: Cena z DDV | Q23: Vrednost brez DDV | R23: Vrednost z DDV | S23: Proizvajalec | T23: Ponudnikov naziv blaga | U23: EAN | V23: Kataloška številka | W23: Opomba
B24: 1 | C24: Kolk DEBLO brezcem 1 - vratni kot (CCD) 134-136 st. | H24: KOS | I24: 170 | K24: 1 | O24: =ROUND(ROUND(L24,4)*(1-M24),4) -> 0 | P24: =ROUND(ROUND(O24,4)*(1+N24),4) -> 0 | Q24: =ROUND($I24*O24,4) -> 0 | R24: =ROUND($I24*P24,4) -> 0
B25: 2 | C25: Kolk DEBLO brezcem 2- z lateralizacijo-coxa vara (vratni kot (CCD) 123-126st. ) | H25: KOS | I25: 1 | K25: 1 | O25: =ROUND(ROUND(L25,4)*(1-M25),4) -> 0 | P25: =ROUND(ROUND(O25,4)*(1+N25),4) -> 0 | Q25: =ROUND($I25*O25,4) -> 0 | R25: =ROUND($I25*P25,4) -> 0
B26: 3 | C26: Kolk DEBLO brezcem 3, za displastične kolke | D26: velikosti K6S in velikost z možnostjo antiverzije K6A | H26: KOS | I26: 1 | K26: 1 | O26: =ROUND(ROUND(L26,4)*(1-M26),4) -> 0 | P26: =ROUND(ROUND(O26,4)*(1+N26),4) -> 0 | Q26: =ROUND($I26*O26,4) -> 0 | R26: =ROUND($I26*P26,4) -> 0
B27: 4 | C27: Kolk DEBLO brezcem 4, z lateralizacijo-high offset;vratni kot (CCD) 134-136 st. | H27: KOS | I27: 130 | K27: 1 | O27: =ROUND(ROUND(L27,4)*(1-M27),4) -> 0 | P27: =ROUND(ROUND(O27,4)*(1+N27),4) -> 0 | Q27: =ROUND($I27*O27,4) -> 0 | R27: =ROUND($I27*P27,4) -> 0
B28: 5 | C28: Kolk DEBLO brezcem 5, za revizijo | D28: podaljšek primarnega debla z M/L in A/P zarezo v distalnem delu | H28: KOS | I28: 1 | K28: 1 | O28: =ROUND(ROUND(L28,4)*(1-M28),4) -> 0 | P28: =ROUND(ROUND(O28,4)*(1+N28),4) -> 0 | Q28: =ROUND($I28*O28,4) -> 0 | R28: =ROUND($I28*P28,4) -> 0
B29: 6 | C29: Kolk DEBLO brezcem 6 - kratko | D29: Vsaj 12 velikosti, konus 12/14. | E29: Glej teh.specifikacije | H29: KOS | I29: 75 | K29: 1 | O29: =ROUND(ROUND(L29,4)*(1-M29),4) -> 0 | P29: =ROUND(ROUND(O29,4)*(1+N29),4) -> 0 | Q29: =ROUND($I29*O29,4) -> 0 | R29: =ROUND($I29*P29,4) -> 0
B30: 7 | C30: Kolk GLAVA keramična; premera 28 mm, 32mm in 36 mm | D30: Delta | H30: KOS | I30: 300 | K30: 1 | O30: =ROUND(ROUND(L30,4)*(1-M30),4) -> 0 | P30: =ROUND(ROUND(O30,4)*(1+N30),4) -> 0 | Q30: =ROUND($I30*O30,4) -> 0 | R30: =ROUND($I30*P30,4) -> 0
B31: 8 | C31: Kolk GLAVA kovinska; premera 28 mm, 32mm in 36mm; vsaj 4 dolžine | D31: iz materiala CoCr | H31: KOS | I31: 18 | K31: 1 | O31: =ROUND(ROUND(L31,4)*(1-M31),4) -> 0 | P31: =ROUND(ROUND(O31,4)*(1+N31),4) -> 0 | Q31: =ROUND($I31*O31,4) -> 0 | R31: =ROUND($I31*P31,4) -> 0
B32: 9 | C32: Kolk PONVICA kovinska s press fit zunanjim delom; v 10 različnih velikosti | E32: Glej teh.specifikacije | H32: KOS | I32: 340 | K32: 1 | O32: =ROUND(ROUND(L32,4)*(1-M32),4) -> 0 | P32: =ROUND(ROUND(O32,4)*(1+N32),4) -> 0 | Q32: =ROUND($I32*O32,4) -> 0 | R32: =ROUND($I32*P32,4) -> 0
B33: 10 | C33: Kolk PONVICA kovinska tip 2 | E33: Glej teh.specifikacije | H33: KOS | I33: 40 | K33: 1 | O33: =ROUND(ROUND(L33,4)*(1-M33),4) -> 0 | P33: =ROUND(ROUND(O33,4)*(1+N33),4) -> 0 | Q33: =ROUND($I33*O33,4) -> 0 | R33: =ROUND($I33*P33,4) -> 0
B34: 11 | C34: Kolk VLOŽEK polietilenski v standardni izvedbi; velikosti za 28, 32 in 36mm glavo; | D34: na razpolago v vsaj 10 različnih velikostih (premer od 48mm do 66mm); iz materiala uhmwpe (cross linked) | H34: KOS | I34: 170 | K34: 1 | O34: =ROUND(ROUND(L34,4)*(1-M34),4) -> 0 | P34: =ROUND(ROUND(O34,4)*(1+N34),4) -> 0 | Q34: =ROUND($I34*O34,4) -> 0 | R34: =ROUND($I34*P34,4) -> 0
B35: 12 | C35: Kolk VLOŽEK polietilenski v antiluksacijski izvedbi; velikosti za 28, 32 in 36mm glavo | D35: na razpolago v vsaj 10 različnih velikostih (premer od 48mm do 66mm); iz materiala uhmwpe ( cross linked) | H35: KOS | I35: 1 | K35: 1 | O35: =ROUND(ROUND(L35,4)*(1-M35),4) -> 0 | P35: =ROUND(ROUND(O35,4)*(1+N35),4) -> 0 | Q35: =ROUND($I35*O35,4) -> 0 | R35: =ROUND($I35*P35,4) -> 0
B36: 13 | C36: Kolk VLOŽEK keramični; velikosti za 28, 32, 36, 40 in 44mm glavo | D36: na razpolago v vsaj 10 različnih velikostih (premer od 48mm do 66mm); biolox delta | H36: KOS | I36: 210 | K36: 1 | O36: =ROUND(ROUND(L36,4)*(1-M36),4) -> 0 | P36: =ROUND(ROUND(O36,4)*(1+N36),4) -> 0 | Q36: =ROUND($I36*O36,4) -> 0 | R36: =ROUND($I36*P36,4) -> 0
B37: 14 | C37: Kolk VLOŽEK kovinski; velikosti za 36 mm glavo | D37: na razpolago v vsaj 10 različnih velikostih (premer od 48mm do 66mm); Co Cr z visoko vsebnostjo karbona | H37: KOS | I37: 1 | K37: 1 | O37: =ROUND(ROUND(L37,4)*(1-M37),4) -> 0 | P37: =ROUND(ROUND(O37,4)*(1+N37),4) -> 0 | Q37: =ROUND($I37*O37,4) -> 0 | R37: =ROUND($I37*P37,4) -> 0
B38: 15 | C38: Kolk VLOŽEK polietilenski, velikost 28,32 in 36 mm glavo | D38: obdelan v pogojih visoke radiacije >5Mrad | H38: KOS | I38: 1 | K38: 1 | O38: =ROUND(ROUND(L38,4)*(1-M38),4) -> 0 | P38: =ROUND(ROUND(O38,4)*(1+N38),4) -> 0 | Q38: =ROUND($I38*O38,4) -> 0 | R38: =ROUND($I38*P38,4) -> 0
B39: 16 | C39: Kolk ZAMAŠEK za dno acetabularne ponvice | D39: Univerzalen, za vse velikosti acetabularnih ponvic. | H39: KOS | I39: 360 | K39: 1 | O39: =ROUND(ROUND(L39,4)*(1-M39),4) -> 0 | P39: =ROUND(ROUND(O39,4)*(1+N39),4) -> 0 | Q39: =ROUND($I39*O39,4) -> 0 | R39: =ROUND($I39*P39,4) -> 0
P40: Skupaj: | Q40: =SUM(Q24:Q39) -> 0 | R40: =SUM(R24:R39) -> 0
A43: * | B43: 3. | C43: podsklop: CEMENTNA IN BREZCEMENTNA DVOJNO MOBILNA KOLČNA ENDOPROTEZA | H43: ZAPRT | L43: CEMENTNA IN BREZCEMENTNA DVOJNO MOBILNA KOLČNA ENDOPROTEZA
A44: EOB | B44: Zap. št. | C44: Naziv blaga | D44: Lastnost 1 | E44: Lastnost 2 | F44: Lastnost 3 | G44: Lastnost 4 | H44: EM | I44: Količina | J44: Št. vzorcev | K44: Var. | L44: Veljavna cena brez DDV | M44: Popust | N44: Stopnja DDV | O44: Cena brez DDV | P44: Cena z DDV | Q44: Vrednost brez DDV | R44: Vrednost z DDV | S44: Proizvajalec | T44: Ponudnikov naziv blaga | U44: EAN | V44: Kataloška številka | W44: Opomba
B45: 1 | C45: Kolk DEBLO 1; leva in desna izvedba; vsaj 9 velikosti | E45: Glej teh. specifikacije | H45: KOS | I45: 120 | K45: 1 | O45: =ROUND(ROUND(L45,4)*(1-M45),4) -> 0 | P45: =ROUND(ROUND(O45,4)*(1+N45),4) -> 0 | Q45: =ROUND($I45*O45,4) -> 0 | R45: =ROUND($I45*P45,4) -> 0
B46: 2 | C46: Kolk DEBLO 2; leva in desna izvedba; vsaj 9 velikosti | E46: Glej teh. specifikacije | H46: KOS | I46: 450 | K46: 1 | O46: =ROUND(ROUND(L46,4)*(1-M46),4) -> 0 | P46: =ROUND(ROUND(O46,4)*(1+N46),4) -> 0 | Q46: =ROUND($I46*O46,4) -> 0 | R46: =ROUND($I46*P46,4) -> 0
B47: 3 | C47: Kolk GLAVA kovinska; premera 22,5, 28, 32 in 36 | D47: vsaj 3 velikosti; iz materiala CoCr | H47: KOS | I47: 393 | K47: 1 | O47: =ROUND(ROUND(L47,4)*(1-M47),4) -> 0 | P47: =ROUND(ROUND(O47,4)*(1+N47),4) -> 0 | Q47: =ROUND($I47*O47,4) -> 0 | R47: =ROUND($I47*P47,4) -> 0
B48: 4 | C48: Kolk PONVICA 1; velikost 44-60 mm | E48: Glej teh. specifikacije | H48: KOS | I48: 42 | K48: 1 | O48: =ROUND(ROUND(L48,4)*(1-M48),4) -> 0 | P48: =ROUND(ROUND(O48,4)*(1+N48),4) -> 0 | Q48: =ROUND($I48*O48,4) -> 0 | R48: =ROUND($I48*P48,4) -> 0
B49: 5 | C49: Kolk PONVICA 2; velikost 44 - 60 mm | E49: Glej teh. specifikacije | H49: KOS | I49: 312 | K49: 1 | O49: =ROUND(ROUND(L49,4)*(1-M49),4) -> 0 | P49: =ROUND(ROUND(O49,4)*(1+N49),4) -> 0 | Q49: =ROUND($I49*O49,4) -> 0 | R49: =ROUND($I49*P49,4) -> 0
B50: 6 | C50: Kolk VLOŽEK polietilenski; velikost notranjega premera: 22,5 mm za zunanji premer od 44 do 48 mm in 28 mm za zunanji premer od 50 do 60 mm | D50: izdelan iz kompresijsko oblikovanega ultra visoko molekularnega polietilena, ki je steriliziran v inertnem argonu | H50: KOS | I50: 282 | K50: 1 | O50: =ROUND(ROUND(L50,4)*(1-M50),4) -> 0 | P50: =ROUND(ROUND(O50,4)*(1+N50),4) -> 0 | Q50: =ROUND($I50*O50,4) -> 0 | R50: =ROUND($I50*P50,4) -> 0
B51: 7 | C51: Kolk GLAVA keramična 1; velikost 28, 32, 36 in 40mm; vsaj 3 dolžine | D51: delta; konus 12/14 | H51: KOS | I51: 180 | K51: 1 | O51: =ROUND(ROUND(L51,4)*(1-M51),4) -> 0 | P51: =ROUND(ROUND(O51,4)*(1+N51),4) -> 0 | Q51: =ROUND($I51*O51,4) -> 0 | R51: =ROUND($I51*P51,4) -> 0
B52: 8 | C52: Kolk GLAVA keramična 2; velikost , 28, 32, 36, 40mm; vsaj 3 dolžine | D52: delta; konus 12/14 | H52: KOS | I52: 1 | K52: 1 | O52: =ROUND(ROUND(L52,4)*(1-M52),4) -> 0 | P52: =ROUND(ROUND(O52,4)*(1+N52),4) -> 0 | Q52: =ROUND($I52*O52,4) -> 0 | R52: =ROUND($I52*P52,4) -> 0
B53: 9 | C53: Kolk OVRATNIK iz titanijuma za revizijo, konus 12/14 | D53: Brezcementna fiksacija. Izdelana naj bo iz jekla, prevlečenega z hidroksihepatitom. Možnost fiksacije z 4,5mm kortikalnimi vijaki. | H53: KOS | I53: 1 | K53: 1 | O53: =ROUND(ROUND(L53,4)*(1-M53),4) -> 0 | P53: =ROUND(ROUND(O53,4)*(1+N53),4) -> 0 | Q53: =ROUND($I53*O53,4) -> 0 | R53: =ROUND($I53*P53,4) -> 0
B54: 10 | C54: Kolk PONVICA (revizijska); vel.: 48mm, 52mm, 54mm, 56mm, 62mm in 66mm. | D54: Izdelana naj bo iz jekla. Fiksacija z 4,5mm kortikalnimi vijaki. | H54: KOS | I54: 1 | K54: 1 | O54: =ROUND(ROUND(L54,4)*(1-M54),4) -> 0 | P54: =ROUND(ROUND(O54,4)*(1+N54),4) -> 0 | Q54: =ROUND($I54*O54,4) -> 0 | R54: =ROUND($I54*P54,4) -> 0
B55: 11 | C55: Ploščica revizijska za ponvico; vel.: 44-54mm, 48-58mm, 52-62mm in 56-66mm. | H55: KOS | I55: 1 | K55: 1 | O55: =ROUND(ROUND(L55,4)*(1-M55),4) -> 0 | P55: =ROUND(ROUND(O55,4)*(1+N55),4) -> 0 | Q55: =ROUND($I55*O55,4) -> 0 | R55: =ROUND($I55*P55,4) -> 0
B56: 12 | C56: Kolk VLOŽEK polietilenski z dodatkom vitamina E; velikost notranjega premera: 22,5 mm za zunanji premer od 44 do 48 mm in 28 mm za zunanji premer od 50 do 60 mm | H56: KOS | I56: 39 | K56: 1 | O56: =ROUND(ROUND(L56,4)*(1-M56),4) -> 0 | P56: =ROUND(ROUND(O56,4)*(1+N56),4) -> 0 | Q56: =ROUND($I56*O56,4) -> 0 | R56: =ROUND($I56*P56,4) -> 0
P57: Skupaj: | Q57: =SUM(Q45:Q56) -> 0 | R57: =SUM(R45:R56) -> 0
A60: * | B60: 4. | C60: podsklop: GLAVA BIPOLARNA | H60: ZAPRT | L60: GLAVA BIPOLARNA
A61: EOB | B61: Zap. št. | C61: Naziv blaga | D61: Lastnost 1 | E61: Lastnost 2 | F61: Lastnost 3 | G61: Lastnost 4 | H61: EM | I61: Količina | J61: Št. vzorcev | K61: Var. | L61: Veljavna cena brez DDV | M61: Popust | N61: Stopnja DDV | O61: Cena brez DDV | P61: Cena z DDV | Q61: Vrednost brez DDV | R61: Vrednost z DDV | S61: Proizvajalec | T61: Ponudnikov naziv blaga | U61: EAN | V61: Kataloška številka | W61: Opomba
B62: 1 | C62: Kolk GLAVA bipolarna; notranji premer mora biti 28 mm. Zunanje dimenzije naj bodo v presledkih po 2mm, od vsaj 43mm do vsaj 57mm. | D62: Sestavljena iz zunanjega kovinskega dela in notranjega polietilenskega vložka, ki mora biti izdelan iz kompresijsko oblikovanega ultra visoko molekularnega polietilena. | H62: KOS | I62: 120 | K62: 1 | O62: =ROUND(ROUND(L62,4)*(1-M62),4) -> 0 | P62: =ROUND(ROUND(O62,4)*(1+N62),4) -> 0 | Q62: =ROUND($I62*O62,4) -> 0 | R62: =ROUND($I62*P62,4) -> 0
B63: 2 | C63: Kolk GLAVA kovinska, premer 28 mm, konus 12/14, 3 dolžine | H63: KOS | I63: 1 | K63: 1 | O63: =ROUND(ROUND(L63,4)*(1-M63),4) -> 0 | P63: =ROUND(ROUND(O63,4)*(1+N63),4) -> 0 | Q63: =ROUND($I63*O63,4) -> 0 | R63: =ROUND($I63*P63,4) -> 0
P64: Skupaj: | Q64: =SUM(Q62:Q63) -> 0 | R64: =SUM(R62:R63) -> 0
A67: * | B67: 5. | C67: podsklop: ENDOPROTEZA KOLKA - KLINASTO OBLIKOVANA pokrita s hidroksiapatitom | H67: ZAPRT | L67: ENDOPROTEZA KOLKA - KLINASTO OBLIKOVANA pokrita s hidroksiapatitom
A68: EOB | B68: Zap. št. | C68: Naziv blaga | D68: Lastnost 1 | E68: Lastnost 2 | F68: Lastnost 3 | G68: Lastnost 4 | H68: EM | I68: Količina | J68: Št. vzorcev | K68: Var. | L68: Veljavna cena brez DDV | M68: Popust | N68: Stopnja DDV | O68: Cena brez DDV | P68: Cena z DDV | Q68: Vrednost brez DDV | R68: Vrednost z DDV | S68: Proizvajalec | T68: Ponudnikov naziv blaga | U68: EAN | V68: Kataloška številka | W68: Opomba
B69: 1 | C69: Kolk DEBLO brezcem, klinasto oblikovano pokrito s hidroksiapatitom; vsaj 7 velikosti | D69: konus 12/14, iz titana | E69: tipa Corail | H69: KOS | I69: 1 | K69: 1 | O69: =ROUND(ROUND(L69,4)*(1-M69),4) -> 0 | P69: =ROUND(ROUND(O69,4)*(1+N69),4) -> 0 | Q69: =ROUND($I69*O69,4) -> 0 | R69: =ROUND($I69*P69,4) -> 0
B70: 2 | C70: Kolk PONVICA; velikosti vsaj 42 do 70mm, v razmakih po 2mm | D70: sferična it titana | H70: KOS | I70: 87 | K70: 1 | O70: =ROUND(ROUND(L70,4)*(1-M70),4) -> 0 | P70: =ROUND(ROUND(O70,4)*(1+N70),4) -> 0 | Q70: =ROUND($I70*O70,4) -> 0 | R70: =ROUND($I70*P70,4) -> 0
B71: 3 | C71: Kolk VLOŽEK za ponvico, standardna izvedba; za glave 28, 32, 36mm | D71: iz cross-linked polietilena | H71: KOS | I71: 87 | K71: 1 | O71: =ROUND(ROUND(L71,4)*(1-M71),4) -> 0 | P71: =ROUND(ROUND(O71,4)*(1+N71),4) -> 0 | Q71: =ROUND($I71*O71,4) -> 0 | R71: =ROUND($I71*P71,4) -> 0
B72: 4 | C72: Kolk VLOŽEK za ponvico; antiluksacijaska izvedba; za glave 28, 32, 36mm | D72: iz cross-linked polietilena | H72: KOS | I72: 1 | K72: 1 | O72: =ROUND(ROUND(L72,4)*(1-M72),4) -> 0 | P72: =ROUND(ROUND(O72,4)*(1+N72),4) -> 0 | Q72: =ROUND($I72*O72,4) -> 0 | R72: =ROUND($I72*P72,4) -> 0
B73: 5 | C73: Kolk GLAVA keramična; premer 28,32,36 mm; vsaj 3 dolžine vratov | D73: delta ; konus 12/14 | H73: KOS | I73: 1 | K73: 1 | O73: =ROUND(ROUND(L73,4)*(1-M73),4) -> 0 | P73: =ROUND(ROUND(O73,4)*(1+N73),4) -> 0 | Q73: =ROUND($I73*O73,4) -> 0 | R73: =ROUND($I73*P73,4) -> 0
B74: 6 | C74: Kolk GLAVA metalna; premer 28,32,36 mm; vsaj 3 dolžine vratov | D74: CoCr zlitina; konus 12/14 | H74: KOS | I74: 54 | K74: 1 | O74: =ROUND(ROUND(L74,4)*(1-M74),4) -> 0 | P74: =ROUND(ROUND(O74,4)*(1+N74),4) -> 0 | Q74: =ROUND($I74*O74,4) -> 0 | R74: =ROUND($I74*P74,4) -> 0
P75: Skupaj: | Q75: =SUM(Q69:Q74) -> 0 | R75: =SUM(R69:R74) -> 0
A78: * | B78: 6. | C78: podsklop: RAVNA BREZCEMENTNA KOLČNA ENDOPROTEZA - KRATKA | H78: ZAPRT | L78: RAVNA BREZCEMENTNA KOLČNA ENDOPROTEZA - KRATKA
A79: EOB | B79: Zap. št. | C79: Naziv blaga | D79: Lastnost 1 | E79: Lastnost 2 | F79: Lastnost 3 | G79: Lastnost 4 | H79: EM | I79: Količina | J79: Št. vzorcev | K79: Var. | L79: Veljavna cena brez DDV | M79: Popust | N79: Stopnja DDV | O79: Cena brez DDV | P79: Cena z DDV | Q79: Vrednost brez DDV | R79: Vrednost z DDV | S79: Proizvajalec | T79: Ponudnikov naziv blaga | U79: EAN | V79: Kataloška številka | W79: Opomba
B80: 1 | C80: kolk DEBLO - kratko brezcem 1 | E80: Glej teh. specifikacije | H80: KOS | I80: 6 | K80: 1 | O80: =ROUND(ROUND(L80,4)*(1-M80),4) -> 0 | P80: =ROUND(ROUND(O80,4)*(1+N80),4) -> 0 | Q80: =ROUND($I80*O80,4) -> 0 | R80: =ROUND($I80*P80,4) -> 0
B81: 2 | C81: kolk DEBLO - kratko brezcem 2 | E81: Glej teh. specifikacije | H81: KOS | I81: 1 | K81: 1 | O81: =ROUND(ROUND(L81,4)*(1-M81),4) -> 0 | P81: =ROUND(ROUND(O81,4)*(1+N81),4) -> 0 | Q81: =ROUND($I81*O81,4) -> 0 | R81: =ROUND($I81*P81,4) -> 0
B82: 3 | C82: Kolk GLAVA kovinska; premera 22, 28, 32, 36 mm; vsaj 5 velikosti | D82: konus 12/14; iz materiala CoCr | H82: KOS | I82: 375 | K82: 1 | O82: =ROUND(ROUND(L82,4)*(1-M82),4) -> 0 | P82: =ROUND(ROUND(O82,4)*(1+N82),4) -> 0 | Q82: =ROUND($I82*O82,4) -> 0 | R82: =ROUND($I82*P82,4) -> 0
B83: 4 | C83: Kolk GLAVA keramična; premera 28 mm, 32mm, 36mm in 40mm; vsaj 4 velikosti | D83: konus 12/14, delta | H83: KOS | I83: 174 | K83: 1 | O83: =ROUND(ROUND(L83,4)*(1-M83),4) -> 0 | P83: =ROUND(ROUND(O83,4)*(1+N83),4) -> 0 | Q83: =ROUND($I83*O83,4) -> 0 | R83: =ROUND($I83*P83,4) -> 0
B84: 5 | C84: Kolk PONVICA; velikost: od 44mm-60mm | D84: možnost dodatne fiksacije z kostnimi vijaki | H84: KOS | I84: 39 | K84: 1 | O84: =ROUND(ROUND(L84,4)*(1-M84),4) -> 0 | P84: =ROUND(ROUND(O84,4)*(1+N84),4) -> 0 | Q84: =ROUND($I84*O84,4) -> 0 | R84: =ROUND($I84*P84,4) -> 0
B85: 6 | C85: Kolk VLOŽEK polietilenski; notranji premer: 28, 32 ali 36mm | D85: izdelan iz kompresijsko oblikovanega ultra visoko molekularnega polietilena, ki je steriliziran v inertnem argonu | H85: KOS | I85: 1 | K85: 1 | O85: =ROUND(ROUND(L85,4)*(1-M85),4) -> 0 | P85: =ROUND(ROUND(O85,4)*(1+N85),4) -> 0 | Q85: =ROUND($I85*O85,4) -> 0 | R85: =ROUND($I85*P85,4) -> 0
B86: 7 | C86: Kolk VLOŽEK polietilenski z dodatkom vitamina E; notranji premer: 28, 32 ali 36mm | D86: izdelan iz kompresijsko oblikovanega ultra visoko molekularnega polietilena, ki je steriliziran v inertnem argonu | H86: KOS | I86: 1 | K86: 1 | O86: =ROUND(ROUND(L86,4)*(1-M86),4) -> 0 | P86: =ROUND(ROUND(O86,4)*(1+N86),4) -> 0 | Q86: =ROUND($I86*O86,4) -> 0 | R86: =ROUND($I86*P86,4) -> 0
B87: 8 | C87: Kolk VLOŽEK keramični; notranji premer vlozka: 28, 32 ali 36 ali 40 mm | D87: delta keramika | H87: KOS | I87: 39 | K87: 1 | O87: =ROUND(ROUND(L87,4)*(1-M87),4) -> 0 | P87: =ROUND(ROUND(O87,4)*(1+N87),4) -> 0 | Q87: =ROUND($I87*O87,4) -> 0 | R87: =ROUND($I87*P87,4) -> 0
B88: 9 | C88: Kolk DEBLO, skrajšano, minimalno invazivno; dolžina: vsaj 3.5 cm krajše od klasičnih dolžin | E88: Glej teh. specifikacije | H88: KOS | I88: 36 | K88: 1 | O88: =ROUND(ROUND(L88,4)*(1-M88),4) -> 0 | P88: =ROUND(ROUND(O88,4)*(1+N88),4) -> 0 | Q88: =ROUND($I88*O88,4) -> 0 | R88: =ROUND($I88*P88,4) -> 0
B89: 10 | C89: Kolk DEBLO, cementno; dolžine od vsaj 135 do vsaj 170mm | E89: Glej teh. specifikacije | H89: KOS | I89: 1 | K89: 1 | O89: =ROUND(ROUND(L89,4)*(1-M89),4) -> 0 | P89: =ROUND(ROUND(O89,4)*(1+N89),4) -> 0 | Q89: =ROUND($I89*O89,4) -> 0 | R89: =ROUND($I89*P89,4) -> 0
B90: 11 | C90: Kolk PONVICA brezcementna; velikost: od 44mm-60mm | D90: z možnostjo dodatne fiksacije z vijaki (multi hole) | H90: KOS | I90: 1 | K90: 1 | O90: =ROUND(ROUND(L90,4)*(1-M90),4) -> 0 | P90: =ROUND(ROUND(O90,4)*(1+N90),4) -> 0 | Q90: =ROUND($I90*O90,4) -> 0 | R90: =ROUND($I90*P90,4) -> 0
B91: 12 | C91: Kolk VLOŽEK, tanek, kovinski za dvojno mobilno artikulacijo (double mobility), notranji premer 46 - 58 mm | H91: KOS | I91: 1 | K91: 1 | O91: =ROUND(ROUND(L91,4)*(1-M91),4) -> 0 | P91: =ROUND(ROUND(O91,4)*(1+N91),4) -> 0 | Q91: =ROUND($I91*O91,4) -> 0 | R91: =ROUND($I91*P91,4) -> 0
P92: Skupaj: | Q92: =SUM(Q80:Q91) -> 0 | R92: =SUM(R80:R91) -> 0
A95: * | B95: 7. | C95: podsklop: REVIZIJSKA KOLČNA ENDOPROTEZA | H95: ZAPRT | L95: REVIZIJSKA KOLČNA ENDOPROTEZA
A96: EOB | B96: Zap. št. | C96: Naziv blaga | D96: Lastnost 1 | E96: Lastnost 2 | F96: Lastnost 3 | G96: Lastnost 4 | H96: EM | I96: Količina | J96: Št. vzorcev | K96: Var. | L96: Veljavna cena brez DDV | M96: Popust | N96: Stopnja DDV | O96: Cena brez DDV | P96: Cena z DDV | Q96: Vrednost brez DDV | R96: Vrednost z DDV | S96: Proizvajalec | T96: Ponudnikov naziv blaga | U96: EAN | V96: Kataloška številka | W96: Opomba
B97: 1 | C97: Kolk DEBLO revizijsko, najmanj 8 različnih velikosti | D97: Glej teh.specifikacije | H97: KOS | I97: 12 | K97: 1 | O97: =ROUND(ROUND(L97,4)*(1-M97),4) -> 0 | P97: =ROUND(ROUND(O97,4)*(1+N97),4) -> 0 | Q97: =ROUND($I97*O97,4) -> 0 | R97: =ROUND($I97*P97,4) -> 0
B98: 2 | C98: Kolk PONVICA press-fit | D98: Glej teh.specifikacije | H98: KOS | I98: 60 | K98: 1 | O98: =ROUND(ROUND(L98,4)*(1-M98),4) -> 0 | P98: =ROUND(ROUND(O98,4)*(1+N98),4) -> 0 | Q98: =ROUND($I98*O98,4) -> 0 | R98: =ROUND($I98*P98,4) -> 0
B99: 3 | C99: Kolk VLOŽEK polietilenski | D99: iz Highly Cross-Linked Polyethylena. HCPE naj ima notranji premer 28mm za majhne 32mm in 36mm za velike ponvice. | H99: KOS | I99: 60 | K99: 1 | O99: =ROUND(ROUND(L99,4)*(1-M99),4) -> 0 | P99: =ROUND(ROUND(O99,4)*(1+N99),4) -> 0 | Q99: =ROUND($I99*O99,4) -> 0 | R99: =ROUND($I99*P99,4) -> 0
B100: 4 | C100: Kolk VLOŽEK antiluksacijski | D100: notranji premer 28mm za majhne 32mm in 36mm za velike ponvice. | H100: KOS | I100: 1 | K100: 1 | O100: =ROUND(ROUND(L100,4)*(1-M100),4) -> 0 | P100: =ROUND(ROUND(O100,4)*(1+N100),4) -> 0 | Q100: =ROUND($I100*O100,4) -> 0 | R100: =ROUND($I100*P100,4) -> 0
B101: 5 | C101: Kolk GLAVA kovinska; premera 28 in 32 mm; vsaj tri dolžine | D101: Co-Cr | H101: KOS | I101: 3 | K101: 1 | O101: =ROUND(ROUND(L101,4)*(1-M101),4) -> 0 | P101: =ROUND(ROUND(O101,4)*(1+N101),4) -> 0 | Q101: =ROUND($I101*O101,4) -> 0 | R101: =ROUND($I101*P101,4) -> 0
B102: 6 | C102: Kolk GLAVA keramična; premera 28,32 in 36 mm; vsaj tri dolžine | D102: delta | H102: KOS | I102: 9 | K102: 1 | O102: =ROUND(ROUND(L102,4)*(1-M102),4) -> 0 | P102: =ROUND(ROUND(O102,4)*(1+N102),4) -> 0 | Q102: =ROUND($I102*O102,4) -> 0 | R102: =ROUND($I102*P102,4) -> 0
P103: Skupaj: | Q103: =SUM(Q97:Q102) -> 0 | R103: =SUM(R97:R102) -> 0
A106: * | B106: 8. | C106: podsklop: OBROČ REVIZIJSKI ZA PONVICO | H106: ZAPRT | L106: OBROČ REVIZIJSKI ZA PONVICO
A107: EOB | B107: Zap. št. | C107: Naziv blaga | D107: Lastnost 1 | E107: Lastnost 2 | F107: Lastnost 3 | G107: Lastnost 4 | H107: EM | I107: Količina | J107: Št. vzorcev | K107: Var. | L107: Veljavna cena brez DDV | M107: Popust | N107: Stopnja DDV | O107: Cena brez DDV | P107: Cena z DDV | Q107: Vrednost brez DDV | R107: Vrednost z DDV | S107: Proizvajalec | T107: Ponudnikov naziv blaga | U107: EAN | V107: Kataloška številka | W107: Opomba
B108: 1 | C108: Kolk OBROČ tipa Burch- Schneider, iz titana | D108: Glej teh. specifikacije | H108: KOS | I108: 1 | K108: 1 | O108: =ROUND(ROUND(L108,4)*(1-M108),4) -> 0 | P108: =ROUND(ROUND(O108,4)*(1+N108),4) -> 0 | Q108: =ROUND($I108*O108,4) -> 0 | R108: =ROUND($I108*P108,4) -> 0
B109: 2 | C109: Kolk OBROČ tipa miller, notranji premer obroča od 36 do 64mm (naraščanje po 2 mm) | D109: Glej teh. specifikacije | H109: KOS | I109: 3 | K109: 1 | O109: =ROUND(ROUND(L109,4)*(1-M109),4) -> 0 | P109: =ROUND(ROUND(O109,4)*(1+N109),4) -> 0 | Q109: =ROUND($I109*O109,4) -> 0 | R109: =ROUND($I109*P109,4) -> 0
B110: 3 | C110: Kolk OBROČ tipa Ganz, iz titana | D110: Glej teh. specifikacije | H110: KOS | I110: 1 | K110: 1 | O110: =ROUND(ROUND(L110,4)*(1-M110),4) -> 0 | P110: =ROUND(ROUND(O110,4)*(1+N110),4) -> 0 | Q110: =ROUND($I110*O110,4) -> 0 | R110: =ROUND($I110*P110,4) -> 0
B111: 4 | C111: Kolk PONVICA all-poly, iz standardnega polietilena, z zunanjim diametrom od 46-64mm ter notranjim 28, 32 in 36mm diametra diametra. | H111: KOS | I111: 1 | K111: 1 | O111: =ROUND(ROUND(L111,4)*(1-M111),4) -> 0 | P111: =ROUND(ROUND(O111,4)*(1+N111),4) -> 0 | Q111: =ROUND($I111*O111,4) -> 0 | R111: =ROUND($I111*P111,4) -> 0
B112: 5 | C112: Kolk PONVICA all-poly, cementna, iz "highly crosslinked polietilena" z zunanjim diametrom od 42-64mm ter notranjim 28, 32 in 36mm diametra. | D112: radiopačna nitka | H112: KOS | I112: 1 | K112: 1 | O112: =ROUND(ROUND(L112,4)*(1-M112),4) -> 0 | P112: =ROUND(ROUND(O112,4)*(1+N112),4) -> 0 | Q112: =ROUND($I112*O112,4) -> 0 | R112: =ROUND($I112*P112,4) -> 0
P113: Skupaj: | Q113: =SUM(Q108:Q112) -> 0 | R113: =SUM(R108:R112) -> 0
A116: * | B116: 9. | C116: podsklop: DVOJNO MOBILNA KOLČNA ENDOPROTEZA Z NAVIGACIJO | H116: ZAPRT | L116: DVOJNO MOBILNA KOLČNA ENDOPROTEZA Z NAVIGACIJO
A117: EOB | B117: Zap. št. | C117: Naziv blaga | D117: Lastnost 1 | E117: Lastnost 2 | F117: Lastnost 3 | G117: Lastnost 4 | H117: EM | I117: Količina | J117: Št. vzorcev | K117: Var. | L117: Veljavna cena brez DDV | M117: Popust | N117: Stopnja DDV | O117: Cena brez DDV | P117: Cena z DDV | Q117: Vrednost brez DDV | R117: Vrednost z DDV | S117: Proizvajalec | T117: Ponudnikov naziv blaga | U117: EAN | V117: Kataloška številka | W117: Opomba
B118: 1 | C118: Kolk DEBLO brezcementno, vsaj 7 velikosti | D118: Ravno, »self- locking »; v celoti pokrito s hidroksiapatitom; v standardni izvedbi ( kot med 133 in 137) in v izvedbi z snemljivim vratom | H118: KOS | I118: 18 | K118: 1 | O118: =ROUND(ROUND(L118,4)*(1-M118),4) -> 0 | P118: =ROUND(ROUND(O118,4)*(1+N118),4) -> 0 | Q118: =ROUND($I118*O118,4) -> 0 | R118: =ROUND($I118*P118,4) -> 0
B119: 2 | C119: Kolk DEBLO anatomsko | D119: Leva- desna,« self-locking«; v celoti pokrito s hidroksiapatitom; v standardni in lateralizirani izvedbi ( kot med 133 in 137), in v izvedbi z snemljivim vratom | H119: KOS | I119: 6 | K119: 1 | O119: =ROUND(ROUND(L119,4)*(1-M119),4) -> 0 | P119: =ROUND(ROUND(O119,4)*(1+N119),4) -> 0 | Q119: =ROUND($I119*O119,4) -> 0 | R119: =ROUND($I119*P119,4) -> 0
B120: 3 | C120: Kolk GLAVA keramična, premera 28, 32 in 36 mm | D120: delta keramika; vsaj 3 velikosti (s,m,l) | H120: KOS | I120: 9 | K120: 1 | O120: =ROUND(ROUND(L120,4)*(1-M120),4) -> 0 | P120: =ROUND(ROUND(O120,4)*(1+N120),4) -> 0 | Q120: =ROUND($I120*O120,4) -> 0 | R120: =ROUND($I120*P120,4) -> 0
B121: 4 | C121: Kolk GLAVA kovinska, premera 22, 28 in 32 mm | D121: vsaj 3 velikosti (s, m, l) | H121: KOS | I121: 15 | K121: 1 | O121: =ROUND(ROUND(L121,4)*(1-M121),4) -> 0 | P121: =ROUND(ROUND(O121,4)*(1+N121),4) -> 0 | Q121: =ROUND($I121*O121,4) -> 0 | R121: =ROUND($I121*P121,4) -> 0
B122: 5 | C122: Kolk PONVICA brezcementna, vsaj 10 velikosti v razmiku po 2mm | D122: iz železove zlitine, visoko polirana notranjost, dvojni coating- titanium spray in hidroksiapatit | H122: KOS | I122: 24 | K122: 1 | O122: =ROUND(ROUND(L122,4)*(1-M122),4) -> 0 | P122: =ROUND(ROUND(O122,4)*(1+N122),4) -> 0 | Q122: =ROUND($I122*O122,4) -> 0 | R122: =ROUND($I122*P122,4) -> 0
...

Sheet Sklop II.
C4: Seznam razpisanega blaga za sklop:
B5: II. | C5: KOLENSKE ENDOPROTEZE
C7: =IF('2. Podatki o ponudniku'!C5<>"","Naziv ponudnika: " & '2. Podatki o ponudniku'!C5,"")
C8: =IF('2. Podatki o ponudniku'!C7<>"","Identifikacijska številka za DDV: " & '2. Podatki o ponudniku'!C7,"")
A11: * | B11: 1. | C11: podsklop: KOLENSKA ENDOPROTEZA, modularna, anatomska, totalna (cementna, brezcementna) in revizijska | H11: ZAPRT | L11: KOLENSKA ENDOPROTEZA, modularna, anatomska, totalna (cementna, brezcementna) in revizijska
A12: EOB | B12: Zap. št. | C12: Naziv blaga | D12: Lastnost 1 | E12: Lastnost 2 | F12: Lastnost 3 | G12: Lastnost 4 | H12: EM | I12: Količina | J12: Št. vzorcev | K12: Var. | L12: Veljavna cena brez DDV | M12: Popust | N12: Stopnja DDV | O12: Cena brez DDV | P12: Cena z DDV | Q12: Vrednost brez DDV | R12: Vrednost z DDV | S12: Proizvajalec | T12: Ponudnikov naziv blaga | U12: EAN | V12: Kataloška številka | W12: Opomba
B13: 1 | C13: Koleno FEMUR del za OHR, cementna izvedba, vsaj 10 velikosti | D13: Glej teh. specifikacije | H13: KOS | I13: 84 | K13: 1 | O13: =ROUND(ROUND(L13,4)*(1-M13),4) -> 0 | P13: =ROUND(ROUND(O13,4)*(1+N13),4) -> 0 | Q13: =ROUND($I13*O13,4) -> 0 | R13: =ROUND($I13*P13,4) -> 0
B14: 2 | C14: Koleno FEMUR del za OHR, brezcementna izvedba, vsaj 10 velikosti | D14: Glej teh. specifikacije | H14: KOS | I14: 78 | K14: 1 | O14: =ROUND(ROUND(L14,4)*(1-M14),4) -> 0 | P14: =ROUND(ROUND(O14,4)*(1+N14),4) -> 0 | Q14: =ROUND($I14*O14,4) -> 0 | R14: =ROUND($I14*P14,4) -> 0
B15: 3 | C15: Koleno FEMUR del za žrtvovanje zadnje križne vezi za cementno izvedbo, vsaj 10 velikosti | D15: Glej teh. specifikacije | H15: KOS | I15: 201 | K15: 1 | O15: =ROUND(ROUND(L15,4)*(1-M15),4) -> 0 | P15: =ROUND(ROUND(O15,4)*(1+N15),4) -> 0 | Q15: =ROUND($I15*O15,4) -> 0 | R15: =ROUND($I15*P15,4) -> 0
B16: 4 | C16: Koleno FEMUR del za žrtvovanje zadnje križne vezi za brezcementno izvedbo, vsaj 10 velikosti | D16: Glej teh. specifikacije | H16: KOS | I16: 114 | K16: 1 | O16: =ROUND(ROUND(L16,4)*(1-M16),4) -> 0 | P16: =ROUND(ROUND(O16,4)*(1+N16),4) -> 0 | Q16: =ROUND($I16*O16,4) -> 0 | R16: =ROUND($I16*P16,4) -> 0
B17: 5 | C17: Koleno TIBIA del za fiksno tibialno površino, cementni, vsaj 7 velikosti | D17: Glej teh. specifikacije | H17: KOS | I17: 459 | K17: 1 | O17: =ROUND(ROUND(L17,4)*(1-M17),4) -> 0 | P17: =ROUND(ROUND(O17,4)*(1+N17),4) -> 0 | Q17: =ROUND($I17*O17,4) -> 0 | R17: =ROUND($I17*P17,4) -> 0
B18: 6 | C18: Koleno TIBIA del za fiksno tibialno površino, brezcementni, vsaj 9 velikosti | D18: Glej teh. specifikacije | H18: KOS | I18: 1 | K18: 1 | O18: =ROUND(ROUND(L18,4)*(1-M18),4) -> 0 | P18: =ROUND(ROUND(O18,4)*(1+N18),4) -> 0 | Q18: =ROUND($I18*O18,4) -> 0 | R18: =ROUND($I18*P18,4) -> 0
B19: 7 | C19: Koleno TIBIALNI del za ohranitev sprednje križne vezi | D19: Glej teh. specifikacije | H19: KOS | I19: 1 | K19: 1 | O19: =ROUND(ROUND(L19,4)*(1-M19),4) -> 0 | P19: =ROUND(ROUND(O19,4)*(1+N19),4) -> 0 | Q19: =ROUND($I19*O19,4) -> 0 | R19: =ROUND($I19*P19,4) -> 0
B20: 8 | C20: Koleno VLOŽEK TIBIA za ohranjanje zadnje križne vezi pri fiksni tibialni komponenti; debeline: min. od 10mm - 22mm; vsaj dve različni obliki | D20: Glej teh. specifikacije | H20: KOS | I20: 129 | K20: 1 | O20: =ROUND(ROUND(L20,4)*(1-M20),4) -> 0 | P20: =ROUND(ROUND(O20,4)*(1+N20),4) -> 0 | Q20: =ROUND($I20*O20,4) -> 0 | R20: =ROUND($I20*P20,4) -> 0
B21: 9 | C21: Koleno VLOŽEK TIBIA za ohranjanje zadnje križne vezi pri fiksni tibialni komponenti, z dodatkom α-tocopherola; debeline: min. od 10mm - 22mm; vsaj dve različni obliki | D21: Glej teh. specifikacije | H21: KOS | I21: 18 | K21: 1 | O21: =ROUND(ROUND(L21,4)*(1-M21),4) -> 0 | P21: =ROUND(ROUND(O21,4)*(1+N21),4) -> 0 | Q21: =ROUND($I21*O21,4) -> 0 | R21: =ROUND($I21*P21,4) -> 0
B22: 10 | C22: Koleno VLOŽEK TIBIA za žrtvovanje zadnje križne vezi pri fiksni tibialni komponenti; debeline: min. od 10mm - 22mm; vsaj dve različni obliki | D22: Glej teh. specifikacije | H22: KOS | I22: 294 | K22: 1 | O22: =ROUND(ROUND(L22,4)*(1-M22),4) -> 0 | P22: =ROUND(ROUND(O22,4)*(1+N22),4) -> 0 | Q22: =ROUND($I22*O22,4) -> 0 | R22: =ROUND($I22*P22,4) -> 0
B23: 11 | C23: Koleno VLOŽEK TIBIA za žrtvovanje zadnje križne vezi pri fiksni tibialni komponenti, z dodatkom α-tocopherola; debeline: min. od 10mm - 22mm; vsaj dve različni obliki | D23: Glej teh. specifikacije | H23: KOS | I23: 39 | K23: 1 | O23: =ROUND(ROUND(L23,4)*(1-M23),4) -> 0 | P23: =ROUND(ROUND(O23,4)*(1+N23),4) -> 0 | Q23: =ROUND($I23*O23,4) -> 0 | R23: =ROUND($I23*P23,4) -> 0
B24: 12 | C24: Koleno VLOŽEK TIBIA za varianto za ohranitev sprednje križne vezi; levi in desni | H24: KOS | I24: 1 | K24: 1 | O24: =ROUND(ROUND(L24,4)*(1-M24),4) -> 0 | P24: =ROUND(ROUND(O24,4)*(1+N24),4) -> 0 | Q24: =ROUND($I24*O24,4) -> 0 | R24: =ROUND($I24*P24,4) -> 0
B25: 13 | C25: Koleno ODLITEK tibialni | D25: Glej teh. specifikacije | H25: KOS | I25: 125 | K25: 1 | O25: =ROUND(ROUND(L25,4)*(1-M25),4) -> 0 | P25: =ROUND(ROUND(O25,4)*(1+N25),4) -> 0 | Q25: =ROUND($I25*O25,4) -> 0 | R25: =ROUND($I25*P25,4) -> 0
B26: 14 | C26: Koleno ODLITEK femoralni | D26: Glej teh. specifikacije | H26: KOS | I26: 1 | K26: 1 | O26: =ROUND(ROUND(L26,4)*(1-M26),4) -> 0 | P26: =ROUND(ROUND(O26,4)*(1+N26),4) -> 0 | Q26: =ROUND($I26*O26,4) -> 0 | R26: =ROUND($I26*P26,4) -> 0
B27: 15 | C27: Koleno PATELLA gumb, polietilenski, min 4 velikosti | H27: KOS | I27: 3 | K27: 1 | O27: =ROUND(ROUND(L27,4)*(1-M27),4) -> 0 | P27: =ROUND(ROUND(O27,4)*(1+N27),4) -> 0 | Q27: =ROUND($I27*O27,4) -> 0 | R27: =ROUND($I27*P27,4) -> 0
B28: 16 | C28: Koleno REVIZ FEMUR del za cementno izvedbo; min. 10 velikosti | D28: Glej teh. specifikacije | H28: KOS | I28: 15 | K28: 1 | O28: =ROUND(ROUND(L28,4)*(1-M28),4) -> 0 | P28: =ROUND(ROUND(O28,4)*(1+N28),4) -> 0 | Q28: =ROUND($I28*O28,4) -> 0 | R28: =ROUND($I28*P28,4) -> 0
B29: 17 | C29: Koleno VLOŽEK TIBIA revizijski, za žrtvovanje zadnje križne vezi pri fiksni tibialni komponenti, debeline min od 10 mm - 24 mm; vsaj 2 obliki | D29: Glej teh. specifikacije | H29: KOS | I29: 22 | K29: 1 | O29: =ROUND(ROUND(L29,4)*(1-M29),4) -> 0 | P29: =ROUND(ROUND(O29,4)*(1+N29),4) -> 0 | Q29: =ROUND($I29*O29,4) -> 0 | R29: =ROUND($I29*P29,4) -> 0
B30: 18 | C30: Koleno REVIZ del TIBIA za fiksno tibialno površino, cementni; min. 9 velikosti | D30: Glej teh. specifikacije | H30: KOS | I30: 36 | K30: 1 | O30: =ROUND(ROUND(L30,4)*(1-M30),4) -> 0 | P30: =ROUND(ROUND(O30,4)*(1+N30),4) -> 0 | Q30: =ROUND($I30*O30,4) -> 0 | R30: =ROUND($I30*P30,4) -> 0
B31: 19 | C31: Koleno DEBLO REVIZ tibialno in femoralno, min 6 velikosti | D31: omogočati mora vsaj od 10 mm do 20 mm debeline in od 12 cm do 24 cm dolžine v gladki, porozni in "spike" obliki | H31: KOS | I31: 56 | K31: 1 | O31: =ROUND(ROUND(L31,4)*(1-M31),4) -> 0 | P31: =ROUND(ROUND(O31,4)*(1+N31),4) -> 0 | Q31: =ROUND($I31*O31,4) -> 0 | R31: =ROUND($I31*P31,4) -> 0
B32: 20 | C32: Koleno PODLOŽKI TIBIA za dodatno fiksacijo tibije; min. 3 velikosti | H32: KOS | I32: 21 | K32: 1 | O32: =ROUND(ROUND(L32,4)*(1-M32),4) -> 0 | P32: =ROUND(ROUND(O32,4)*(1+N32),4) -> 0 | Q32: =ROUND($I32*O32,4) -> 0 | R32: =ROUND($I32*P32,4) -> 0
B33: 21 | C33: Koleno PODLOŽKI FEMUR za dodatno fiksacijo femoralnega dela, cementni; min. 3 velikosti | D33: Distalni in posteriorni podlozki za femoralni del | H33: KOS | I33: 1 | K33: 1 | O33: =ROUND(ROUND(L33,4)*(1-M33),4) -> 0 | P33: =ROUND(ROUND(O33,4)*(1+N33),4) -> 0 | Q33: =ROUND($I33*O33,4) -> 0 | R33: =ROUND($I33*P33,4) -> 0
B34: 22 | C34: ADAPTER OFFSET; min. 3 velikosti | D34: OFFSET Adapter za enostavno dolocanje offseta pri tibialnem in femoralnem stemu | H34: KOS | I34: 42 | K34: 1 | O34: =ROUND(ROUND(L34,4)*(1-M34),4) -> 0 | P34: =ROUND(ROUND(O34,4)*(1+N34),4) -> 0 | Q34: =ROUND($I34*O34,4) -> 0 | R34: =ROUND($I34*P34,4) -> 0
B35: 23 | C35: Koleno KRILA TIBIA za dodatno fiksacijo; vsaj 2 velikosti | H35: KOS | I35: 36 | K35: 1 | O35: =ROUND(ROUND(L35,4)*(1-M35),4) -> 0 | P35: =ROUND(ROUND(O35,4)*(1+N35),4) -> 0 | Q35: =ROUND($I35*O35,4) -> 0 | R35: =ROUND($I35*P35,4) -> 0
P36: Skupaj: | Q36: =SUM(Q13:Q35) -> 0 | R36: =SUM(R13:R35) -> 0
A39: * | B39: 2. | C39: podsklop: KOLENSKA UNIKONDILARNA ENDOPROTEZA -mobile bearing | H39: ZAPRT | L39: KOLENSKA UNIKONDILARNA ENDOPROTEZA -mobile bearing
A40: EOB | B40: Zap. št. | C40: Naziv blaga | D40: Lastnost 1 | E40: Lastnost 2 | F40: Lastnost 3 | G40: Lastnost 4 | H40: EM | I40: Količina | J40: Št. vzorcev | K40: Var. | L40: Veljavna cena brez DDV | M40: Popust | N40: Stopnja DDV | O40: Cena brez DDV | P40: Cena z DDV | Q40: Vrednost brez DDV | R40: Vrednost z DDV | S40: Proizvajalec | T40: Ponudnikov naziv blaga | U40: EAN | V40: Kataloška številka | W40: Opomba
B41: 1 | C41: Koleno UNIKOND FEMUR del, cementni; min. 4 velikosti | E41: Glej teh. specifikacije | H41: KOS | I41: 96 | K41: 1 | O41: =ROUND(ROUND(L41,4)*(1-M41),4) -> 0 | P41: =ROUND(ROUND(O41,4)*(1+N41),4) -> 0 | Q41: =ROUND($I41*O41,4) -> 0 | R41: =ROUND($I41*P41,4) -> 0
B42: 2 | C42: Koleno UNIKOND FEMUR del, brezcementni; vsaj 4 velikosti | H42: KOS | I42: 135 | K42: 1 | O42: =ROUND(ROUND(L42,4)*(1-M42),4) -> 0 | P42: =ROUND(ROUND(O42,4)*(1+N42),4) -> 0 | Q42: =ROUND($I42*O42,4) -> 0 | R42: =ROUND($I42*P42,4) -> 0
B43: 3 | C43: Koleno UNIKOND TIBIA del, cementni; vsaj 4 velikosti | E43: Glej teh. specifikacije | H43: KOS | I43: 36 | K43: 1 | O43: =ROUND(ROUND(L43,4)*(1-M43),4) -> 0 | P43: =ROUND(ROUND(O43,4)*(1+N43),4) -> 0 | Q43: =ROUND($I43*O43,4) -> 0 | R43: =ROUND($I43*P43,4) -> 0
B44: 4 | C44: Koleno UNIKOND TIBIA del, brezcement; leva in desna izvedba; min. 6 velikosti za vsako izvedbo | D44: Pokrit mora biti s hidroksiapatitom. | H44: KOS | I44: 171 | K44: 1 | O44: =ROUND(ROUND(L44,4)*(1-M44),4) -> 0 | P44: =ROUND(ROUND(O44,4)*(1+N44),4) -> 0 | Q44: =ROUND($I44*O44,4) -> 0 | R44: =ROUND($I44*P44,4) -> 0
B45: 5 | C45: Koleno VLOŽEK MENISKUS; leva in desna izvedba | D45: Min. v 4 velikostih, vsaka velikost vložka naj ima vsaj 7 debelin. Najmanjša debelina naj bo največ 3mm. | E45: Glej teh. specifikacije | H45: KOS | I45: 240 | K45: 1 | O45: =ROUND(ROUND(L45,4)*(1-M45),4) -> 0 | P45: =ROUND(ROUND(O45,4)*(1+N45),4) -> 0 | Q45: =ROUND($I45*O45,4) -> 0 | R45: =ROUND($I45*P45,4) -> 0
P46: Skupaj: | Q46: =SUM(Q41:Q45) -> 0 | R46: =SUM(R41:R45) -> 0
A49: * | B49: 3. | C49: podsklop: TOTALNA KOLENSKA ENDOPROTEZA (cementna) | H49: ZAPRT | L49: TOTALNA KOLENSKA ENDOPROTEZA (cementna)
A50: EOB | B50: Zap. št. | C50: Naziv blaga | D50: Lastnost 1 | E50: Lastnost 2 | F50: Lastnost 3 | G50: Lastnost 4 | H50: EM | I50: Količina | J50: Št. vzorcev | K50: Var. | L50: Veljavna cena brez DDV | M50: Popust | N50: Stopnja DDV | O50: Cena brez DDV | P50: Cena z DDV | Q50: Vrednost brez DDV | R50: Vrednost z DDV | S50: Proizvajalec | T50: Ponudnikov naziv blaga | U50: EAN | V50: Kataloška številka | W50: Opomba
B51: 1 | C51: Koleno FEMUR del, cement; vsaj 6 velikosti | D51: Glej teh. specifikacije | H51: KOS | I51: 1 | K51: 1 | O51: =ROUND(ROUND(L51,4)*(1-M51),4) -> 0 | P51: =ROUND(ROUND(O51,4)*(1+N51),4) -> 0 | Q51: =ROUND($I51*O51,4) -> 0 | R51: =ROUND($I51*P51,4) -> 0
B52: 2 | C52: Koleno TIBIA del, cement; vsaj 6 velikosti | D52: Glej teh. specifikacije | H52: KOS | I52: 69 | K52: 1 | O52: =ROUND(ROUND(L52,4)*(1-M52),4) -> 0 | P52: =ROUND(ROUND(O52,4)*(1+N52),4) -> 0 | Q52: =ROUND($I52*O52,4) -> 0 | R52: =ROUND($I52*P52,4) -> 0
B53: 3 | C53: Koleno VLOŽEK TIBIA PE, debeline od 10 mm - 18 mm, vsaj 5 velikosti | D53: Glej teh. specifikacije | H53: KOS | I53: 69 | K53: 1 | O53: =ROUND(ROUND(L53,4)*(1-M53),4) -> 0 | P53: =ROUND(ROUND(O53,4)*(1+N53),4) -> 0 | Q53: =ROUND($I53*O53,4) -> 0 | R53: =ROUND($I53*P53,4) -> 0
B54: 4 | C54: Koleno POGAČICA -Patelarni gumb iz PE | D54: Glej teh. specifikacije | H54: KOS | I54: 3 | K54: 1 | O54: =ROUND(ROUND(L54,4)*(1-M54),4) -> 0 | P54: =ROUND(ROUND(O54,4)*(1+N54),4) -> 0 | Q54: =ROUND($I54*O54,4) -> 0 | R54: =ROUND($I54*P54,4) -> 0
P55: Skupaj: | Q55: =SUM(Q51:Q54) -> 0 | R55: =SUM(R51:R54) -> 0
A58: * | B58: 4. | C58: podsklop: UNIKONDILARNA KOLENSKA ENDOPROTEZA (FIXED BEARING) | H58: ZAPRT | L58: UNIKONDILARNA KOLENSKA ENDOPROTEZA (FIXED BEARING)
A59: EOB | B59: Zap. št. | C59: Naziv blaga | D59: Lastnost 1 | E59: Lastnost 2 | F59: Lastnost 3 | G59: Lastnost 4 | H59: EM | I59: Količina | J59: Št. vzorcev | K59: Var. | L59: Veljavna cena brez DDV | M59: Popust | N59: Stopnja DDV | O59: Cena brez DDV | P59: Cena z DDV | Q59: Vrednost brez DDV | R59: Vrednost z DDV | S59: Proizvajalec | T59: Ponudnikov naziv blaga | U59: EAN | V59: Kataloška številka | W59: Opomba
B60: 1 | C60: Koleno CoCr UNIKOND FEMUR del - fixed, cement, vsaj 5 velikosti | D60: CoCr; cementna izvedba; anatomska (leva/desna), vsaj 2 nožici za fiksacijo; - robovi naj bodo mehko zaobljeni, da ne prihaja do prevelikih robnih obremenitev v primeru neidealne varus/valgus pozicije komponente | H60: KOS | I60: 114 | K60: 1 | O60: =ROUND(ROUND(L60,4)*(1-M60),4) -> 0 | P60: =ROUND(ROUND(O60,4)*(1+N60),4) -> 0 | Q60: =ROUND($I60*O60,4) -> 0 | R60: =ROUND($I60*P60,4) -> 0
B61: 2 | C61: Koleno Ti UNIKOND TIBIA del - fixed, cement, vsaj 5 velikosti | D61: iz titanijeve zlitine, cementna izvedba; ob robu naj bo obroba v katero se vpne vložek, vložek naj se vpne na način brez uporabe sponk ali vijakov | H61: KOS | I61: 114 | K61: 1 | O61: =ROUND(ROUND(L61,4)*(1-M61),4) -> 0 | P61: =ROUND(ROUND(O61,4)*(1+N61),4) -> 0 | Q61: =ROUND($I61*O61,4) -> 0 | R61: =ROUND($I61*P61,4) -> 0
B62: 3 | C62: Koleno VLOŽEK PE, vsaj 5 debelin v preskoku po 1 mm | H62: KOS | I62: 114 | K62: 1 | O62: =ROUND(ROUND(L62,4)*(1-M62),4) -> 0 | P62: =ROUND(ROUND(O62,4)*(1+N62),4) -> 0 | Q62: =ROUND($I62*O62,4) -> 0 | R62: =ROUND($I62*P62,4) -> 0
P63: Skupaj: | Q63: =SUM(Q60:Q62) -> 0 | R63: =SUM(R60:R62) -> 0
A66: * | B66: 5. | C66: podsklop: TOTALNA BREZCEMENTNA ROTACIJSKA KOLENSKA ENDOPROTEZA Z NAVIGACIJO | H66: ZAPRT | L66: TOTALNA BREZCEMENTNA ROTACIJSKA KOLENSKA ENDOPROTEZA Z NAVIGACIJO
A67: EOB | B67: Zap. št. | C67: Naziv blaga | D67: Lastnost 1 | E67: Lastnost 2 | F67: Lastnost 3 | G67: Lastnost 4 | H67: EM | I67: Količina | J67: Št. vzorcev | K67: Var. | L67: Veljavna cena brez DDV | M67: Popust | N67: Stopnja DDV | O67: Cena brez DDV | P67: Cena z DDV | Q67: Vrednost brez DDV | R67: Vrednost z DDV | S67: Proizvajalec | T67: Ponudnikov naziv blaga | U67: EAN | V67: Kataloška številka | W67: Opomba
B68: 1 | C68: Koleno ROTAC FEMUR CoCr del, brezcementni, leva in desna varianta, vsaj 7 velikosti | D68: Co Cr; dvojni coating- tako titanium spray, kot hidroksiapatit; preplastitveni design, ki omogoča minimalno resekcijo kosti, distalna debelina implantata manj od 9mm | E68: Glej teh. specifikacije | H68: KOS | I68: 135 | K68: 1 | O68: =ROUND(ROUND(L68,4)*(1-M68),4) -> 0 | P68: =ROUND(ROUND(O68,4)*(1+N68),4) -> 0 | Q68: =ROUND($I68*O68,4) -> 0 | R68: =ROUND($I68*P68,4) -> 0
B69: 2 | C69: Koleno ROTAC FEMUR CoCr del - desno, cementni, leva in desna varianta, vsaj 7 velikosti | D69: Co Cr | E69: Glej teh. specifikacije | H69: KOS | I69: 33 | K69: 1 | O69: =ROUND(ROUND(L69,4)*(1-M69),4) -> 0 | P69: =ROUND(ROUND(O69,4)*(1+N69),4) -> 0 | Q69: =ROUND($I69*O69,4) -> 0 | R69: =ROUND($I69*P69,4) -> 0
B70: 3 | C70: Koleno ROTAC TIBIA CoCr del, brezcementni, vsaj 7 velikosti | D70: Co Cr; dvojni coating- tako titanium spray, kot hidroksiapatit; notranja stran visoko polirana | E70: Glej teh. specifikacije | H70: KOS | I70: 138 | K70: 1 | O70: =ROUND(ROUND(L70,4)*(1-M70),4) -> 0 | P70: =ROUND(ROUND(O70,4)*(1+N70),4) -> 0 | Q70: =ROUND($I70*O70,4) -> 0 | R70: =ROUND($I70*P70,4) -> 0
B71: 4 | C71: Koleno ROTAC TIBIA CoCr del, cementni, vsaj 7 velikosti | D71: Co Cr; visoko polirana notranja stran | E71: Glej teh. specifikacije | H71: KOS | I71: 36 | K71: 1 | O71: =ROUND(ROUND(L71,4)*(1-M71),4) -> 0 | P71: =ROUND(ROUND(O71,4)*(1+N71),4) -> 0 | Q71: =ROUND($I71*O71,4) -> 0 | R71: =ROUND($I71*P71,4) -> 0
B72: 5 | C72: Koleno VLOŽEK ROTAC iz polietilena | D72: Iz polietilena; femoralna stran vložka naj bo zelo kongruentna z femoralno komponento; s podaljškom, ki se ga vstavi v tibialno komponento na način, da je vložek prosto vrtljiv | E72: Glej teh. specifikacije | H72: KOS | I72: 168 | K72: 1 | O72: =ROUND(ROUND(L72,4)*(1-M72),4) -> 0 | P72: =ROUND(ROUND(O72,4)*(1+N72),4) -> 0 | Q72: =ROUND($I72*O72,4) -> 0 | R72: =ROUND($I72*P72,4) -> 0
B73: 6 | C73: Koleno FEMUR del FIX, brezcem, leva in desna varianta, vsaj 7 velikosti | D73: Co Cr; dvojni coating- tako titanium spray, kot hidroksiapatit | E73: Glej teh. specifikacije | H73: KOS | I73: 21 | K73: 1 | O73: =ROUND(ROUND(L73,4)*(1-M73),4) -> 0 | P73: =ROUND(ROUND(O73,4)*(1+N73),4) -> 0 | Q73: =ROUND($I73*O73,4) -> 0 | R73: =ROUND($I73*P73,4) -> 0
B74: 7 | C74: Koleno CoCr FEMUR del FIX , cementni, leva in desna varianta, vsaj 7 velikosti | D74: Co Cr | E74: Glej teh. specifikacije | H74: KOS | I74: 21 | K74: 1 | O74: =ROUND(ROUND(L74,4)*(1-M74),4) -> 0 | P74: =ROUND(ROUND(O74,4)*(1+N74),4) -> 0 | Q74: =ROUND($I74*O74,4) -> 0 | R74: =ROUND($I74*P74,4) -> 0
B75: 8 | C75: Koleno CoCr TIBIA del FIX, brezcementni, vsaj 7 velikosti | D75: Co Cr; dvojni coating- tako titanium spray, kot hidroksiapatit | E75: Glej teh. specifikacije | H75: KOS | I75: 18 | K75: 1 | O75: =ROUND(ROUND(L75,4)*(1-M75),4) -> 0 | P75: =ROUND(ROUND(O75,4)*(1+N75),4) -> 0 | Q75: =ROUND($I75*O75,4) -> 0 | R75: =ROUND($I75*P75,4) -> 0
B76: 9 | C76: Koleno CoCr TIBIA del FIX, cementni, leva in desna varianta, vsaj 7 velikosti | D76: Co Cr | E76: Glej teh. specifikacije | H76: KOS | I76: 24 | K76: 1 | O76: =ROUND(ROUND(L76,4)*(1-M76),4) -> 0 | P76: =ROUND(ROUND(O76,4)*(1+N76),4) -> 0 | Q76: =ROUND($I76*O76,4) -> 0 | R76: =ROUND($I76*P76,4) -> 0
B77: 10 | C77: Koleno VLOŽEK PE FIX, vsaj 5 debelin, vsaj 7 velikosti | D77: iz polietilena; fiksacija brez dodatnih sponk ali vijakov | E77: Glej teh. specifikacije | H77: KOS | I77: 45 | K77: 1 | O77: =ROUND(ROUND(L77,4)*(1-M77),4) -> 0 | P77: =ROUND(ROUND(O77,4)*(1+N77),4) -> 0 | Q77: =ROUND($I77*O77,4) -> 0 | R77: =ROUND($I77*P77,4) -> 0
B78: 11 | C78: Koleno PATELA cementna (Gumb patelarni), polietilenski, vsaj 3 velikosti | E78: Glej teh. specifikacije | H78: KOS | I78: 9 | K78: 1 | O78: =ROUND(ROUND(L78,4)*(1-M78),4) -> 0 | P78: =ROUND(ROUND(O78,4)*(1+N78),4) -> 0 | Q78: =ROUND($I78*O78,4) -> 0 | R78: =ROUND($I78*P78,4) -> 0
B79: 12 | C79: Rezilo za žago | D79: kompatibilno z kolenskim sistemom, kompatibilno za žage sistema AO/Sinth. | E79: Glej teh. specifikacije | H79: KOS | I79: 204 | K79: 1 | O79: =ROUND(ROUND(L79,4)*(1-M79),4) -> 0 | P79: =ROUND(ROUND(O79,4)*(1+N79),4) -> 0 | Q79: =ROUND($I79*O79,4) -> 0 | R79: =ROUND($I79*P79,4) -> 0
B80: 13 | C80: INSTRUMENTALNI PODALJŠKI (stemi), vsaj 2 dolžini po 5 različnih debelin za femoralno in tibialno komponento | H80: KOS | I80: 1 | K80: 1 | O80: =ROUND(ROUND(L80,4)*(1-M80),4) -> 0 | P80: =ROUND(ROUND(O80,4)*(1+N80),4) -> 0 | Q80: =ROUND($I80*O80,4) -> 0 | R80: =ROUND($I80*P80,4) -> 0
B81: 14 | C81: Koleno OFFSET tibialni in femoralni | D81: mora omogočati pozicioniranje intramedularnega podaljška v različnih kotih | H81: KOS | I81: 1 | K81: 1 | O81: =ROUND(ROUND(L81,4)*(1-M81),4) -> 0 | P81: =ROUND(ROUND(O81,4)*(1+N81),4) -> 0 | Q81: =ROUND($I81*O81,4) -> 0 | R81: =ROUND($I81*P81,4) -> 0
B82: 15 | C82: Koleno AUGMENTI za tibialno in femoralno komponento | D82: vsaj 2 različnih debelin | H82: KOS | I82: 1 | K82: 1 | O82: =ROUND(ROUND(L82,4)*(1-M82),4) -> 0 | P82: =ROUND(ROUND(O82,4)*(1+N82),4) -> 0 | Q82: =ROUND($I82*O82,4) -> 0 | R82: =ROUND($I82*P82,4) -> 0
B83: 16 | C83: Koleno FEMUR del FIX, revizijska, cementna, leva in desna varianta, vsaj 4 velikosti | D83: Co Cr | E83: mora omogočati uporabo constrained PE vložka | H83: KOS | I83: 1 | K83: 1 | O83: =ROUND(ROUND(L83,4)*(1-M83),4) -> 0 | P83: =ROUND(ROUND(O83,4)*(1+N83),4) -> 0 | Q83: =ROUND($I83*O83,4) -> 0 | R83: =ROUND($I83*P83,4) -> 0
B84: 17 | C84: Koleno VLOŽEK constrained PE, vsaj 5 velikosti | H84: KOS | I84: 1 | K84: 1 | O84: =ROUND(ROUND(L84,4)*(1-M84),4) -> 0 | P84: =ROUND(ROUND(O84,4)*(1+N84),4) -> 0 | Q84: =ROUND($I84*O84,4) -> 0 | R84: =ROUND($I84*P84,4) -> 0
P85: Skupaj: | Q85: =SUM(Q68:Q84) -> 0 | R85: =SUM(R68:R84) -> 0
A88: * | B88: 6. | C88: podsklop: UNIKONDILARNA KOLENSKA ENDOPROTEZA Z NAVIGACIJO (cementna, brezcementna) | H88: ZAPRT | L88: UNIKONDILARNA KOLENSKA ENDOPROTEZA Z NAVIGACIJO (cementna, brezcementna)
A89: EOB | B89: Zap. št. | C89: Naziv blaga | D89: Lastnost 1 | E89: Lastnost 2 | F89: Lastnost 3 | G89: Lastnost 4 | H89: EM | I89: Količina | J89: Št. vzorcev | K89: Var. | L89: Veljavna cena brez DDV | M89: Popust | N89: Stopnja DDV | O89: Cena brez DDV | P89: Cena z DDV | Q89: Vrednost brez DDV | R89: Vrednost z DDV | S89: Proizvajalec | T89: Ponudnikov naziv blaga | U89: EAN | V89: Kataloška številka | W89: Opomba
B90: 1 | C90: Koleno UNIKOND FEMUR del CoCr, cementni; min. 7 velikosti | D90: 2 "pega" za fiksacijo | H90: KOS | I90: 1 | K90: 1 | O90: =ROUND(ROUND(L90,4)*(1-M90),4) -> 0 | P90: =ROUND(ROUND(O90,4)*(1+N90),4) -> 0 | Q90: =ROUND($I90*O90,4) -> 0 | R90: =ROUND($I90*P90,4) -> 0
B91: 2 | C91: Koleno UNIKOND FEMUR del CoCr, brezcementno; vsaj 7 velikosti | D91: z coatingom iz plazma spray titanium in hidroksiapatitnim coatingom | H91: KOS | I91: 1 | K91: 1 | O91: =ROUND(ROUND(L91,4)*(1-M91),4) -> 0 | P91: =ROUND(ROUND(O91,4)*(1+N91),4) -> 0 | Q91: =ROUND($I91*O91,4) -> 0 | R91: =ROUND($I91*P91,4) -> 0
B92: 3 | C92: Koleno UNIKOND TIBIA del CoCr, cementno; vsaj 7 velikosti, mobile bearing | H92: KOS | I92: 1 | K92: 1 | O92: =ROUND(ROUND(L92,4)*(1-M92),4) -> 0 | P92: =ROUND(ROUND(O92,4)*(1+N92),4) -> 0 | Q92: =ROUND($I92*O92,4) -> 0 | R92: =ROUND($I92*P92,4) -> 0
B93: 4 | C93: Koleno UNIKOND TIBIA del CoCr, cementno; vsaj 7 velikosti, fixed bearing | H93: KOS | I93: 1 | K93: 1 | O93: =ROUND(ROUND(L93,4)*(1-M93),4) -> 0 | P93: =ROUND(ROUND(O93,4)*(1+N93),4) -> 0 | Q93: =ROUND($I93*O93,4) -> 0 | R93: =ROUND($I93*P93,4) -> 0
B94: 5 | C94: Koleno UNIKOND TIBIA del, brezcementni; mobile bearing, vsaj 7 velikosti | D94: z coatingom iz plazma spray titanium in hidroksiapatitnim coatingom | H94: KOS | I94: 1 | K94: 1 | O94: =ROUND(ROUND(L94,4)*(1-M94),4) -> 0 | P94: =ROUND(ROUND(O94,4)*(1+N94),4) -> 0 | Q94: =ROUND($I94*O94,4) -> 0 | R94: =ROUND($I94*P94,4) -> 0
B95: 6 | C95: Koleno UNIKOND TIBIA del, brezcementni; fixed bearing, vsaj 7 velikosti | D95: z coatingom iz plazma spray titanium in hidroksiapatitnim coatingom | H95: KOS | I95: 1 | K95: 1 | O95: =ROUND(ROUND(L95,4)*(1-M95),4) -> 0 | P95: =ROUND(ROUND(O95,4)*(1+N95),4) -> 0 | Q95: =ROUND($I95*O95,4) -> 0 | R95: =ROUND($I95*P95,4) -> 0
B96: 7 | C96: Koleno VLOŽEK MENISKUS fixed; leva in desna izvedba; 7 velikosti in 4 debeline | D96: iz polietilena | H96: KOS | I96: 1 | K96: 1 | O96: =ROUND(ROUND(L96,4)*(1-M96),4) -> 0 | P96: =ROUND(ROUND(O96,4)*(1+N96),4) -> 0 | Q96: =ROUND($I96*O96,4) -> 0 | R96: =ROUND($I96*P96,4) -> 0
B97: 8 | C97: Koleno VLOŽEK MENISKUS mobile; leva in desna izvedba; 7 velikosti in 4 debeline | D97: iz polietilena | H97: KOS | I97: 1 | K97: 1 | O97: =ROUND(ROUND(L97,4)*(1-M97),4) -> 0 | P97: =ROUND(ROUND(O97,4)*(1+N97),4) -> 0 | Q97: =ROUND($I97*O97,4) -> 0 | R97: =ROUND($I97*P97,4) -> 0
P98: Skupaj: | Q98: =SUM(Q90:Q97) -> 0 | R98: =SUM(R90:R97) -> 0

Sheet Sklop III.
C4: Seznam razpisanega blaga za sklop:
B5: III. | C5: Ramenska endoproteza - MODULARNI SISTEM
C7: =IF('2. Podatki o ponudniku'!C5<>"","Naziv ponudnika: " & '2. Podatki o ponudniku'!C5,"")
C8: =IF('2. Podatki o ponudniku'!C7<>"","Identifikacijska številka za DDV: " & '2. Podatki o ponudniku'!C7,"")
A11: * | B11: 1. | C11: podsklop: RAMENSKA ENDOPROTEZA (TOTALNA ALI PARCIALNA, CEMENTNA ALI BREZCEMENTNA, INERZNA ALI ANATOMSKA IN REVIZIJSKE ) | H11: ZAPRT | L11: RAMENSKA ENDOPROTEZA (TOTALNA ALI PARCIALNA, CEMENTNA ALI BREZCEMENTNA, INERZNA ALI ANATOMSKA IN REVIZIJSKE )
A12: EOB | B12: Zap. št. | C12: Naziv blaga | D12: Lastnost 1 | E12: Lastnost 2 | F12: Lastnost 3 | G12: Lastnost 4 | H12: EM | I12: Količina | J12: Št. vzorcev | K12: Var. | L12: Veljavna cena brez DDV | M12: Popust | N12: Stopnja DDV | O12: Cena brez DDV | P12: Cena z DDV | Q12: Vrednost brez DDV | R12: Vrednost z DDV | S12: Proizvajalec | T12: Ponudnikov naziv blaga | U12: EAN | V12: Kataloška številka | W12: Opomba
B13: 1 | C13: Rame TELO humeralno anatomsko travma | D13: Na voljo mora biti tudi inštrumentarij za primer revizije implantata | E13: Glej teh. specifikacije | H13: KOS | I13: 10 | K13: 1 | O13: =ROUND(ROUND(L13,4)*(1-M13),4) -> 0 | P13: =ROUND(ROUND(O13,4)*(1+N13),4) -> 0 | Q13: =ROUND($I13*O13,4) -> 0 | R13: =ROUND($I13*P13,4) -> 0
B14: 2 | C14: Rame TELO humeralno anatomsko narebreno | D14: Na voljo mora biti tudi inštrumentarij za primer revizije implantata | E14: Glej teh. specifikacije | H14: KOS | I14: 5 | K14: 1 | O14: =ROUND(ROUND(L14,4)*(1-M14),4) -> 0 | P14: =ROUND(ROUND(O14,4)*(1+N14),4) -> 0 | Q14: =ROUND($I14*O14,4) -> 0 | R14: =ROUND($I14*P14,4) -> 0
B15: 3 | C15: Rame TELO humeralno reverzno | D15: Na voljo mora biti tudi inštrumentarij za primer revizije implantata | E15: Glej teh. specifikacije | H15: KOS | I15: 5 | K15: 1 | O15: =ROUND(ROUND(L15,4)*(1-M15),4) -> 0 | P15: =ROUND(ROUND(O15,4)*(1+N15),4) -> 0 | Q15: =ROUND($I15*O15,4) -> 0 | R15: =ROUND($I15*P15,4) -> 0
B16: 4 | C16: Rame DEBLO humeralno cementno standardno | D16: Na voljo mora biti tudi inštrumentarij za primer revizije implantata | E16: Glej teh. specifikacije | H16: KOS | I16: 10 | K16: 1 | O16: =ROUND(ROUND(L16,4)*(1-M16),4) -> 0 | P16: =ROUND(ROUND(O16,4)*(1+N16),4) -> 0 | Q16: =ROUND($I16*O16,4) -> 0 | R16: =ROUND($I16*P16,4) -> 0
B17: 5 | C17: Rame DEBLO humeralno brezcementno | D17: Na voljo mora biti tudi inštrumentarij za primer revizije implantata | E17: Glej teh. specifikacije | H17: KOS | I17: 10 | K17: 1 | O17: =ROUND(ROUND(L17,4)*(1-M17),4) -> 0 | P17: =ROUND(ROUND(O17,4)*(1+N17),4) -> 0 | Q17: =ROUND($I17*O17,4) -> 0 | R17: =ROUND($I17*P17,4) -> 0
B18: 6 | C18: Rame DEBLO humeralno cementno dolgo (revizijsko) | D18: Na voljo mora biti tudi inštrumentarij za primer revizije implantata | E18: Glej teh. specifikacije | H18: KOS | I18: 1 | K18: 1 | O18: =ROUND(ROUND(L18,4)*(1-M18),4) -> 0 | P18: =ROUND(ROUND(O18,4)*(1+N18),4) -> 0 | Q18: =ROUND($I18*O18,4) -> 0 | R18: =ROUND($I18*P18,4) -> 0
B19: 7 | C19: Rame DEBLO humeralno brezcementno dolgo (revizijsko) | D19: Na voljo mora biti tudi inštrumentarij za primer revizije implantata | E19: Glej teh. specifikacije | H19: KOS | I19: 1 | K19: 1 | O19: =ROUND(ROUND(L19,4)*(1-M19),4) -> 0 | P19: =ROUND(ROUND(O19,4)*(1+N19),4) -> 0 | Q19: =ROUND($I19*O19,4) -> 0 | R19: =ROUND($I19*P19,4) -> 0
B20: 8 | C20: Rame PODALJŠEK humeralni | E20: Glej teh. specifikacije | H20: KOS | I20: 5 | K20: 1 | O20: =ROUND(ROUND(L20,4)*(1-M20),4) -> 0 | P20: =ROUND(ROUND(O20,4)*(1+N20),4) -> 0 | Q20: =ROUND($I20*O20,4) -> 0 | R20: =ROUND($I20*P20,4) -> 0
B21: 9 | C21: Rame GLAVA humeralna | E21: Glej teh. specifikacije | H21: KOS | I21: 10 | K21: 1 | O21: =ROUND(ROUND(L21,4)*(1-M21),4) -> 0 | P21: =ROUND(ROUND(O21,4)*(1+N21),4) -> 0 | Q21: =ROUND($I21*O21,4) -> 0 | R21: =ROUND($I21*P21,4) -> 0
B22: 10 | C22: Rame GLAVA CTA (cuff tear arthropathy) | E22: Glej teh. specifikacije | H22: KOS | I22: 2 | K22: 1 | O22: =ROUND(ROUND(L22,4)*(1-M22),4) -> 0 | P22: =ROUND(ROUND(O22,4)*(1+N22),4) -> 0 | Q22: =ROUND($I22*O22,4) -> 0 | R22: =ROUND($I22*P22,4) -> 0
B23: 11 | C23: Rame ADAPTER nevtralni za glave humeralne | E23: Glej teh. specifikacije | H23: KOS | I23: 6 | K23: 1 | O23: =ROUND(ROUND(L23,4)*(1-M23),4) -> 0 | P23: =ROUND(ROUND(O23,4)*(1+N23),4) -> 0 | Q23: =ROUND($I23*O23,4) -> 0 | R23: =ROUND($I23*P23,4) -> 0
B24: 12 | C24: Rame ADAPTER ekscentrični za glave humeralne | E24: Glej teh. specifikacije | H24: KOS | I24: 4 | K24: 1 | O24: =ROUND(ROUND(L24,4)*(1-M24),4) -> 0 | P24: =ROUND(ROUND(O24,4)*(1+N24),4) -> 0 | Q24: =ROUND($I24*O24,4) -> 0 | R24: =ROUND($I24*P24,4) -> 0
B25: 13 | C25: Rame ADAPTER glave CTA za humeralno reverzno deblo | E25: Glej teh. specifikacije | H25: KOS | I25: 2 | K25: 1 | O25: =ROUND(ROUND(L25,4)*(1-M25),4) -> 0 | P25: =ROUND(ROUND(O25,4)*(1+N25),4) -> 0 | Q25: =ROUND($I25*O25,4) -> 0 | R25: =ROUND($I25*P25,4) -> 0
B26: 14 | C26: Rame VLOŽEK polietilenski za humeralno reverzno deblo | D26: X-UHMWPE | E26: Glej teh. specifikacije | H26: KOS | I26: 5 | K26: 1 | O26: =ROUND(ROUND(L26,4)*(1-M26),4) -> 0 | P26: =ROUND(ROUND(O26,4)*(1+N26),4) -> 0 | Q26: =ROUND($I26*O26,4) -> 0 | R26: =ROUND($I26*P26,4) -> 0
B27: 15 | C27: Rame VLOŽEK kovinski standardni za humeralno reverzno deblo | E27: Glej teh. specifikacije | H27: KOS | I27: 3 | K27: 1 | O27: =ROUND(ROUND(L27,4)*(1-M27),4) -> 0 | P27: =ROUND(ROUND(O27,4)*(1+N27),4) -> 0 | Q27: =ROUND($I27*O27,4) -> 0 | R27: =ROUND($I27*P27,4) -> 0
B28: 16 | C28: Rame VLOŽEK kovinski lateralizirani za humeralno reverzno deblo | E28: Glej teh. specifikacije | H28: KOS | I28: 2 | K28: 1 | O28: =ROUND(ROUND(L28,4)*(1-M28),4) -> 0 | P28: =ROUND(ROUND(O28,4)*(1+N28),4) -> 0 | Q28: =ROUND($I28*O28,4) -> 0 | R28: =ROUND($I28*P28,4) -> 0
B29: 17 | C29: Rame GLENOSFERA kovinska premer 36 mm s konektorjem | E29: Glej teh. specifikacije | H29: KOS | I29: 5 | K29: 1 | O29: =ROUND(ROUND(L29,4)*(1-M29),4) -> 0 | P29: =ROUND(ROUND(O29,4)*(1+N29),4) -> 0 | Q29: =ROUND($I29*O29,4) -> 0 | R29: =ROUND($I29*P29,4) -> 0
B30: 18 | C30: Rame GLENOSFERA polietilenska premer 40 mm in 44 mm | D30: X-UHMWPE | E30: Glej teh. specifikacije | H30: KOS | I30: 5 | K30: 1 | O30: =ROUND(ROUND(L30,4)*(1-M30),4) -> 0 | P30: =ROUND(ROUND(O30,4)*(1+N30),4) -> 0 | Q30: =ROUND($I30*O30,4) -> 0 | R30: =ROUND($I30*P30,4) -> 0
B31: 19 | C31: Rame KONEKTOR z vijakom za polietilensko glenosfero | D31: X-UHMWPE | E31: Glej teh. specifikacije | H31: KOS | I31: 5 | K31: 1 | O31: =ROUND(ROUND(L31,4)*(1-M31),4) -> 0 | P31: =ROUND(ROUND(O31,4)*(1+N31),4) -> 0 | Q31: =ROUND($I31*O31,4) -> 0 | R31: =ROUND($I31*P31,4) -> 0
B32: 20 | C32: Rame GLENOID cementni | E32: Glej teh. specifikacije | H32: KOS | I32: 2 | K32: 1 | O32: =ROUND(ROUND(L32,4)*(1-M32),4) -> 0 | P32: =ROUND(ROUND(O32,4)*(1+N32),4) -> 0 | Q32: =ROUND($I32*O32,4) -> 0 | R32: =ROUND($I32*P32,4) -> 0
B33: 21 | C33: Rame GLENOID cementni s tremi zatiči | E33: Glej teh. specifikacije | H33: KOS | I33: 2 | K33: 1 | O33: =ROUND(ROUND(L33,4)*(1-M33),4) -> 0 | P33: =ROUND(ROUND(O33,4)*(1+N33),4) -> 0 | Q33: =ROUND($I33*O33,4) -> 0 | R33: =ROUND($I33*P33,4) -> 0
B34: 22 | C34: Rame GLENOID kovinski brezcementni | E34: Glej teh. specifikacije | H34: KOS | I34: 10 | K34: 1 | O34: =ROUND(ROUND(L34,4)*(1-M34),4) -> 0 | P34: =ROUND(ROUND(O34,4)*(1+N34),4) -> 0 | Q34: =ROUND($I34*O34,4) -> 0 | R34: =ROUND($I34*P34,4) -> 0
B35: 23 | C35: Rame GLENOID iz trabekularnega Ti brezcementni | E35: Glej teh. specifikacije | H35: KOS | I35: 2 | K35: 1 | O35: =ROUND(ROUND(L35,4)*(1-M35),4) -> 0 | P35: =ROUND(ROUND(O35,4)*(1+N35),4) -> 0 | Q35: =ROUND($I35*O35,4) -> 0 | R35: =ROUND($I35*P35,4) -> 0
B36: 24 | C36: Rame ZATIČ za brezcementni glenoid iz trabekularnega Ti | E36: Glej teh. specifikacije | H36: KOS | I36: 2 | K36: 1 | O36: =ROUND(ROUND(L36,4)*(1-M36),4) -> 0 | P36: =ROUND(ROUND(O36,4)*(1+N36),4) -> 0 | Q36: =ROUND($I36*O36,4) -> 0 | R36: =ROUND($I36*P36,4) -> 0
B37: 25 | C37: Rame VLOŽEK za kovinski glenoid | E37: Glej teh. specifikacije | H37: KOS | I37: 2 | K37: 1 | O37: =ROUND(ROUND(L37,4)*(1-M37),4) -> 0 | P37: =ROUND(ROUND(O37,4)*(1+N37),4) -> 0 | Q37: =ROUND($I37*O37,4) -> 0 | R37: =ROUND($I37*P37,4) -> 0
B38: 26 | C38: Rame VIJAK kostni za dodatno pričvrstitev brezcementnega glenoida | E38: Glej teh. specifikacije | H38: KOS | I38: 20 | K38: 1 | O38: =ROUND(ROUND(L38,4)*(1-M38),4) -> 0 | P38: =ROUND(ROUND(O38,4)*(1+N38),4) -> 0 | Q38: =ROUND($I38*O38,4) -> 0 | R38: =ROUND($I38*P38,4) -> 0
P39: Skupaj: | Q39: =SUM(Q13:Q38) -> 0 | R39: =SUM(R13:R38) -> 0

Sheet Sklop IV.
C4: Seznam razpisanega blaga za sklop:
B5: IV. | C5: ENDOPROTEZA KOMOLCA
C7: =IF('2. Podatki o ponudniku'!C5<>"","Naziv ponudnika: " & '2. Podatki o ponudniku'!C5,"")
C8: =IF('2. Podatki o ponudniku'!C7<>"","Identifikacijska številka za DDV: " & '2. Podatki o ponudniku'!C7,"")
A11: * | B11: 1. | C11: podsklop: ENDOPROTEZA KOMOLCA, anatomska | H11: ZAPRT | L11: ENDOPROTEZA KOMOLCA, anatomska
A12: EOB | B12: Zap. št. | C12: Naziv blaga | D12: Lastnost 1 | E12: Lastnost 2 | F12: Lastnost 3 | G12: Lastnost 4 | H12: EM | I12: Količina | J12: Št. vzorcev | K12: Var. | L12: Veljavna cena brez DDV | M12: Popust | N12: Stopnja DDV | O12: Cena brez DDV | P12: Cena z DDV | Q12: Vrednost brez DDV | R12: Vrednost z DDV | S12: Proizvajalec | T12: Ponudnikov naziv blaga | U12: EAN | V12: Kataloška številka | W12: Opomba
B13: 1 | C13: Komolec HUMERALNA KOMPONENTA anatomsko oblikovana; v levi in desni izvedbi; velikosti: majhna, srednja, velika | D13: deblo iz CoCr za cementno fiksacijo, presek debla kvadrangularen za kotno stabilnost, sprednje zakrilce za vstavljanje kostnega transplantata | H13: KOS | I13: 6 | K13: 1 | O13: =ROUND(ROUND(L13,4)*(1-M13),4) -> 0 | P13: =ROUND(ROUND(O13,4)*(1+N13),4) -> 0 | Q13: =ROUND($I13*O13,4) -> 0 | R13: =ROUND($I13*P13,4) -> 0
B14: 2 | C14: Komolec DEBLO standardno ulnarno; v levi in desni izvedbi; velikosti: majhna, srednja, velika | D14: Ulnarno deblo iz CoCr za cementno fiksacijo, oblikovano anatomsko | H14: KOS | I14: 6 | K14: 1 | O14: =ROUND(ROUND(L14,4)*(1-M14),4) -> 0 | P14: =ROUND(ROUND(O14,4)*(1+N14),4) -> 0 | Q14: =ROUND($I14*O14,4) -> 0 | R14: =ROUND($I14*P14,4) -> 0
B15: 3 | C15: Komolec ZATIČ ulnarni | D15: Ulnarni zatič za uporabo implantata v povezani obliki | H15: KOS | I15: 6 | K15: 1 | O15: =ROUND(ROUND(L15,4)*(1-M15),4) -> 0 | P15: =ROUND(ROUND(O15,4)*(1+N15),4) -> 0 | Q15: =ROUND($I15*O15,4) -> 0 | R15: =ROUND($I15*P15,4) -> 0
P16: Skupaj: | Q16: =SUM(Q13:Q15) -> 0 | R16: =SUM(R13:R15) -> 0

Sheet Sklop V.
C4: Seznam razpisanega blaga za sklop:
B5: V. | C5: PLOŠČE ZA PERIPROTETIČNE ZLOME STEGNENICE
C7: =IF('2. Podatki o ponudniku'!C5<>"","Naziv ponudnika: " & '2. Podatki o ponudniku'!C5,"")
C8: =IF('2. Podatki o ponudniku'!C7<>"","Identifikacijska številka za DDV: " & '2. Podatki o ponudniku'!C7,"")
A11: * | B11: 1. | C11: podsklop: PLOŠČE ZA PERIPROTETIČNE ZLOME STEGNENICE | H11: ZAPRT | L11: PLOŠČE ZA PERIPROTETIČNE ZLOME STEGNENICE
A12: EOB | B12: Zap. št. | C12: Naziv blaga | D12: Lastnost 1 | E12: Lastnost 2 | F12: Lastnost 3 | G12: Lastnost 4 | H12: EM | I12: Količina | J12: Št. vzorcev | K12: Var. | L12: Veljavna cena brez DDV | M12: Popust | N12: Stopnja DDV | O12: Cena brez DDV | P12: Cena z DDV | Q12: Vrednost brez DDV | R12: Vrednost z DDV | S12: Proizvajalec | T12: Ponudnikov naziv blaga | U12: EAN | V12: Kataloška številka | W12: Opomba
B13: 1 | C13: PLOŠČA PERIPROTETIČNA PROKSIMALNI FEMUR, 245MM, 9 LUKENJ, DESNA | D13: za zdravljene kompleksnih periprotetičnih zlomov | H13: KOS | I13: 1 | K13: 1 | O13: =ROUND(ROUND(L13,4)*(1-M13),4) -> 0 | P13: =ROUND(ROUND(O13,4)*(1+N13),4) -> 0 | Q13: =ROUND($I13*O13,4) -> 0 | R13: =ROUND($I13*P13,4) -> 0
B14: 2 | C14: PLOŠČA PERIPROTETIČNA PROKSIMALNI FEMUR, 285MM, 12 LUKENJ, DESNA | D14: za zdravljene kompleksnih periprotetičnih zlomov | H14: KOS | I14: 1 | K14: 1 | O14: =ROUND(ROUND(L14,4)*(1-M14),4) -> 0 | P14: =ROUND(ROUND(O14,4)*(1+N14),4) -> 0 | Q14: =ROUND($I14*O14,4) -> 0 | R14: =ROUND($I14*P14,4) -> 0
B15: 3 | C15: PLOŠČA PERIPROTETIČNA PROKSIMALNI FEMUR, 324MM, 15 LUKENJ, DESNA | D15: za zdravljene kompleksnih periprotetičnih zlomov | H15: KOS | I15: 1 | K15: 1 | O15: =ROUND(ROUND(L15,4)*(1-M15),4) -> 0 | P15: =ROUND(ROUND(O15,4)*(1+N15),4) -> 0 | Q15: =ROUND($I15*O15,4) -> 0 | R15: =ROUND($I15*P15,4) -> 0
B16: 4 | C16: PLOŠČA PERIPROTETIČNA PROKSIMALNI FEMUR, 363MM, 18 LUKENJ, DESNA | D16: za zdravljene kompleksnih periprotetičnih zlomov | H16: KOS | I16: 1 | K16: 1 | O16: =ROUND(ROUND(L16,4)*(1-M16),4) -> 0 | P16: =ROUND(ROUND(O16,4)*(1+N16),4) -> 0 | Q16: =ROUND($I16*O16,4) -> 0 | R16: =ROUND($I16*P16,4) -> 0
B17: 5 | C17: PLOŠČA PERIPROTETIČNA PROKSIMALNI FEMUR, 401MM, 21 LUKENJ, DESNA | D17: za zdravljene kompleksnih periprotetičnih zlomov | H17: KOS | I17: 1 | K17: 1 | O17: =ROUND(ROUND(L17,4)*(1-M17),4) -> 0 | P17: =ROUND(ROUND(O17,4)*(1+N17),4) -> 0 | Q17: =ROUND($I17*O17,4) -> 0 | R17: =ROUND($I17*P17,4) -> 0
B18: 6 | C18: PLOŠČA PERIPROTETIČNA PROKSIMALNI FEMUR, 245MM, 9 LUKENJ, LEVA | D18: za zdravljene kompleksnih periprotetičnih zlomov | H18: KOS | I18: 3 | K18: 1 | O18: =ROUND(ROUND(L18,4)*(1-M18),4) -> 0 | P18: =ROUND(ROUND(O18,4)*(1+N18),4) -> 0 | Q18: =ROUND($I18*O18,4) -> 0 | R18: =ROUND($I18*P18,4) -> 0
B19: 7 | C19: PLOŠČA PERIPROTETIČNA PROKSIMALNI FEMUR, 285MM, 12 LUKENJ, LEVA | D19: za zdravljene kompleksnih periprotetičnih zlomov | H19: KOS | I19: 1 | K19: 1 | O19: =ROUND(ROUND(L19,4)*(1-M19),4) -> 0 | P19: =ROUND(ROUND(O19,4)*(1+N19),4) -> 0 | Q19: =ROUND($I19*O19,4) -> 0 | R19: =ROUND($I19*P19,4) -> 0
B20: 8 | C20: PLOŠČA PERIPROTETIČNA PROKSIMALNI FEMUR, 324MM, 15 LUKENJ, LEVA | D20: za zdravljene kompleksnih periprotetičnih zlomov | H20: KOS | I20: 1 | K20: 1 | O20: =ROUND(ROUND(L20,4)*(1-M20),4) -> 0 | P20: =ROUND(ROUND(O20,4)*(1+N20),4) -> 0 | Q20: =ROUND($I20*O20,4) -> 0 | R20: =ROUND($I20*P20,4) -> 0
B21: 9 | C21: PLOŠČA PERIPROTETIČNA PROKSIMALNI FEMUR, 363MM, 18 LUKENJ, LEVA | D21: za zdravljene kompleksnih periprotetičnih zlomov | H21: KOS | I21: 1 | K21: 1 | O21: =ROUND(ROUND(L21,4)*(1-M21),4) -> 0 | P21: =ROUND(ROUND(O21,4)*(1+N21),4) -> 0 | Q21: =ROUND($I21*O21,4) -> 0 | R21: =ROUND($I21*P21,4) -> 0
B22: 10 | C22: PLOŠČA PERIPROTETIČNA PROKSIMALNI FEMUR, 401MM, 21 LUKENJ, LEVA | D22: za zdravljene kompleksnih periprotetičnih zlomov | H22: KOS | I22: 1 | K22: 1 | O22: =ROUND(ROUND(L22,4)*(1-M22),4) -> 0 | P22: =ROUND(ROUND(O22,4)*(1+N22),4) -> 0 | Q22: =ROUND($I22*O22,4) -> 0 | R22: =ROUND($I22*P22,4) -> 0
B23: 11 | C23: PLOŠČA PERIPROTETIČNA ZA DIAFIZO FEMURJA, UKRIVLJENA, 210MM, 10 LUKENJ | D23: za zdravljene kompleksnih periprotetičnih zlomov | H23: KOS | I23: 1 | K23: 1 | O23: =ROUND(ROUND(L23,4)*(1-M23),4) -> 0 | P23: =ROUND(ROUND(O23,4)*(1+N23),4) -> 0 | Q23: =ROUND($I23*O23,4) -> 0 | R23: =ROUND($I23*P23,4) -> 0
B24: 12 | C24: PLOŠČA PERIPROTETIČNA ZA DIAFIZO FEMURJA, UKRIVLJENA, 249MM, 10 LUKENJ | D24: za zdravljene kompleksnih periprotetičnih zlomov | H24: KOS | I24: 1 | K24: 1 | O24: =ROUND(ROUND(L24,4)*(1-M24),4) -> 0 | P24: =ROUND(ROUND(O24,4)*(1+N24),4) -> 0 | Q24: =ROUND($I24*O24,4) -> 0 | R24: =ROUND($I24*P24,4) -> 0
... B28: 16 | C28: ŽICA CERKLAŽNA 1,8X635, CR-CO | D28: za zdravljene kompleksnih periprotetičnih zlomov | H28: KOS | I28: 1 | K28: 1 | O28: =ROUND(ROUND(L28,4)*(1-M28),4) -> 0 | P28: =ROUND(ROUND(O28,4)*(1+N28),4) -> 0 | Q28: =ROUND($I28*O28,4) -> 0 | R28: =ROUND($I28*P28,4) -> 0
B29: 17 | C29: Plošča za zdravljenje periprotetičnih zlomov ob velikem trohantru, dol. 53mm | D29: Plošča mora imeti na proksimalnem delu dve kljukici s katerimi se fiksira na veliki trohanter, imeti pa mora možnost dodatne fiksacije s cerklažami, ki naj se pritrdijo na femur z zategovalnikom in zaklenejo z matico na plošči. | E29: Izdelana iz TI6AL4V | F29: Skupaj s ploščo morajo biti pakirane štiri cerklaže diametra 1.8mm in dolžine 635mm | H29: KOS | I29: 1 | K29: 1 | O29: =ROUND(ROUND(L29,4)*(1-M29),4) -> 0 | P29: =ROUND(ROUND(O29,4)*(1+N29),4) -> 0 | Q29: =ROUND($I29*O29,4) -> 0 | R29: =ROUND($I29*P29,4) -> 0
B30: 18 | C30: Plošča za zdravljenje periprotetičnih zlomov ob velikem trohantru, dol. 121mm | D30: Plošča mora imeti na proksimalnem delu dve kljukici s katerimi se fiksira na veliki trohanter, imeti pa mora možnost dodatne fiksacije s cerklažami, ki naj se pritrdijo na femur z zategovalnikom in zaklenejo z matico na plošči. | E30: Izdelana iz TI6AL4V | F30: Skupaj s ploščo morajo biti pakirane štiri cerklaže diametra 1.8mm in dolžine 635mm | H30: KOS | I30: 1 | K30: 1 | O30: =ROUND(ROUND(L30,4)*(1-M30),4) -> 0 | P30: =ROUND(ROUND(O30,4)*(1+N30),4) -> 0 | Q30: =ROUND($I30*O30,4) -> 0 | R30: =ROUND($I30*P30,4) -> 0
B31: 19 | C31: Plošča za zdravljenje periprotetičnih zlomov ob velikem trohantru, dol. 232mm | D31: Plošča mora imeti na proksimalnem delu dve kljukici s katerimi se fiksira na veliki trohanter, imeti pa mora možnost dodatne fiksacije s cerklažami, ki naj se pritrdijo na femur z zategovalnikom in zaklenejo z matico na plošči. Plošča mora imeti 4 luknje, da jo lahko dodatno fiksiramo na kost z vijaki diam. 4,5mm. | E31: Izdelana iz TI6AL4V | F31: Skupaj s ploščo morajo biti pakirane štiri cerklaže diametra 1.8mm in dolžine 635mm | H31: KOS | I31: 1 | K31: 1 | O31: =ROUND(ROUND(L31,4)*(1-M31),4) -> 0 | P31: =ROUND(ROUND(O31,4)*(1+N31),4) -> 0 | Q31: =ROUND($I31*O31,4) -> 0 | R31: =ROUND($I31*P31,4) -> 0
B32: 20 | C32: Plošča za zdravljenje periprotetičnih zlomov ob velikem trohantru, dol.261mm | D32: Plošča mora imeti na proksimalnem delu dve kljukici s katerimi se fiksira na veliki trohanter, imeti pa mora možnost dodatne fiksacije s cerklažami, ki naj se pritrdijo na femur z zategovalnikom in zaklenejo z matico na plošči. Plošča mora imeti 5 lukenj, da jo lahko dodatno fiksiramo na kost z vijaki diam. 4,5mm. | E32: Izdelana iz TI6AL4V | F32: Skupaj s ploščo morajo biti pakirane štiri cerklaže diametra 1.8mm in dolžine 635mm | H32: KOS | I32: 9 | K32: 1 | O32: =ROUND(ROUND(L32,4)*(1-M32),4) -> 0 | P32: =ROUND(ROUND(O32,4)*(1+N32),4) -> 0 | Q32: =ROUND($I32*O32,4) -> 0 | R32: =ROUND($I32*P32,4) -> 0
B33: 21 | C33: Vijak samonavojni, diameter 5mm, dolžine od 14 do 100mm | D33: Izdelan iz TI6AL4V | E33: Poliaksialnost 30° | H33: KOS | I33: 1 | K33: 1 | O33: =ROUND(ROUND(L33,4)*(1-M33),4) -> 0 | P33: =ROUND(ROUND(O33,4)*(1+N33),4) -> 0 | Q33: =ROUND($I33*O33,4) -> 0 | R33: =ROUND($I33*P33,4) -> 0
B34: 22 | C34: Vijak samonavojni, diameter 5mm, dolžine od 14 do 100mm | D34: Izdelan iz TI6AL4V | E34: Poliaksialnost 30° | H34: KOS | I34: 1 | K34: 1 | O34: =ROUND(ROUND(L34,4)*(1-M34),4) -> 0 | P34: =ROUND(ROUND(O34,4)*(1+N34),4) -> 0 | Q34: =ROUND($I34*O34,4) -> 0 | R34: =ROUND($I34*P34,4) -> 0
B35: 23 | C35: Distančnik (spacer), dolžina 1, 2 in 3mm | D35: Dolžina 1, 2 in 3mm | E35: Izdelan iz TI6AL4V | F35: Prepreči kontakt med ploščo in kostjo ter posledično zmanjša možnost komplikacij pri periostalni prekrvavitvi. | H35: KOS | I35: 1 | K35: 1 | O35: =ROUND(ROUND(L35,4)*(1-M35),4) -> 0 | P35: =ROUND(ROUND(O35,4)*(1+N35),4) -> 0 | Q35: =ROUND($I35*O35,4) -> 0 | R35: =ROUND($I35*P35,4) -> 0
B36: 24 | C36: Zaklepna kapica | D36: Izdelana iz TI6AL4V | H36: KOS | I36: 1 | K36: 1 | O36: =ROUND(ROUND(L36,4)*(1-M36),4) -> 0 | P36: =ROUND(ROUND(O36,4)*(1+N36),4) -> 0 | Q36: =ROUND($I36*O36,4) -> 0 | R36: =ROUND($I36*P36,4) -> 0
B37: 25 | C37: Vijak, diam. 4,5 in 6,5mm, dol. Od 15 do 60mm | D37: Izdelan iz TI6AL4V | H37: KOS | I37: 1 | K37: 1 | O37: =ROUND(ROUND(L37,4)*(1-M37),4) -> 0 | P37: =ROUND(ROUND(O37,4)*(1+N37),4) -> 0 | Q37: =ROUND($I37*O37,4) -> 0 | R37: =ROUND($I37*P37,4) -> 0
B38: 26 | C38: Cerklaža, diameter 1.8mm, dolžina 610mm | H38: KOS | I38: 1 | K38: 1 | O38: =ROUND(ROUND(L38,4)*(1-M38),4) -> 0 | P38: =ROUND(ROUND(O38,4)*(1+N38),4) -> 0 | Q38: =ROUND($I38*O38,4) -> 0 | R38: =ROUND($I38*P38,4) -> 0
P39: Skupaj: | Q39: =SUM(Q13:Q38) -> 0 | R39: =SUM(R13:R38) -> 0

Sheet Sklop VI.
C4: Seznam razpisanega blaga za sklop:
B5: VI. | C5: CEMENT IN PRIPOMOČKI ZA VGRAJEVANJE ENDOPROTEZ
C7: =IF('2. Podatki o ponudniku'!C5<>"","Naziv ponudnika: " & '2. Podatki o ponudniku'!C5,"")
C8: =IF('2. Podatki o ponudniku'!C7<>"","Identifikacijska številka za DDV: " & '2. Podatki o ponudniku'!C7,"")
A11: * | B11: 1. | C11: podsklop: CEMENT IN PRIPOMOČKI ZA VGRAJEVANJE ENDOPROTEZ | H11: ZAPRT | L11: CEMENT IN PRIPOMOČKI ZA VGRAJEVANJE ENDOPROTEZ
A12: EOB | B12: Zap. št. | C12: Naziv blaga | D12: Lastnost 1 | E12: Lastnost 2 | F12: Lastnost 3 | G12: Lastnost 4 | H12: EM | I12: Količina | J12: Št. vzorcev | K12: Var. | L12: Veljavna cena brez DDV | M12: Popust | N12: Stopnja DDV | O12: Cena brez DDV | P12: Cena z DDV | Q12: Vrednost brez DDV | R12: Vrednost z DDV | S12: Proizvajalec | T12: Ponudnikov naziv blaga | U12: EAN | V12: Kataloška številka | W12: Opomba
B13: 1 | C13: Zaprt vakumski sistem za mešanje kostnega cementa, 40g | H13: KPL | I13: 330 | K13: 1 | O13: =ROUND(ROUND(L13,4)*(1-M13),4) -> 0 | P13: =ROUND(ROUND(O13,4)*(1+N13),4) -> 0 | Q13: =ROUND($I13*O13,4) -> 0 | R13: =ROUND($I13*P13,4) -> 0
B14: 2 | C14: Zaprt vakumski sistem za mešanje kostnega cementa, 60 g | H14: KPL | I14: 600 | K14: 1 | O14: =ROUND(ROUND(L14,4)*(1-M14),4) -> 0 | P14: =ROUND(ROUND(O14,4)*(1+N14),4) -> 0 | Q14: =ROUND($I14*O14,4) -> 0 | R14: =ROUND($I14*P14,4) -> 0
B15: 3 | C15: Zaprt vakumski sistem za mešanje kostnega cementa, 80g | H15: KPL | I15: 1 | K15: 1 | O15: =ROUND(ROUND(L15,4)*(1-M15),4) -> 0 | P15: =ROUND(ROUND(O15,4)*(1+N15),4) -> 0 | Q15: =ROUND($I15*O15,4) -> 0 | R15: =ROUND($I15*P15,4) -> 0
B16: 4 | C16: Zaprt vakumski sistem za mešanje kostnega cementa, pred-pakiran antibiotičnim cementom 40 g | H16: KPL | I16: 150 | K16: 1 | O16: =ROUND(ROUND(L16,4)*(1-M16),4) -> 0 | P16: =ROUND(ROUND(O16,4)*(1+N16),4) -> 0 | Q16: =ROUND($I16*O16,4) -> 0 | R16: =ROUND($I16*P16,4) -> 0
B17: 5 | C17: Zaprt vakumski sistem za mešanje kostnega cementa, pred-pakiran antibiotičnim cementom 80 g | H17: KPL | I17: 50 | K17: 1 | O17: =ROUND(ROUND(L17,4)*(1-M17),4) -> 0 | P17: =ROUND(ROUND(O17,4)*(1+N17),4) -> 0 | Q17: =ROUND($I17*O17,4) -> 0 | R17: =ROUND($I17*P17,4) -> 0
B18: 6 | C18: Modul za spacer za koleno | H18: KOS | I18: 6 | K18: 1 | O18: =ROUND(ROUND(L18,4)*(1-M18),4) -> 0 | P18: =ROUND(ROUND(O18,4)*(1+N18),4) -> 0 | Q18: =ROUND($I18*O18,4) -> 0 | R18: =ROUND($I18*P18,4) -> 0
B19: 7 | C19: Modul za spacer za kolk | H19: KOS | I19: 1 | K19: 1 | O19: =ROUND(ROUND(L19,4)*(1-M19),4) -> 0 | P19: =ROUND(ROUND(O19,4)*(1+N19),4) -> 0 | Q19: =ROUND($I19*O19,4) -> 0 | R19: =ROUND($I19*P19,4) -> 0
P20: Skupaj: | Q20: =SUM(Q13:Q19) -> 0 | R20: =SUM(R13:R19) -> 0
A23: * | B23: 2. | C23: podsklop: ČEPI DISTALNI | H23: ZAPRT | L23: ČEPI DISTALNI
A24: EOB | B24: Zap. št. | C24: Naziv blaga | D24: Lastnost 1 | E24: Lastnost 2 | F24: Lastnost 3 | G24: Lastnost 4 | H24: EM | I24: Količina | J24: Št. vzorcev | K24: Var. | L24: Veljavna cena brez DDV | M24: Popust | N24: Stopnja DDV | O24: Cena brez DDV | P24: Cena z DDV | Q24: Vrednost brez DDV | R24: Vrednost z DDV | S24: Proizvajalec | T24: Ponudnikov naziv blaga | U24: EAN | V24: Kataloška številka | W24: Opomba
B25: 1 | C25: Distalni čep; dimenzije: 10, 12, 14, 16, 18 in 20 mm | H25: KOS | I25: 27 | K25: 1 | O25: =ROUND(ROUND(L25,4)*(1-M25),4) -> 0 | P25: =ROUND(ROUND(O25,4)*(1+N25),4) -> 0 | Q25: =ROUND($I25*O25,4) -> 0 | R25: =ROUND($I25*P25,4) -> 0
P26: Skupaj: | Q26: =SUM(Q25:Q25) -> 0 | R26: =SUM(R25:R25) -> 0
A29: * | B29: 3. | C29: podsklop: SET ZA KOLENO IN KOLK | H29: ODPRT | L29: SET ZA KOLENO IN KOLK
A30: EOB | B30: Zap. št. | C30: Naziv blaga | D30: Lastnost 1 | E30: Lastnost 2 | F30: Lastnost 3 | G30: Lastnost 4 | H30: EM | I30: Količina | J30: Št. vzorcev | K30: Var. | L30: Veljavna cena brez DDV | M30: Popust | N30: Stopnja DDV | O30: Cena brez DDV | P30: Cena z DDV | Q30: Vrednost brez DDV | R30: Vrednost z DDV | S30: Proizvajalec | T30: Ponudnikov naziv blaga | U30: EAN | V30: Kataloška številka | W30: Opomba
B31: 1 | C31: Set IZPIRANJE za koleno za enkratno uporabo | H31: KPL | I31: 720 | K31: 1 | O31: =ROUND(ROUND(L31,4)*(1-M31),4) -> 0 | P31: =ROUND(ROUND(O31,4)*(1+N31),4) -> 0 | Q31: =ROUND($I31*O31,4) -> 0 | R31: =ROUND($I31*P31,4) -> 0
B32: 2 | C32: Set IZPIRANJE za kolk za enkratno uporabo | H32: KPL | I32: 40 | K32: 1 | O32: =ROUND(ROUND(L32,4)*(1-M32),4) -> 0 | P32: =ROUND(ROUND(O32,4)*(1+N32),4) -> 0 | Q32: =ROUND($I32*O32,4) -> 0 | R32: =ROUND($I32*P32,4) -> 0
P33: Skupaj: | Q33: =SUM(Q31:Q32) -> 0 | R33: =SUM(R31:R32) -> 0
A36: * | B36: 4. | C36: podsklop: SISTEM ZA LAVAŽO S CO2 | H36: ZAPRT | L36: SISTEM ZA LAVAŽO S CO2
A37: EOB | B37: Zap. št. | C37: Naziv blaga | D37: Lastnost 1 | E37: Lastnost 2 | F37: Lastnost 3 | G37: Lastnost 4 | H37: EM | I37: Količina | J37: Št. vzorcev | K37: Var. | L37: Veljavna cena brez DDV | M37: Popust | N37: Stopnja DDV | O37: Cena brez DDV | P37: Cena z DDV | Q37: Vrednost brez DDV | R37: Vrednost z DDV | S37: Proizvajalec | T37: Ponudnikov naziv blaga | U37: EAN | V37: Kataloška številka | W37: Opomba
B38: 1 | C38: SISTEM ZA LAVAŽO S CO2 | D38: Sistem cevi za enkratno uporabo s filtrom, ki omogoča čiščenje kosti s CO2 pred cementiranjem. | E38: Morebiten dodaten inštrumentarij mora ponudnik dati na uporabo brezplačno | H38: KOS | I38: 1 | K38: 1 | O38: =ROUND(ROUND(L38,4)*(1-M38),4) -> 0 | P38: =ROUND(ROUND(O38,4)*(1+N38),4) -> 0 | Q38: =ROUND($I38*O38,4) -> 0 | R38: =ROUND($I38*P38,4) -> 0
P39: Skupaj: | Q39: =SUM(Q38:Q38) -> 0 | R39: =SUM(R38:R38) -> 0
