Workbook

Sheet NAVODILA
B4: NAVODILA ZA IZPOLNITEV PREDRAČUNA – SEZNAMA RAZPISANEGA BLAGA (OBR-8a)
B6: 1. Ponudnik mora Predračun - Seznama razpisanega blaga (OBR – 8a) izpolniti, natisniti in natisnjeni izvod podpisati in žigosati.
B8: 2. Ponudnik k ponudbi predloži Predračun - Seznam razpisanega blaga (lastni natis izpolnjenega predračuna iz OBR-8a) v pisni in obvezno tudi v elektronski obliki - na CD-ju ali USB ključku (v primeru enostavnega postopka ob elektronski oddaji ponudbe ponudniki dajo xls. datoteko in scan natisnjene verzije - pdf datoteko kot priponko k elektronski ponudbi).
B10: 3. Ponudnik mora v »Predračun - Seznam razpisanega blaga« (exelova datoteka) pri vrstah blaga, ki jih ponuja (v polja obarvana z rumeno barvo) obvezno vpisati naslednje podatke:
B12: Opcija 1:
B13: o veljavna cena brez DDV/EM
B14: o popust (stopnja fiksnega popusta)
B15: o stopnjo DDV
B16: o proizvajalca ponujenega blaga / izvajalca storitve
B17: o ponudnikov naziv blaga / storitve
B18: o EAN kodo ponujenega blaga / storitve (če jo ima)
B19: o kataloško številko ponujenega blaga / storitve (če jo ima)
... B46: o cena brez DDV mora vsebovati vse stroške, popuste, rabate.

Sheet 1. Podatki naročnika
B4: Podatki naročnika
B5: Naročnik: | C5: Splošna bolnišnica Novo mesto
B6: JN št.: | C6: 16-18/17
B7: Predmet JN: | C7: ORTOPEDSKE ENDOPROTEZE
B8: Obdobje priznane sposobnosti in usposobljenosti:
B9: Obdobje JN:
B10: Vrsta postopka JN: | C10: odprti postopek
B11: Okvirni sporazumi: | C11: Ne
B12: Vrsta predmeta JN: | C12: BLAGO
B13: Status:
B15: Aplikacija Javna naročila, različica 2.3.4

Sheet 2. Podatki o ponudniku
B4: Podatki o ponudniku
B5: Naziv:
B6: Naslov:
B7: Identifikacijska številka za DDV:
B8: Telefon:
B9: Faks:
B10: Kontaktna oseba:
B11: Elektronski naslov:

Sheet 3. Strokovne zahteve naročnika
B4: Strokovne zahteve naročnika
B7: Kot je navedeno v Specifikaciji zahtev v Word datoteki razpisne dokumentacije.

Sheet Sklop I.
C4: Seznam razpisanega blaga za sklop:
B5: I. | C5: KOLČNE ENDOPROTEZE
C7: =IF('2. Podatki o ponudniku'!C5<>"","Naziv ponudnika: " & '2. Podatki o ponudniku'!C5,"")
C8: =IF('2. Podatki o ponudniku'!C7<>"","Identifikacijska številka za DDV: " & '2. Podatki o ponudniku'!C7,"")
A11: * | B11: 1. | C11: podsklop: KLINASTO OBLIKOVANA BREZCEMENTNA KOLČNA ENDOPROTEZA Z NAVOJNO PONVICO | H11: ZAPRT | L11: KLINASTO OBLIKOVANA BREZCEMENTNA KOLČNA ENDOPROTEZA Z NAVOJNO PONVICO
A12: EOB | B12: Zap. št. | C12: Naziv blaga | D12: Lastnost 1 | E12: Lastnost 2 | F12: Lastnost 3 | G12: Lastnost 4 | H12: EM | I12: Količina | J12: Št. vzorcev | K12: Var. | L12: Veljavna cena brez DDV | M12: Popust | N12: Stopnja DDV | O12: Cena brez DDV | P12: Cena z DDV | Q12: Vrednost brez DDV | R12: Vrednost z DDV | S12: Proizvajalec | T12: Ponudnikov naziv blaga | U12: EAN | V12: Kataloška številka | W12: Opomba
B13: 1 | C13: Kolk DEBLO brezcementno brez trohanternega krila pokrito s hidroksiapatitom, velikost 1-14 | E13: Glej teh.specifikacije | H13: KOS | I13: 15 | K13: 1 | O13: =ROUND(ROUND(L13,4)*(1-M13),4) -> 0 | P13: =ROUND(ROUND(O13,4)*(1+N13),4) -> 0 | Q13: =ROUND($I13*O13,4) -> 0 | R13: =ROUND($I13*P13,4) -> 0
B14: 2 | C14: Kolk GLAVA keramična, velikosti premera 28, 32, 36 in 40 mm; velikost S-XXL | D14: delta; konus 12/14; | H14: KOS | I14: 9 | K14: 1 | O14: =ROUND(ROUND(L14,4)*(1-M14),4) -> 0 | P14: =ROUND(ROUND(O14,4)*(1+N14),4) -> 0 | Q14: =ROUND($I14*O14,4) -> 0 | R14: =ROUND($I14*P14,4) -> 0
B15: 3 | C15: Kolk GLAVA kovinska, velikosti premera 22, 28, 32 in 36 mm; velikost S-XXL | D15: konus 12/14; iz materiala CoCrMo po ISO standardu 5832-4 | H15: KOS | I15: 1 | K15: 1 | O15: =ROUND(ROUND(L15,4)*(1-M15),4) -> 0 | P15: =ROUND(ROUND(O15,4)*(1+N15),4) -> 0 | Q15: =ROUND($I15*O15,4) -> 0 | R15: =ROUND($I15*P15,4) -> 0
B16: 4 | C16: Kolk PONVICA kovinska samorezna navojna; velikosti premera ponvice vsaj 37 -72 mm | E16: Glej teh.specifikacije | H16: KOS | I16: 1 | K16: 1 | O16: =ROUND(ROUND(L16,4)*(1-M16),4) -> 0 | P16: =ROUND(ROUND(O16,4)*(1+N16),4) -> 0 | Q16: =ROUND($I16*O16,4) -> 0 | R16: =ROUND($I16*P16,4) -> 0
B17: 5 | C17: Kolk VLOŽEK polietilenski v standardni izvedbi; velikosti premera 22 mm, 28 mm, 32 mm in 36mm | D17: iz cross-linked polietilena | H17: KOS | I17: 3 | K17: 1 | O17: =ROUND(ROUND(L17,4)*(1-M17),4) -> 0 | P17: =ROUND(ROUND(O17,4)*(1+N17),4) -> 0 | Q17: =ROUND($I17*O17,4) -> 0 | R17: =ROUND($I17*P17,4) -> 0
B18: 6 | C18: Kolk VLOŽEK polietilenski v antiluksacijski izvedbi; velikosti premera 22 mm, 28 mm, 32 mm in 36mm | D18: iz cross-linked polietilena | H18: KOS | I18: 1 | K18: 1 | O18: =ROUND(ROUND(L18,4)*(1-M18),4) -> 0 | P18: =ROUND(ROUND(O18,4)*(1+N18),4) -> 0 | Q18: =ROUND($I18*O18,4) -> 0 | R18: =ROUND($I18*P18,4) -> 0
P19: Skupaj: | Q19: =SUM(Q13:Q18) -> 0 | R19: =SUM(R13:R18) -> 0
A22: * | B22: 2. | C22: podsklop: KLINASTO OBLIKOVANA RAVNA BREZCEMENTNA KOLČNA ENDOPROTEZA Z HIDROKSIAPATITOM ZA MINIMALNO INVAZIVEN ANTERIORNI KIRURŠKI PRISTOP | H22: ZAPRT | L22: KLINASTO OBLIKOVANA RAVNA BREZCEMENTNA KOLČNA ENDOPROTEZA Z HIDROKSIAPATITOM ZA MINIMALNO INVAZIVEN ANTERIORNI KIRURŠKI PRISTOP
A23: EOB | B23: Zap. št. | C23: Naziv blaga | D23: Lastnost 1 | E23: Lastnost 2 | F23: Lastnost 3 | G23: Lastnost 4 | H23: EM | I23: Količina | J23: Št. vzorcev | K23: Var. | L23: Veljavna cena brez DDV | M23: Popust | N23: Stopnja DDV | O23: Cena brez DDV | P23: Cena z DDV | Q23: Vrednost brez DDV | R23: Vrednost z DDV | S23: Proizvajalec | T23: Ponudnikov naziv blaga | U23: EAN | V23: Kataloška številka | W23: Opomba
B24: 1 | C24: Kolk DEBLO brezcem 1 - vratni kot (CCD) 134-136 st. | H24: KOS | I24: 170 | K24: 1 | O24: =ROUND(ROUND(L24,4)*(1-M24),4) -> 0 | P24: =ROUND(ROUND(O24,4)*(1+N24),4) -> 0 | Q24: =ROUND($I24*O24,4) -> 0 | R24: =ROUND($I24*P24,4) -> 0
B25: 2 | C25: Kolk DEBLO brezcem 2- z lateralizacijo-coxa vara (vratni kot (CCD) 123-126st. ) | H25: KOS | I25: 1 | K25: 1 | O25: =ROUND(ROUND(L25,4)*(1-M25),4) -> 0 | P25: =ROUND(ROUND(O25,4)*(1+N25),4) -> 0 | Q25: =ROUND($I25*O25,4) -> 0 | R25: =ROUND($I25*P25,4) -> 0
B26: 3 | C26: Kolk DEBLO brezcem 3, za displastične kolke | D26: velikosti K6S in velikost z možnostjo antiverzije K6A | H26: KOS | I26: 1 | K26: 1 | O26: =ROUND(ROUND(L26,4)*(1-M26),4) -> 0 | P26: =ROUND(ROUND(O26,4)*(1+N26),4) -> 0 | Q26: =ROUND($I26*O26,4) -> 0 | R26: =ROUND($I26*P26,4) -> 0
B27: 4 | C27: Kolk DEBLO brezcem 4, z lateralizacijo-high offset;vratni kot (CCD) 134-136 st. | H27: KOS | I27: 130 | K27: 1 | O27: =ROUND(ROUND(L27,4)*(1-M27),4) -> 0 | P27: =ROUND(ROUND(O27,4)*(1+N27),4) -> 0 | Q27: =ROUND($I27*O27,4) -> 0 | R27: =ROUND($I27*P27,4) -> 0
B28: 5 | C28: Kolk DEBLO brezcem 5, za revizijo | D28: podaljšek primarnega debla z M/L in A/P zarezo v distalnem delu | H28: KOS | I28: 1 | K28: 1 | O28: =ROUND(ROUND(L28,4)*(1-M28),4) -> 0 | P28: =ROUND(ROUND(O28,4)*(1+N28),4) -> 0 | Q28: =ROUND($I28*O28,4) -> 0 | R28: =ROUND($I28*P28,4) -> 0
B29: 6 | C29: Kolk DEBLO brezcem 6 - kratko | D29: Vsaj 12 velikosti, konus 12/14. | E29: Glej teh.specifikacije | H29: KOS | I29: 75 | K29: 1 | O29: =ROUND(ROUND(L29,4)*(1-M29),4) -> 0 | P29: =ROUND(ROUND(O29,4)*(1+N29),4) -> 0 | Q29: =ROUND($I29*O29,4) -> 0 | R29: =ROUND($I29*P29,4) -> 0
B30: 7 | C30: Kolk GLAVA keramična; premera 28 mm, 32mm in 36 mm | D30: Delta | H30: KOS | I30: 300 | K30: 1 | O30: =ROUND(ROUND(L30,4)*(1-M30),4) -> 0 | P30: =ROUND(ROUND(O30,4)*(1+N30),4) -> 0 | Q30: =ROUND($I30*O30,4) -> 0 | R30: =ROUND($I30*P30,4) -> 0
B31: 8 | C31: Kolk GLAVA kovinska; premera 28 mm, 32mm in 36mm; vsaj 4 dolžine | D31: iz materiala CoCr | H31: KOS | I31: 18 | K31: 1 | O31: =ROUND(ROUND(L31,4)*(1-M31),4) -> 0 | P31: =ROUND(ROUND(O31,4)*(1+N31),4) -> 0 | Q31: =ROUND($I31*O31,4) -> 0 | R31: =ROUND($I31*P31,4) -> 0
B32: 9 | C32: Kolk PONVICA kovinska s press fit zunanjim delom; v 10 različnih velikosti | E32: Glej teh.specifikacije | H32: KOS | I32: 340 | K32: 1 | O32: =ROUND(ROUND(L32,4)*(1-M32),4) -> 0 | P32: =ROUND(ROUND(O32,4)*(1+N32),4) -> 0 | Q32: =ROUND($I32*O32,4) -> 0 | R32: =ROUND($I32*P32,4) -> 0
B33: 10 | C33: Kolk PONVICA kovinska tip 2 | E33: Glej teh.specifikacije | H33: KOS | I33: 40 | K33: 1 | O33: =ROUND(ROUND(L33,4)*(1-M33),4) -> 0 | P33: =ROUND(ROUND(O33,4)*(1+N33),4) -> 0 | Q33: =ROUND($I33*O33,4) -> 0 | R33: =ROUND($I33*P33,4) -> 0
B34: 11 | C34: Kolk VLOŽEK polietilenski v standardni izvedbi; velikosti za 28, 32 in 36mm glavo; | D34: na razpolago v vsaj 10 različnih velikostih (premer od 48mm do 66mm); iz materiala uhmwpe (cross linked) | H34: KOS | I34: 170 | K34: 1 | O34: =ROUND(ROUND(L34,4)*(1-M34),4) -> 0 | P34: =ROUND(ROUND(O34,4)*(1+N34),4) -> 0 | Q34: =ROUND($I34*O34,4) -> 0 | R34: =ROUND($I34*P34,4) -> 0
B35: 12 | C35: Kolk VLOŽEK polietilenski v antiluksacijski izvedbi; velikosti za 28, 32 in 36mm glavo | D35: na razpolago v vsaj 10 različnih velikostih (premer od 48mm do 66mm); iz materiala uhmwpe ( cross linked) | H35: KOS | I35: 1 | K35: 1 | O35: =ROUND(ROUND(L35,4)*(1-M35),4) -> 0 | P35: =ROUND(ROUND(O35,4)*(1+N35),4) -> 0 | Q35: =ROUND($I35*O35,4) -> 0 | R35: =ROUND($I35*P35,4) -> 0
B36: 13 | C36: Kolk VLOŽEK keramični; velikosti za 28, 32, 36, 40 in 44mm glavo | D36: na razpolago v vsaj 10 različnih velikostih (premer od 48mm do 66mm); biolox delta | H36: KOS | I36: 210 | K36: 1 | O36: =ROUND(ROUND(L36,4)*(1-M36),4) -> 0 | P36: =ROUND(ROUND(O36,4)*(1+N36),4) -> 0 | Q36: =ROUND($I36*O36,4) -> 0 | R36: =ROUND($I36*P36,4) -> 0
B37: 14 | C37: Kolk VLOŽEK kovinski; velikosti za 36 mm glavo | D37: na razpolago v vsaj 10 različnih velikostih (premer od 48mm do 66mm); Co Cr z visoko vsebnostjo karbona | H37: KOS | I37: 1 | K37: 1 | O37: =ROUND(ROUND(L37,4)*(1-M37),4) -> 0 | P37: =ROUND(ROUND(O37,4)*(1+N37),4) -> 0 | Q37: =ROUND($I37*O37,4) -> 0 | R37: =ROUND($I37*P37,4) -> 0
B38: 15 | C38: Kolk VLOŽEK polietilenski, velikost 28,32 in 36 mm glavo | D38: obdelan v pogojih visoke radiacije >5Mrad | H38: KOS | I38: 1 | K38: 1 | O38: =ROUND(ROUND(L38,4)*(1-M38),4) -> 0 | P38: =ROUND(ROUND(O38,4)*(1+N38),4) -> 0 | Q38: =ROUND($I38*O38,4) -> 0 | R38: =ROUND($I38*P38,4) -> 0
B39: 16 | C39: Kolk ZAMAŠEK za dno acetabularne ponvice | D39: Univerzalen, za vse velikosti acetabularnih ponvic. | H39: KOS | I39: 360 | K39: 1 | O39: =ROUND(ROUND(L39,4)*(1-M39),4) -> 0 | P39: =ROUND(ROUND(O39,4)*(1+N39),4) -> 0 | Q39: =ROUND($I39*O39,4) -> 0 | R39: =ROUND($I39*P39,4) -> 0
P40: Skupaj: | Q40: =SUM(Q24:Q39) -> 0 | R40: =SUM(R24:R39) -> 0
A43: * | B43: 3. | C43: podsklop: CEMENTNA IN BREZCEMENTNA DVOJNO MOBILNA KOLČNA ENDOPROTEZA | H43: ZAPRT | L43: CEMENTNA IN BREZCEMENTNA DVOJNO MOBILNA KOLČNA ENDOPROTEZA
A44: EOB | B44: Zap. št. | C44: Naziv blaga | D44: Lastnost 1 | E44: Lastnost 2 | F44: Lastnost 3 | G44: Lastnost 4 | H44: EM | I44: Količina | J44: Št. vzorcev | K44: Var. | L44: Veljavna cena brez DDV | M44: Popust | N44: Stopnja DDV | O44: Cena brez DDV | P44: Cena z DDV | Q44: Vrednost brez DDV | R44: Vrednost z DDV | S44: Proizvajalec | T44: Ponudnikov naziv blaga | U44: EAN | V44: Kataloška številka | W44: Opomba
B45: 1 | C45: Kolk DEBLO 1; leva in desna izvedba; vsaj 9 velikosti | E45: Glej teh. specifikacije | H45: KOS | I45: 120 | K45: 1 | O45: =ROUND(ROUND(L45,4)*(1-M45),4) -> 0 | P45: =ROUND(ROUND(O45,4)*(1+N45),4) -> 0 | Q45: =ROUND($I45*O45,4) -> 0 | R45: =ROUND($I45*P45,4) -> 0
B46: 2 | C46: Kolk DEBLO 2; leva in desna izvedba; vsaj 9 velikosti | E46: Glej teh. specifikacije | H46: KOS | I46: 450 | K46: 1 | O46: =ROUND(ROUND(L46,4)*(1-M46),4) -> 0 | P46: =ROUND(ROUND(O46,4)*(1+N46),4) -> 0 | Q46: =ROUND($I46*O46,4) -> 0 | R46: =ROUND($I46*P46,4) -> 0
B47: 3 | C47: Kolk GLAVA kovinska; premera 22,5, 28, 32 in 36 | D47: vsaj 3 velikosti; iz materiala CoCr | H47: KOS | I47: 393 | K47: 1 | O47: =ROUND(ROUND(L47,4)*(1-M47),4) -> 0 | P47: =ROUND(ROUND(O47,4)*(1+N47),4) -> 0 | Q47: =ROUND($I47*O47,4) -> 0 | R47: =ROUND($I47*P47,4) -> 0
B48: 4 | C48: Kolk PONVICA 1; velikost 44-60 mm | E48: Glej teh. specifikacije | H48: KOS | I48: 42 | K48: 1 | O48: =ROUND(ROUND(L48,4)*(1-M48),4) -> 0 | P48: =ROUND(ROUND(O48,4)*(1+N48),4) -> 0 | Q48: =ROUND($I48*O48,4) -> 0 | R48: =ROUND($I48*P48,4) -> 0
B49: 5 | C49: Kolk PONVICA 2; velikost 44 - 60 mm | E49: Glej teh. specifikacije | H49: KOS | I49: 312 | K49: 1 | O49: =ROUND(ROUND(L49,4)*(1-M49),4) -> 0 | P49: =ROUND(ROUND(O49,4)*(1+N49),4) -> 0 | Q49: =ROUND($I49*O49,4) -> 0 | R49: =ROUND($I49*P49,4) -> 0
B50: 6 | C50: Kolk VLOŽEK polietilenski; velikost notranjega premera: 22,5 mm za zunanji premer od 44 do 48 mm in 28 mm za zunanji premer od 50 do 60 mm | D50: izdelan iz kompresijsko oblikovanega ultra visoko molekularnega polietilena, ki je steriliziran v inertnem argonu | H50: KOS | I50: 282 | K50: 1 | O50: =ROUND(ROUND(L50,4)*(1-M50),4) -> 0 | P50: =ROUND(ROUND(O50,4)*(1+N50),4) -> 0 | Q50: =ROUND($I50*O50,4) -> 0 | R50: =ROUND($I50*P50,4) -> 0
...

Sheet Sklop II.
C4: Seznam razpisanega blaga za sklop:
B5: II. | C5: KOLENSKE ENDOPROTEZE
C7: =IF('2. Podatki o ponudniku'!C5<>"","Naziv ponudnika: " & '2. Podatki o ponudniku'!C5,"")
C8: =IF('2. Podatki o ponudniku'!C7<>"","Identifikacijska številka za DDV: " & '2. Podatki o ponudniku'!C7,"")
A11: * | B11: 1. | C11: podsklop: KOLENSKA ENDOPROTEZA, modularna, anatomska, totalna (cementna, brezcementna) in revizijska | H11: ZAPRT | L11: KOLENSKA ENDOPROTEZA, modularna, anatomska, totalna (cementna, brezcementna) in revizijska
A12: EOB | B12: Zap. št. | C12: Naziv blaga | D12: Lastnost 1 | E12: Lastnost 2 | F12: Lastnost 3 | G12: Lastnost 4 | H12: EM | I12: Količina | J12: Št. vzorcev | K12: Var. | L12: Veljavna cena brez DDV | M12: Popust | N12: Stopnja DDV | O12: Cena brez DDV | P12: Cena z DDV | Q12: Vrednost brez DDV | R12: Vrednost z DDV | S12: Proizvajalec | T12: Ponudnikov naziv blaga | U12: EAN | V12: Kataloška številka | W12: Opomba
B13: 1 | C13: Koleno FEMUR del za OHR, cementna izvedba, vsaj 10 velikosti | D13: Glej teh. specifikacije | H13: KOS | I13: 84 | K13: 1 | O13: =ROUND(ROUND(L13,4)*(1-M13),4) -> 0 | P13: =ROUND(ROUND(O13,4)*(1+N13),4) -> 0 | Q13: =ROUND($I13*O13,4) -> 0 | R13: =ROUND($I13*P13,4) -> 0
B14: 2 | C14: Koleno FEMUR del za OHR, brezcementna izvedba, vsaj 10 velikosti | D14: Glej teh. specifikacije | H14: KOS | I14: 78 | K14: 1 | O14: =ROUND(ROUND(L14,4)*(1-M14),4) -> 0 | P14: =ROUND(ROUND(O14,4)*(1+N14),4) -> 0 | Q14: =ROUND($I14*O14,4) -> 0 | R14: =ROUND($I14*P14,4) -> 0
B15: 3 | C15: Koleno FEMUR del za žrtvovanje zadnje križne vezi za cementno izvedbo, vsaj 10 velikosti | D15: Glej teh. specifikacije | H15: KOS | I15: 201 | K15: 1 | O15: =ROUND(ROUND(L15,4)*(1-M15),4) -> 0 | P15: =ROUND(ROUND(O15,4)*(1+N15),4) -> 0 | Q15: =ROUND($I15*O15,4) -> 0 | R15: =ROUND($I15*P15,4) -> 0
B16: 4 | C16: Koleno FEMUR del za žrtvovanje zadnje križne vezi za brezcementno izvedbo, vsaj 10 velikosti | D16: Glej teh. specifikacije | H16: KOS | I16: 114 | K16: 1 | O16: =ROUND(ROUND(L16,4)*(1-M16),4) -> 0 | P16: =ROUND(ROUND(O16,4)*(1+N16),4) -> 0 | Q16: =ROUND($I16*O16,4) -> 0 | R16: =ROUND($I16*P16,4) -> 0
B17: 5 | C17: Koleno TIBIA del za fiksno tibialno površino, cementni, vsaj 7 velikosti | D17: Glej teh. specifikacije | H17: KOS | I17: 459 | K17: 1 | O17: =ROUND(ROUND(L17,4)*(1-M17),4) -> 0 | P17: =ROUND(ROUND(O17,4)*(1+N17),4) -> 0 | Q17: =ROUND($I17*O17,4) -> 0 | R17: =ROUND($I17*P17,4) -> 0
B18: 6 | C18: Koleno TIBIA del za fiksno tibialno površino, brezcementni, vsaj 9 velikosti | D18: Glej teh. specifikacije | H18: KOS | I18: 1 | K18: 1 | O18: =ROUND(ROUND(L18,4)*(1-M18),4) -> 0 | P18: =ROUND(ROUND(O18,4)*(1+N18),4) -> 0 | Q18: =ROUND($I18*O18,4) -> 0 | R18: =ROUND($I18*P18,4) -> 0
B19: 7 | C19: Koleno TIBIALNI del za ohranitev sprednje križne vezi | D19: Glej teh. specifikacije | H19: KOS | I19: 1 | K19: 1 | O19: =ROUND(ROUND(L19,4)*(1-M19),4) -> 0 | P19: =ROUND(ROUND(O19,4)*(1+N19),4) -> 0 | Q19: =ROUND($I19*O19,4) -> 0 | R19: =ROUND($I19*P19,4) -> 0
B20: 8 | C20: Koleno VLOŽEK TIBIA za ohranjanje zadnje križne vezi pri fiksni tibialni komponenti; debeline: min. od 10mm - 22mm; vsaj dve različni obliki | D20: Glej teh. specifikacije | H20: KOS | I20: 129 | K20: 1 | O20: =ROUND(ROUND(L20,4)*(1-M20),4) -> 0 | P20: =ROUND(ROUND(O20,4)*(1+N20),4) -> 0 | Q20: =ROUND($I20*O20,4) -> 0 | R20: =ROUND($I20*P20,4) -> 0
B21: 9 | C21: Koleno VLOŽEK TIBIA za ohranjanje zadnje križne vezi pri fiksni tibialni komponenti, z dodatkom α-tocopherola; debeline: min. od 10mm - 22mm; vsaj dve različni obliki | D21: Glej teh. specifikacije | H21: KOS | I21: 18 | K21: 1 | O21: =ROUND(ROUND(L21,4)*(1-M21),4) -> 0 | P21: =ROUND(ROUND(O21,4)*(1+N21),4) -> 0 | Q21: =ROUND($I21*O21,4) -> 0 | R21: =ROUND($I21*P21,4) -> 0
B22: 10 | C22: Koleno VLOŽEK TIBIA za žrtvovanje zadnje križne vezi pri fiksni tibialni komponenti; debeline: min. od 10mm - 22mm; vsaj dve različni obliki | D22: Glej teh. specifikacije | H22: KOS | I22: 294 | K22: 1 | O22: =ROUND(ROUND(L22,4)*(1-M22),4) -> 0 | P22: =ROUND(ROUND(O22,4)*(1+N22),4) -> 0 | Q22: =ROUND($I22*O22,4) -> 0 | R22: =ROUND($I22*P22,4) -> 0
B23: 11 | C23: Koleno VLOŽEK TIBIA za žrtvovanje zadnje križne vezi pri fiksni tibialni komponenti, z dodatkom α-tocopherola; debeline: min. od 10mm - 22mm; vsaj dve različni obliki | D23: Glej teh. specifikacije | H23: KOS | I23: 39 | K23: 1 | O23: =ROUND(ROUND(L23,4)*(1-M23),4) -> 0 | P23: =ROUND(ROUND(O23,4)*(1+N23),4) -> 0 | Q23: =ROUND($I23*O23,4) -> 0 | R23: =ROUND($I23*P23,4) -> 0
B24: 12 | C24: Koleno VLOŽEK TIBIA za varianto za ohranitev sprednje križne vezi; levi in desni | H24: KOS | I24: 1 | K24: 1 | O24: =ROUND(ROUND(L24,4)*(1-M24),4) -> 0 | P24: =ROUND(ROUND(O24,4)*(1+N24),4) -> 0 | Q24: =ROUND($I24*O24,4) -> 0 | R24: =ROUND($I24*P24,4) -> 0
B25: 13 | C25: Koleno ODLITEK tibialni | D25: Glej teh. specifikacije | H25: KOS | I25: 125 | K25: 1 | O25: =ROUND(ROUND(L25,4)*(1-M25),4) -> 0 | P25: =ROUND(ROUND(O25,4)*(1+N25),4) -> 0 | Q25: =ROUND($I25*O25,4) -> 0 | R25: =ROUND($I25*P25,4) -> 0
B26: 14 | C26: Koleno ODLITEK femoralni | D26: Glej teh. specifikacije | H26: KOS | I26: 1 | K26: 1 | O26: =ROUND(ROUND(L26,4)*(1-M26),4) -> 0 | P26: =ROUND(ROUND(O26,4)*(1+N26),4) -> 0 | Q26: =ROUND($I26*O26,4) -> 0 | R26: =ROUND($I26*P26,4) -> 0
B27: 15 | C27: Koleno PATELLA gumb, polietilenski, min 4 velikosti | H27: KOS | I27: 3 | K27: 1 | O27: =ROUND(ROUND(L27,4)*(1-M27),4) -> 0 | P27: =ROUND(ROUND(O27,4)*(1+N27),4) -> 0 | Q27: =ROUND($I27*O27,4) -> 0 | R27: =ROUND($I27*P27,4) -> 0
B28: 16 | C28: Koleno REVIZ FEMUR del za cementno izvedbo; min. 10 velikosti | D28: Glej teh. specifikacije | H28: KOS | I28: 15 | K28: 1 | O28: =ROUND(ROUND(L28,4)*(1-M28),4) -> 0 | P28: =ROUND(ROUND(O28,4)*(1+N28),4) -> 0 | Q28: =ROUND($I28*O28,4) -> 0 | R28: =ROUND($I28*P28,4) -> 0
B29: 17 | C29: Koleno VLOŽEK TIBIA revizijski, za žrtvovanje zadnje križne vezi pri fiksni tibialni komponenti, debeline min od 10 mm - 24 mm; vsaj 2 obliki | D29: Glej teh. specifikacije | H29: KOS | I29: 22 | K29: 1 | O29: =ROUND(ROUND(L29,4)*(1-M29),4) -> 0 | P29: =ROUND(ROUND(O29,4)*(1+N29),4) -> 0 | Q29: =ROUND($I29*O29,4) -> 0 | R29: =ROUND($I29*P29,4) -> 0
B30: 18 | C30: Koleno REVIZ del TIBIA za fiksno tibialno površino, cementni; min. 9 velikosti | D30: Glej teh. specifikacije | H30: KOS | I30: 36 | K30: 1 | O30: =ROUND(ROUND(L30,4)*(1-M30),4) -> 0 | P30: =ROUND(ROUND(O30,4)*(1+N30),4) -> 0 | Q30: =ROUND($I30*O30,4) -> 0 | R30: =ROUND($I30*P30,4) -> 0
B31: 19 | C31: Koleno DEBLO REVIZ tibialno in femoralno, min 6 velikosti | D31: omogočati mora vsaj od 10 mm do 20 mm debeline in od 12 cm do 24 cm dolžine v gladki, porozni in "spike" obliki | H31: KOS | I31: 56 | K31: 1 | O31: =ROUND(ROUND(L31,4)*(1-M31),4) -> 0 | P31: =ROUND(ROUND(O31,4)*(1+N31),4) -> 0 | Q31: =ROUND($I31*O31,4) -> 0 | R31: =ROUND($I31*P31,4) -> 0
B32: 20 | C32: Koleno PODLOŽKI TIBIA za dodatno fiksacijo tibije; min. 3 velikosti | H32: KOS | I32: 21 | K32: 1 | O32: =ROUND(ROUND(L32,4)*(1-M32),4) -> 0 | P32: =ROUND(ROUND(O32,4)*(1+N32),4) -> 0 | Q32: =ROUND($I32*O32,4) -> 0 | R32: =ROUND($I32*P32,4) -> 0
B33: 21 | C33: Koleno PODLOŽKI FEMUR za dodatno fiksacijo femoralnega dela, cementni; min. 3 velikosti | D33: Distalni in posteriorni podlozki za femoralni del | H33: KOS | I33: 1 | K33: 1 | O33: =ROUND(ROUND(L33,4)*(1-M33),4) -> 0 | P33: =ROUND(ROUND(O33,4)*(1+N33),4) -> 0 | Q33: =ROUND($I33*O33,4) -> 0 | R33: =ROUND($I33*P33,4) -> 0
B34: 22 | C34: ADAPTER OFFSET; min. 3 velikosti | D34: OFFSET Adapter za enostavno dolocanje offseta pri tibialnem in femoralnem stemu | H34: KOS | I34: 42 | K34: 1 | O34: =ROUND(ROUND(L34,4)*(1-M34),4) -> 0 | P34: =ROUND(ROUND(O34,4)*(1+N34),4) -> 0 | Q34: =ROUND($I34*O34,4) -> 0 | R34: =ROUND($I34*P34,4) -> 0
B35: 23 | C35: Koleno KRILA TIBIA za dodatno fiksacijo; vsaj 2 velikosti | H35: KOS | I35: 36 | K35: 1 | O35: =ROUND(ROUND(L35,4)*(1-M35),4) -> 0 | P35: =ROUND(ROUND(O35,4)*(1+N35),4) -> 0 | Q35: =ROUND($I35*O35,4) -> 0 | R35: =ROUND($I35*P35,4) -> 0
P36: Skupaj: | Q36: =SUM(Q13:Q35) -> 0 | R36: =SUM(R13:R35) -> 0
A39: * | B39: 2. | C39: podsklop: KOLENSKA UNIKONDILARNA ENDOPROTEZA -mobile bearing | H39: ZAPRT | L39: KOLENSKA UNIKONDILARNA ENDOPROTEZA -mobile bearing
A40: EOB | B40: Zap. št. | C40: Naziv blaga | D40: Lastnost 1 | E40: Lastnost 2 | F40: Lastnost 3 | G40: Lastnost 4 | H40: EM | I40: Količina | J40: Št. vzorcev | K40: Var. | L40: Veljavna cena brez DDV | M40: Popust | N40: Stopnja DDV | O40: Cena brez DDV | P40: Cena z DDV | Q40: Vrednost brez DDV | R40: Vrednost z DDV | S40: Proizvajalec | T40: Ponudnikov naziv blaga | U40: EAN | V40: Kataloška številka | W40: Opomba
B41: 1 | C41: Koleno UNIKOND FEMUR del, cementni; min. 4 velikosti | E41: Glej teh. specifikacije | H41: KOS | I41: 96 | K41: 1 | O41: =ROUND(ROUND(L41,4)*(1-M41),4) -> 0 | P41: =ROUND(ROUND(O41,4)*(1+N41),4) -> 0 | Q41: =ROUND($I41*O41,4) -> 0 | R41: =ROUND($I41*P41,4) -> 0
B42: 2 | C42: Koleno UNIKOND FEMUR del, brezcementni; vsaj 4 velikosti | H42: KOS | I42: 135 | K42: 1 | O42: =ROUND(ROUND(L42,4)*(1-M42),4) -> 0 | P42: =ROUND(ROUND(O42,4)*(1+N42),4) -> 0 | Q42: =ROUND($I42*O42,4) -> 0 | R42: =ROUND($I42*P42,4) -> 0
B43: 3 | C43: Koleno UNIKOND TIBIA del, cementni; vsaj 4 velikosti | E43: Glej teh. specifikacije | H43: KOS | I43: 36 | K43: 1 | O43: =ROUND(ROUND(L43,4)*(1-M43),4) -> 0 | P43: =ROUND(ROUND(O43,4)*(1+N43),4) -> 0 | Q43: =ROUND($I43*O43,4) -> 0 | R43: =ROUND($I43*P43,4) -> 0
B44: 4 | C44: Koleno UNIKOND TIBIA del, brezcement; leva in desna izvedba; min. 6 velikosti za vsako izvedbo | D44: Pokrit mora biti s hidroksiapatitom. | H44: KOS | I44: 171 | K44: 1 | O44: =ROUND(ROUND(L44,4)*(1-M44),4) -> 0 | P44: =ROUND(ROUND(O44,4)*(1+N44),4) -> 0 | Q44: =ROUND($I44*O44,4) -> 0 | R44: =ROUND($I44*P44,4) -> 0
B45: 5 | C45: Koleno VLOŽEK MENISKUS; leva in desna izvedba | D45: Min. v 4 velikostih, vsaka velikost vložka naj ima vsaj 7 debelin. Najmanjša debelina naj bo največ 3mm. | E45: Glej teh. specifikacije | H45: KOS | I45: 240 | K45: 1 | O45: =ROUND(ROUND(L45,4)*(1-M45),4) -> 0 | P45: =ROUND(ROUND(O45,4)*(1+N45),4) -> 0 | Q45: =ROUND($I45*O45,4) -> 0 | R45: =ROUND($I45*P45,4) -> 0
P46: Skupaj: | Q46: =SUM(Q41:Q45) -> 0 | R46: =SUM(R41:R45) -> 0
A49: * | B49: 3. | C49: podsklop: TOTALNA KOLENSKA ENDOPROTEZA (cementna) | H49: ZAPRT | L49: TOTALNA KOLENSKA ENDOPROTEZA (cementna)
A50: EOB | B50: Zap. št. | C50: Naziv blaga | D50: Lastnost 1 | E50: Lastnost 2 | F50: Lastnost 3 | G50: Lastnost 4 | H50: EM | I50: Količina | J50: Št. vzorcev | K50: Var. | L50: Veljavna cena brez DDV | M50: Popust | N50: Stopnja DDV | O50: Cena brez DDV | P50: Cena z DDV | Q50: Vrednost brez DDV | R50: Vrednost z DDV | S50: Proizvajalec | T50: Ponudnikov naziv blaga | U50: EAN | V50: Kataloška številka | W50: Opomba
...

Sheet Sklop III.
C4: Seznam razpisanega blaga za sklop:
B5: III. | C5: Ramenska endoproteza - MODULARNI SISTEM
C7: =IF('2. Podatki o ponudniku'!C5<>"","Naziv ponudnika: " & '2. Podatki o ponudniku'!C5,"")
C8: =IF('2. Podatki o ponudniku'!C7<>"","Identifikacijska številka za DDV: " & '2. Podatki o ponudniku'!C7,"")
A11: * | B11: 1. | C11: podsklop: RAMENSKA ENDOPROTEZA (TOTALNA ALI PARCIALNA, CEMENTNA ALI BREZCEMENTNA, INERZNA ALI ANATOMSKA IN REVIZIJSKE ) | H11: ZAPRT | L11: RAMENSKA ENDOPROTEZA (TOTALNA ALI PARCIALNA, CEMENTNA ALI BREZCEMENTNA, INERZNA ALI ANATOMSKA IN REVIZIJSKE )
A12: EOB | B12: Zap. št. | C12: Naziv blaga | D12: Lastnost 1 | E12: Lastnost 2 | F12: Lastnost 3 | G12: Lastnost 4 | H12: EM | I12: Količina | J12: Št. vzorcev | K12: Var. | L12: Veljavna cena brez DDV | M12: Popust | N12: Stopnja DDV | O12: Cena brez DDV | P12: Cena z DDV | Q12: Vrednost brez DDV | R12: Vrednost z DDV | S12: Proizvajalec | T12: Ponudnikov naziv blaga | U12: EAN | V12: Kataloška številka | W12: Opomba
B13: 1 | C13: Rame TELO humeralno anatomsko travma | D13: Na voljo mora biti tudi inštrumentarij za primer revizije implantata | E13: Glej teh. specifikacije | H13: KOS | I13: 10 | K13: 1 | O13: =ROUND(ROUND(L13,4)*(1-M13),4) -> 0 | P13: =ROUND(ROUND(O13,4)*(1+N13),4) -> 0 | Q13: =ROUND($I13*O13,4) -> 0 | R13: =ROUND($I13*P13,4) -> 0
B14: 2 | C14: Rame TELO humeralno anatomsko narebreno | D14: Na voljo mora biti tudi inštrumentarij za primer revizije implantata | E14: Glej teh. specifikacije | H14: KOS | I14: 5 | K14: 1 | O14: =ROUND(ROUND(L14,4)*(1-M14),4) -> 0 | P14: =ROUND(ROUND(O14,4)*(1+N14),4) -> 0 | Q14: =ROUND($I14*O14,4) -> 0 | R14: =ROUND($I14*P14,4) -> 0
B15: 3 | C15: Rame TELO humeralno reverzno | D15: Na voljo mora biti tudi inštrumentarij za primer revizije implantata | E15: Glej teh. specifikacije | H15: KOS | I15: 5 | K15: 1 | O15: =ROUND(ROUND(L15,4)*(1-M15),4) -> 0 | P15: =ROUND(ROUND(O15,4)*(1+N15),4) -> 0 | Q15: =ROUND($I15*O15,4) -> 0 | R15: =ROUND($I15*P15,4) -> 0
B16: 4 | C16: Rame DEBLO humeralno cementno standardno | D16: Na voljo mora biti tudi inštrumentarij za primer revizije implantata | E16: Glej teh. specifikacije | H16: KOS | I16: 10 | K16: 1 | O16: =ROUND(ROUND(L16,4)*(1-M16),4) -> 0 | P16: =ROUND(ROUND(O16,4)*(1+N16),4) -> 0 | Q16: =ROUND($I16*O16,4) -> 0 | R16: =ROUND($I16*P16,4) -> 0
B17: 5 | C17: Rame DEBLO humeralno brezcementno | D17: Na voljo mora biti tudi inštrumentarij za primer revizije implantata | E17: Glej teh. specifikacije | H17: KOS | I17: 10 | K17: 1 | O17: =ROUND(ROUND(L17,4)*(1-M17),4) -> 0 | P17: =ROUND(ROUND(O17,4)*(1+N17),4) -> 0 | Q17: =ROUND($I17*O17,4) -> 0 | R17: =ROUND($I17*P17,4) -> 0
B18: 6 | C18: Rame DEBLO humeralno cementno dolgo (revizijsko) | D18: Na voljo mora biti tudi inštrumentarij za primer revizije implantata | E18: Glej teh. specifikacije | H18: KOS | I18: 1 | K18: 1 | O18: =ROUND(ROUND(L18,4)*(1-M18),4) -> 0 | P18: =ROUND(ROUND(O18,4)*(1+N18),4) -> 0 | Q18: =ROUND($I18*O18,4) -> 0 | R18: =ROUND($I18*P18,4) -> 0
B19: 7 | C19: Rame DEBLO humeralno brezcementno dolgo (revizijsko) | D19: Na voljo mora biti tudi inštrumentarij za primer revizije implantata | E19: Glej teh. specifikacije | H19: KOS | I19: 1 | K19: 1 | O19: =ROUND(ROUND(L19,4)*(1-M19),4) -> 0 | P19: =ROUND(ROUND(O19,4)*(1+N19),4) -> 0 | Q19: =ROUND($I19*O19,4) -> 0 | R19: =ROUND($I19*P19,4) -> 0
B20: 8 | C20: Rame PODALJŠEK humeralni | E20: Glej teh. specifikacije | H20: KOS | I20: 5 | K20: 1 | O20: =ROUND(ROUND(L20,4)*(1-M20),4) -> 0 | P20: =ROUND(ROUND(O20,4)*(1+N20),4) -> 0 | Q20: =ROUND($I20*O20,4) -> 0 | R20: =ROUND($I20*P20,4) -> 0
B21: 9 | C21: Rame GLAVA humeralna | E21: Glej teh. specifikacije | H21: KOS | I21: 10 | K21: 1 | O21: =ROUND(ROUND(L21,4)*(1-M21),4) -> 0 | P21: =ROUND(ROUND(O21,4)*(1+N21),4) -> 0 | Q21: =ROUND($I21*O21,4) -> 0 | R21: =ROUND($I21*P21,4) -> 0
B22: 10 | C22: Rame GLAVA CTA (cuff tear arthropathy) | E22: Glej teh. specifikacije | H22: KOS | I22: 2 | K22: 1 | O22: =ROUND(ROUND(L22,4)*(1-M22),4) -> 0 | P22: =ROUND(ROUND(O22,4)*(1+N22),4) -> 0 | Q22: =ROUND($I22*O22,4) -> 0 | R22: =ROUND($I22*P22,4) -> 0
B23: 11 | C23: Rame ADAPTER nevtralni za glave humeralne | E23: Glej teh. specifikacije | H23: KOS | I23: 6 | K23: 1 | O23: =ROUND(ROUND(L23,4)*(1-M23),4) -> 0 | P23: =ROUND(ROUND(O23,4)*(1+N23),4) -> 0 | Q23: =ROUND($I23*O23,4) -> 0 | R23: =ROUND($I23*P23,4) -> 0
B24: 12 | C24: Rame ADAPTER ekscentrični za glave humeralne | E24: Glej teh. specifikacije | H24: KOS | I24: 4 | K24: 1 | O24: =ROUND(ROUND(L24,4)*(1-M24),4) -> 0 | P24: =ROUND(ROUND(O24,4)*(1+N24),4) -> 0 | Q24: =ROUND($I24*O24,4) -> 0 | R24: =ROUND($I24*P24,4) -> 0
B25: 13 | C25: Rame ADAPTER glave CTA za humeralno reverzno deblo | E25: Glej teh. specifikacije | H25: KOS | I25: 2 | K25: 1 | O25: =ROUND(ROUND(L25,4)*(1-M25),4) -> 0 | P25: =ROUND(ROUND(O25,4)*(1+N25),4) -> 0 | Q25: =ROUND($I25*O25,4) -> 0 | R25: =ROUND($I25*P25,4) -> 0
B26: 14 | C26: Rame VLOŽEK polietilenski za humeralno reverzno deblo | D26: X-UHMWPE | E26: Glej teh. specifikacije | H26: KOS | I26: 5 | K26: 1 | O26: =ROUND(ROUND(L26,4)*(1-M26),4) -> 0 | P26: =ROUND(ROUND(O26,4)*(1+N26),4) -> 0 | Q26: =ROUND($I26*O26,4) -> 0 | R26: =ROUND($I26*P26,4) -> 0
B27: 15 | C27: Rame VLOŽEK kovinski standardni za humeralno reverzno deblo | E27: Glej teh. specifikacije | H27: KOS | I27: 3 | K27: 1 | O27: =ROUND(ROUND(L27,4)*(1-M27),4) -> 0 | P27: =ROUND(ROUND(O27,4)*(1+N27),4) -> 0 | Q27: =ROUND($I27*O27,4) -> 0 | R27: =ROUND($I27*P27,4) -> 0
B28: 16 | C28: Rame VLOŽEK kovinski lateralizirani za humeralno reverzno deblo | E28: Glej teh. specifikacije | H28: KOS | I28: 2 | K28: 1 | O28: =ROUND(ROUND(L28,4)*(1-M28),4) -> 0 | P28: =ROUND(ROUND(O28,4)*(1+N28),4) -> 0 | Q28: =ROUND($I28*O28,4) -> 0 | R28: =ROUND($I28*P28,4) -> 0
B29: 17 | C29: Rame GLENOSFERA kovinska premer 36 mm s konektorjem | E29: Glej teh. specifikacije | H29: KOS | I29: 5 | K29: 1 | O29: =ROUND(ROUND(L29,4)*(1-M29),4) -> 0 | P29: =ROUND(ROUND(O29,4)*(1+N29),4) -> 0 | Q29: =ROUND($I29*O29,4) -> 0 | R29: =ROUND($I29*P29,4) -> 0
B30: 18 | C30: Rame GLENOSFERA polietilenska premer 40 mm in 44 mm | D30: X-UHMWPE | E30: Glej teh. specifikacije | H30: KOS | I30: 5 | K30: 1 | O30: =ROUND(ROUND(L30,4)*(1-M30),4) -> 0 | P30: =ROUND(ROUND(O30,4)*(1+N30),4) -> 0 | Q30: =ROUND($I30*O30,4) -> 0 | R30: =ROUND($I30*P30,4) -> 0
B31: 19 | C31: Rame KONEKTOR z vijakom za polietilensko glenosfero | D31: X-UHMWPE | E31: Glej teh. specifikacije | H31: KOS | I31: 5 | K31: 1 | O31: =ROUND(ROUND(L31,4)*(1-M31),4) -> 0 | P31: =ROUND(ROUND(O31,4)*(1+N31),4) -> 0 | Q31: =ROUND($I31*O31,4) -> 0 | R31: =ROUND($I31*P31,4) -> 0
B32: 20 | C32: Rame GLENOID cementni | E32: Glej teh. specifikacije | H32: KOS | I32: 2 | K32: 1 | O32: =ROUND(ROUND(L32,4)*(1-M32),4) -> 0 | P32: =ROUND(ROUND(O32,4)*(1+N32),4) -> 0 | Q32: =ROUND($I32*O32,4) -> 0 | R32: =ROUND($I32*P32,4) -> 0
B33: 21 | C33: Rame GLENOID cementni s tremi zatiči | E33: Glej teh. specifikacije | H33: KOS | I33: 2 | K33: 1 | O33: =ROUND(ROUND(L33,4)*(1-M33),4) -> 0 | P33: =ROUND(ROUND(O33,4)*(1+N33),4) -> 0 | Q33: =ROUND($I33*O33,4) -> 0 | R33: =ROUND($I33*P33,4) -> 0
B34: 22 | C34: Rame GLENOID kovinski brezcementni | E34: Glej teh. specifikacije | H34: KOS | I34: 10 | K34: 1 | O34: =ROUND(ROUND(L34,4)*(1-M34),4) -> 0 | P34: =ROUND(ROUND(O34,4)*(1+N34),4) -> 0 | Q34: =ROUND($I34*O34,4) -> 0 | R34: =ROUND($I34*P34,4) -> 0
B35: 23 | C35: Rame GLENOID iz trabekularnega Ti brezcementni | E35: Glej teh. specifikacije | H35: KOS | I35: 2 | K35: 1 | O35: =ROUND(ROUND(L35,4)*(1-M35),4) -> 0 | P35: =ROUND(ROUND(O35,4)*(1+N35),4) -> 0 | Q35: =ROUND($I35*O35,4) -> 0 | R35: =ROUND($I35*P35,4) -> 0
B36: 24 | C36: Rame ZATIČ za brezcementni glenoid iz trabekularnega Ti | E36: Glej teh. specifikacije | H36: KOS | I36: 2 | K36: 1 | O36: =ROUND(ROUND(L36,4)*(1-M36),4) -> 0 | P36: =ROUND(ROUND(O36,4)*(1+N36),4) -> 0 | Q36: =ROUND($I36*O36,4) -> 0 | R36: =ROUND($I36*P36,4) -> 0
B37: 25 | C37: Rame VLOŽEK za kovinski glenoid | E37: Glej teh. specifikacije | H37: KOS | I37: 2 | K37: 1 | O37: =ROUND(ROUND(L37,4)*(1-M37),4) -> 0 | P37: =ROUND(ROUND(O37,4)*(1+N37),4) -> 0 | Q37: =ROUND($I37*O37,4) -> 0 | R37: =ROUND($I37*P37,4) -> 0
B38: 26 | C38: Rame VIJAK kostni za dodatno pričvrstitev brezcementnega glenoida | E38: Glej teh. specifikacije | H38: KOS | I38: 20 | K38: 1 | O38: =ROUND(ROUND(L38,4)*(1-M38),4) -> 0 | P38: =ROUND(ROUND(O38,4)*(1+N38),4) -> 0 | Q38: =ROUND($I38*O38,4) -> 0 | R38: =ROUND($I38*P38,4) -> 0
P39: Skupaj: | Q39: =SUM(Q13:Q38) -> 0 | R39: =SUM(R13:R38) -> 0

Sheet Sklop IV.
C4: Seznam razpisanega blaga za sklop:
B5: IV. | C5: ENDOPROTEZA KOMOLCA
C7: =IF('2. Podatki o ponudniku'!C5<>"","Naziv ponudnika: " & '2. Podatki o ponudniku'!C5,"")
C8: =IF('2. Podatki o ponudniku'!C7<>"","Identifikacijska številka za DDV: " & '2. Podatki o ponudniku'!C7,"")
A11: * | B11: 1. | C11: podsklop: ENDOPROTEZA KOMOLCA, anatomska | H11: ZAPRT | L11: ENDOPROTEZA KOMOLCA, anatomska
A12: EOB | B12: Zap. št. | C12: Naziv blaga | D12: Lastnost 1 | E12: Lastnost 2 | F12: Lastnost 3 | G12: Lastnost 4 | H12: EM | I12: Količina | J12: Št. vzorcev | K12: Var. | L12: Veljavna cena brez DDV | M12: Popust | N12: Stopnja DDV | O12: Cena brez DDV | P12: Cena z DDV | Q12: Vrednost brez DDV | R12: Vrednost z DDV | S12: Proizvajalec | T12: Ponudnikov naziv blaga | U12: EAN | V12: Kataloška številka | W12: Opomba
B13: 1 | C13: Komolec HUMERALNA KOMPONENTA anatomsko oblikovana; v levi in desni izvedbi; velikosti: majhna, srednja, velika | D13: deblo iz CoCr za cementno fiksacijo, presek debla kvadrangularen za kotno stabilnost, sprednje zakrilce za vstavljanje kostnega transplantata | H13: KOS | I13: 6 | K13: 1 | O13: =ROUND(ROUND(L13,4)*(1-M13),4) -> 0 | P13: =ROUND(ROUND(O13,4)*(1+N13),4) -> 0 | Q13: =ROUND($I13*O13,4) -> 0 | R13: =ROUND($I13*P13,4) -> 0
B14: 2 | C14: Komolec DEBLO standardno ulnarno; v levi in desni izvedbi; velikosti: majhna, srednja, velika | D14: Ulnarno deblo iz CoCr za cementno fiksacijo, oblikovano anatomsko | H14: KOS | I14: 6 | K14: 1 | O14: =ROUND(ROUND(L14,4)*(1-M14),4) -> 0 | P14: =ROUND(ROUND(O14,4)*(1+N14),4) -> 0 | Q14: =ROUND($I14*O14,4) -> 0 | R14: =ROUND($I14*P14,4) -> 0
B15: 3 | C15: Komolec ZATIČ ulnarni | D15: Ulnarni zatič za uporabo implantata v povezani obliki | H15: KOS | I15: 6 | K15: 1 | O15: =ROUND(ROUND(L15,4)*(1-M15),4) -> 0 | P15: =ROUND(ROUND(O15,4)*(1+N15),4) -> 0 | Q15: =ROUND($I15*O15,4) -> 0 | R15: =ROUND($I15*P15,4) -> 0
P16: Skupaj: | Q16: =SUM(Q13:Q15) -> 0 | R16: =SUM(R13:R15) -> 0

Sheet Sklop V.
C4: Seznam razpisanega blaga za sklop:
B5: V. | C5: PLOŠČE ZA PERIPROTETIČNE ZLOME STEGNENICE
C7: =IF('2. Podatki o ponudniku'!C5<>"","Naziv ponudnika: " & '2. Podatki o ponudniku'!C5,"")
C8: =IF('2. Podatki o ponudniku'!C7<>"","Identifikacijska številka za DDV: " & '2. Podatki o ponudniku'!C7,"")
A11: * | B11: 1. | C11: podsklop: PLOŠČE ZA PERIPROTETIČNE ZLOME STEGNENICE | H11: ZAPRT | L11: PLOŠČE ZA PERIPROTETIČNE ZLOME STEGNENICE
A12: EOB | B12: Zap. št. | C12: Naziv blaga | D12: Lastnost 1 | E12: Lastnost 2 | F12: Lastnost 3 | G12: Lastnost 4 | H12: EM | I12: Količina | J12: Št. vzorcev | K12: Var. | L12: Veljavna cena brez DDV | M12: Popust | N12: Stopnja DDV | O12: Cena brez DDV | P12: Cena z DDV | Q12: Vrednost brez DDV | R12: Vrednost z DDV | S12: Proizvajalec | T12: Ponudnikov naziv blaga | U12: EAN | V12: Kataloška številka | W12: Opomba
B13: 1 | C13: PLOŠČA PERIPROTETIČNA PROKSIMALNI FEMUR, 245MM, 9 LUKENJ, DESNA | D13: za zdravljene kompleksnih periprotetičnih zlomov | H13: KOS | I13: 1 | K13: 1 | O13: =ROUND(ROUND(L13,4)*(1-M13),4) -> 0 | P13: =ROUND(ROUND(O13,4)*(1+N13),4) -> 0 | Q13: =ROUND($I13*O13,4) -> 0 | R13: =ROUND($I13*P13,4) -> 0
B14: 2 | C14: PLOŠČA PERIPROTETIČNA PROKSIMALNI FEMUR, 285MM, 12 LUKENJ, DESNA | D14: za zdravljene kompleksnih periprotetičnih zlomov | H14: KOS | I14: 1 | K14: 1 | O14: =ROUND(ROUND(L14,4)*(1-M14),4) -> 0 | P14: =ROUND(ROUND(O14,4)*(1+N14),4) -> 0 | Q14: =ROUND($I14*O14,4) -> 0 | R14: =ROUND($I14*P14,4) -> 0
B15: 3 | C15: PLOŠČA PERIPROTETIČNA PROKSIMALNI FEMUR, 324MM, 15 LUKENJ, DESNA | D15: za zdravljene kompleksnih periprotetičnih zlomov | H15: KOS | I15: 1 | K15: 1 | O15: =ROUND(ROUND(L15,4)*(1-M15),4) -> 0 | P15: =ROUND(ROUND(O15,4)*(1+N15),4) -> 0 | Q15: =ROUND($I15*O15,4) -> 0 | R15: =ROUND($I15*P15,4) -> 0
B16: 4 | C16: PLOŠČA PERIPROTETIČNA PROKSIMALNI FEMUR, 363MM, 18 LUKENJ, DESNA | D16: za zdravljene kompleksnih periprotetičnih zlomov | H16: KOS | I16: 1 | K16: 1 | O16: =ROUND(ROUND(L16,4)*(1-M16),4) -> 0 | P16: =ROUND(ROUND(O16,4)*(1+N16),4) -> 0 | Q16: =ROUND($I16*O16,4) -> 0 | R16: =ROUND($I16*P16,4) -> 0
B17: 5 | C17: PLOŠČA PERIPROTETIČNA PROKSIMALNI FEMUR, 401MM, 21 LUKENJ, DESNA | D17: za zdravljene kompleksnih periprotetičnih zlomov | H17: KOS | I17: 1 | K17: 1 | O17: =ROUND(ROUND(L17,4)*(1-M17),4) -> 0 | P17: =ROUND(ROUND(O17,4)*(1+N17),4) -> 0 | Q17: =ROUND($I17*O17,4) -> 0 | R17: =ROUND($I17*P17,4) -> 0
B18: 6 | C18: PLOŠČA PERIPROTETIČNA PROKSIMALNI FEMUR, 245MM, 9 LUKENJ, LEVA | D18: za zdravljene kompleksnih periprotetičnih zlomov | H18: KOS | I18: 3 | K18: 1 | O18: =ROUND(ROUND(L18,4)*(1-M18),4) -> 0 | P18: =ROUND(ROUND(O18,4)*(1+N18),4) -> 0 | Q18: =ROUND($I18*O18,4) -> 0 | R18: =ROUND($I18*P18,4) -> 0
B19: 7 | C19: PLOŠČA PERIPROTETIČNA PROKSIMALNI FEMUR, 285MM, 12 LUKENJ, LEVA | D19: za zdravljene kompleksnih periprotetičnih zlomov | H19: KOS | I19: 1 | K19: 1 | O19: =ROUND(ROUND(L19,4)*(1-M19),4) -> 0 | P19: =ROUND(ROUND(O19,4)*(1+N19),4) -> 0 | Q19: =ROUND($I19*O19,4) -> 0 | R19: =ROUND($I19*P19,4) -> 0
B20: 8 | C20: PLOŠČA PERIPROTETIČNA PROKSIMALNI FEMUR, 324MM, 15 LUKENJ, LEVA | D20: za zdravljene kompleksnih periprotetičnih zlomov | H20: KOS | I20: 1 | K20: 1 | O20: =ROUND(ROUND(L20,4)*(1-M20),4) -> 0 | P20: =ROUND(ROUND(O20,4)*(1+N20),4) -> 0 | Q20: =ROUND($I20*O20,4) -> 0 | R20: =ROUND($I20*P20,4) -> 0
B21: 9 | C21: PLOŠČA PERIPROTETIČNA PROKSIMALNI FEMUR, 363MM, 18 LUKENJ, LEVA | D21: za zdravljene kompleksnih periprotetičnih zlomov | H21: KOS | I21: 1 | K21: 1 | O21: =ROUND(ROUND(L21,4)*(1-M21),4) -> 0 | P21: =ROUND(ROUND(O21,4)*(1+N21),4) -> 0 | Q21: =ROUND($I21*O21,4) -> 0 | R21: =ROUND($I21*P21,4) -> 0
B22: 10 | C22: PLOŠČA PERIPROTETIČNA PROKSIMALNI FEMUR, 401MM, 21 LUKENJ, LEVA | D22: za zdravljene kompleksnih periprotetičnih zlomov | H22: KOS | I22: 1 | K22: 1 | O22: =ROUND(ROUND(L22,4)*(1-M22),4) -> 0 | P22: =ROUND(ROUND(O22,4)*(1+N22),4) -> 0 | Q22: =ROUND($I22*O22,4) -> 0 | R22: =ROUND($I22*P22,4) -> 0
B23: 11 | C23: PLOŠČA PERIPROTETIČNA ZA DIAFIZO FEMURJA, UKRIVLJENA, 210MM, 10 LUKENJ | D23: za zdravljene kompleksnih periprotetičnih zlomov | H23: KOS | I23: 1 | K23: 1 | O23: =ROUND(ROUND(L23,4)*(1-M23),4) -> 0 | P23: =ROUND(ROUND(O23,4)*(1+N23),4) -> 0 | Q23: =ROUND($I23*O23,4) -> 0 | R23: =ROUND($I23*P23,4) -> 0
B24: 12 | C24: PLOŠČA PERIPROTETIČNA ZA DIAFIZO FEMURJA, UKRIVLJENA, 249MM, 10 LUKENJ | D24: za zdravljene kompleksnih periprotetičnih zlomov | H24: KOS | I24: 1 | K24: 1 | O24: =ROUND(ROUND(L24,4)*(1-M24),4) -> 0 | P24: =ROUND(ROUND(O24,4)*(1+N24),4) -> 0 | Q24: =ROUND($I24*O24,4) -> 0 | R24: =ROUND($I24*P24,4) -> 0
... B28: 16 | C28: ŽICA CERKLAŽNA 1,8X635, CR-CO | D28: za zdravljene kompleksnih periprotetičnih zlomov | H28: KOS | I28: 1 | K28: 1 | O28: =ROUND(ROUND(L28,4)*(1-M28),4) -> 0 | P28: =ROUND(ROUND(O28,4)*(1+N28),4) -> 0 | Q28: =ROUND($I28*O28,4) -> 0 | R28: =ROUND($I28*P28,4) -> 0
B29: 17 | C29: Plošča za zdravljenje periprotetičnih zlomov ob velikem trohantru, dol. 53mm | D29: Plošča mora imeti na proksimalnem delu dve kljukici s katerimi se fiksira na veliki trohanter, imeti pa mora možnost dodatne fiksacije s cerklažami, ki naj se pritrdijo na femur z zategovalnikom in zaklenejo z matico na plošči. | E29: Izdelana iz TI6AL4V | F29: Skupaj s ploščo morajo biti pakirane štiri cerklaže diametra 1.8mm in dolžine 635mm | H29: KOS | I29: 1 | K29: 1 | O29: =ROUND(ROUND(L29,4)*(1-M29),4) -> 0 | P29: =ROUND(ROUND(O29,4)*(1+N29),4) -> 0 | Q29: =ROUND($I29*O29,4) -> 0 | R29: =ROUND($I29*P29,4) -> 0
B30: 18 | C30: Plošča za zdravljenje periprotetičnih zlomov ob velikem trohantru, dol. 121mm | D30: Plošča mora imeti na proksimalnem delu dve kljukici s katerimi se fiksira na veliki trohanter, imeti pa mora možnost dodatne fiksacije s cerklažami, ki naj se pritrdijo na femur z zategovalnikom in zaklenejo z matico na plošči. | E30: Izdelana iz TI6AL4V | F30: Skupaj s ploščo morajo biti pakirane štiri cerklaže diametra 1.8mm in dolžine 635mm | H30: KOS | I30: 1 | K30: 1 | O30: =ROUND(ROUND(L30,4)*(1-M30),4) -> 0 | P30: =ROUND(ROUND(O30,4)*(1+N30),4) -> 0 | Q30: =ROUND($I30*O30,4) -> 0 | R30: =ROUND($I30*P30,4) -> 0
B31: 19 | C31: Plošča za zdravljenje periprotetičnih zlomov ob velikem trohantru, dol. 232mm | D31: Plošča mora imeti na proksimalnem delu dve kljukici s katerimi se fiksira na veliki trohanter, imeti pa mora možnost dodatne fiksacije s cerklažami, ki naj se pritrdijo na femur z zategovalnikom in zaklenejo z matico na plošči. Plošča mora imeti 4 luknje, da jo lahko dodatno fiksiramo na kost z vijaki diam. 4,5mm. | E31: Izdelana iz TI6AL4V | F31: Skupaj s ploščo morajo biti pakirane štiri cerklaže diametra 1.8mm in dolžine 635mm | H31: KOS | I31: 1 | K31: 1 | O31: =ROUND(ROUND(L31,4)*(1-M31),4) -> 0 | P31: =ROUND(ROUND(O31,4)*(1+N31),4) -> 0 | Q31: =ROUND($I31*O31,4) -> 0 | R31: =ROUND($I31*P31,4) -> 0
B32: 20 | C32: Plošča za zdravljenje periprotetičnih zlomov ob velikem trohantru, dol.261mm | D32: Plošča mora imeti na proksimalnem delu dve kljukici s katerimi se fiksira na veliki trohanter, imeti pa mora možnost dodatne fiksacije s cerklažami, ki naj se pritrdijo na femur z zategovalnikom in zaklenejo z matico na plošči. Plošča mora imeti 5 lukenj, da jo lahko dodatno fiksiramo na kost z vijaki diam. 4,5mm. | E32: Izdelana iz TI6AL4V | F32: Skupaj s ploščo morajo biti pakirane štiri cerklaže diametra 1.8mm in dolžine 635mm | H32: KOS | I32: 9 | K32: 1 | O32: =ROUND(ROUND(L32,4)*(1-M32),4) -> 0 | P32: =ROUND(ROUND(O32,4)*(1+N32),4) -> 0 | Q32: =ROUND($I32*O32,4) -> 0 | R32: =ROUND($I32*P32,4) -> 0
B33: 21 | C33: Vijak samonavojni, diameter 5mm, dolžine od 14 do 100mm | D33: Izdelan iz TI6AL4V | E33: Poliaksialnost 30° | H33: KOS | I33: 1 | K33: 1 | O33: =ROUND(ROUND(L33,4)*(1-M33),4) -> 0 | P33: =ROUND(ROUND(O33,4)*(1+N33),4) -> 0 | Q33: =ROUND($I33*O33,4) -> 0 | R33: =ROUND($I33*P33,4) -> 0
B34: 22 | C34: Vijak samonavojni, diameter 5mm, dolžine od 14 do 100mm | D34: Izdelan iz TI6AL4V | E34: Poliaksialnost 30° | H34: KOS | I34: 1 | K34: 1 | O34: =ROUND(ROUND(L34,4)*(1-M34),4) -> 0 | P34: =ROUND(ROUND(O34,4)*(1+N34),4) -> 0 | Q34: =ROUND($I34*O34,4) -> 0 | R34: =ROUND($I34*P34,4) -> 0
B35: 23 | C35: Distančnik (spacer), dolžina 1, 2 in 3mm | D35: Dolžina 1, 2 in 3mm | E35: Izdelan iz TI6AL4V | F35: Prepreči kontakt med ploščo in kostjo ter posledično zmanjša možnost komplikacij pri periostalni prekrvavitvi. | H35: KOS | I35: 1 | K35: 1 | O35: =ROUND(ROUND(L35,4)*(1-M35),4) -> 0 | P35: =ROUND(ROUND(O35,4)*(1+N35),4) -> 0 | Q35: =ROUND($I35*O35,4) -> 0 | R35: =ROUND($I35*P35,4) -> 0
B36: 24 | C36: Zaklepna kapica | D36: Izdelana iz TI6AL4V | H36: KOS | I36: 1 | K36: 1 | O36: =ROUND(ROUND(L36,4)*(1-M36),4) -> 0 | P36: =ROUND(ROUND(O36,4)*(1+N36),4) -> 0 | Q36: =ROUND($I36*O36,4) -> 0 | R36: =ROUND($I36*P36,4) -> 0
B37: 25 | C37: Vijak, diam. 4,5 in 6,5mm, dol. Od 15 do 60mm | D37: Izdelan iz TI6AL4V | H37: KOS | I37: 1 | K37: 1 | O37: =ROUND(ROUND(L37,4)*(1-M37),4) -> 0 | P37: =ROUND(ROUND(O37,4)*(1+N37),4) -> 0 | Q37: =ROUND($I37*O37,4) -> 0 | R37: =ROUND($I37*P37,4) -> 0
B38: 26 | C38: Cerklaža, diameter 1.8mm, dolžina 610mm | H38: KOS | I38: 1 | K38: 1 | O38: =ROUND(ROUND(L38,4)*(1-M38),4) -> 0 | P38: =ROUND(ROUND(O38,4)*(1+N38),4) -> 0 | Q38: =ROUND($I38*O38,4) -> 0 | R38: =ROUND($I38*P38,4) -> 0
P39: Skupaj: | Q39: =SUM(Q13:Q38) -> 0 | R39: =SUM(R13:R38) -> 0

Sheet Sklop VI.
C4: Seznam razpisanega blaga za sklop:
B5: VI. | C5: CEMENT IN PRIPOMOČKI ZA VGRAJEVANJE ENDOPROTEZ
C7: =IF('2. Podatki o ponudniku'!C5<>"","Naziv ponudnika: " & '2. Podatki o ponudniku'!C5,"")
C8: =IF('2. Podatki o ponudniku'!C7<>"","Identifikacijska številka za DDV: " & '2. Podatki o ponudniku'!C7,"")
A11: * | B11: 1. | C11: podsklop: CEMENT IN PRIPOMOČKI ZA VGRAJEVANJE ENDOPROTEZ | H11: ZAPRT | L11: CEMENT IN PRIPOMOČKI ZA VGRAJEVANJE ENDOPROTEZ
A12: EOB | B12: Zap. št. | C12: Naziv blaga | D12: Lastnost 1 | E12: Lastnost 2 | F12: Lastnost 3 | G12: Lastnost 4 | H12: EM | I12: Količina | J12: Št. vzorcev | K12: Var. | L12: Veljavna cena brez DDV | M12: Popust | N12: Stopnja DDV | O12: Cena brez DDV | P12: Cena z DDV | Q12: Vrednost brez DDV | R12: Vrednost z DDV | S12: Proizvajalec | T12: Ponudnikov naziv blaga | U12: EAN | V12: Kataloška številka | W12: Opomba
B13: 1 | C13: Zaprt vakumski sistem za mešanje kostnega cementa, 40g | H13: KPL | I13: 330 | K13: 1 | O13: =ROUND(ROUND(L13,4)*(1-M13),4) -> 0 | P13: =ROUND(ROUND(O13,4)*(1+N13),4) -> 0 | Q13: =ROUND($I13*O13,4) -> 0 | R13: =ROUND($I13*P13,4) -> 0
B14: 2 | C14: Zaprt vakumski sistem za mešanje kostnega cementa, 60 g | H14: KPL | I14: 600 | K14: 1 | O14: =ROUND(ROUND(L14,4)*(1-M14),4) -> 0 | P14: =ROUND(ROUND(O14,4)*(1+N14),4) -> 0 | Q14: =ROUND($I14*O14,4) -> 0 | R14: =ROUND($I14*P14,4) -> 0
B15: 3 | C15: Zaprt vakumski sistem za mešanje kostnega cementa, 80g | H15: KPL | I15: 1 | K15: 1 | O15: =ROUND(ROUND(L15,4)*(1-M15),4) -> 0 | P15: =ROUND(ROUND(O15,4)*(1+N15),4) -> 0 | Q15: =ROUND($I15*O15,4) -> 0 | R15: =ROUND($I15*P15,4) -> 0
B16: 4 | C16: Zaprt vakumski sistem za mešanje kostnega cementa, pred-pakiran antibiotičnim cementom 40 g | H16: KPL | I16: 150 | K16: 1 | O16: =ROUND(ROUND(L16,4)*(1-M16),4) -> 0 | P16: =ROUND(ROUND(O16,4)*(1+N16),4) -> 0 | Q16: =ROUND($I16*O16,4) -> 0 | R16: =ROUND($I16*P16,4) -> 0
B17: 5 | C17: Zaprt vakumski sistem za mešanje kostnega cementa, pred-pakiran antibiotičnim cementom 80 g | H17: KPL | I17: 50 | K17: 1 | O17: =ROUND(ROUND(L17,4)*(1-M17),4) -> 0 | P17: =ROUND(ROUND(O17,4)*(1+N17),4) -> 0 | Q17: =ROUND($I17*O17,4) -> 0 | R17: =ROUND($I17*P17,4) -> 0
B18: 6 | C18: Modul za spacer za koleno | H18: KOS | I18: 6 | K18: 1 | O18: =ROUND(ROUND(L18,4)*(1-M18),4) -> 0 | P18: =ROUND(ROUND(O18,4)*(1+N18),4) -> 0 | Q18: =ROUND($I18*O18,4) -> 0 | R18: =ROUND($I18*P18,4) -> 0
B19: 7 | C19: Modul za spacer za kolk | H19: KOS | I19: 1 | K19: 1 | O19: =ROUND(ROUND(L19,4)*(1-M19),4) -> 0 | P19: =ROUND(ROUND(O19,4)*(1+N19),4) -> 0 | Q19: =ROUND($I19*O19,4) -> 0 | R19: =ROUND($I19*P19,4) -> 0
P20: Skupaj: | Q20: =SUM(Q13:Q19) -> 0 | R20: =SUM(R13:R19) -> 0
A23: * | B23: 2. | C23: podsklop: ČEPI DISTALNI | H23: ZAPRT | L23: ČEPI DISTALNI
A24: EOB | B24: Zap. št. | C24: Naziv blaga | D24: Lastnost 1 | E24: Lastnost 2 | F24: Lastnost 3 | G24: Lastnost 4 | H24: EM | I24: Količina | J24: Št. vzorcev | K24: Var. | L24: Veljavna cena brez DDV | M24: Popust | N24: Stopnja DDV | O24: Cena brez DDV | P24: Cena z DDV | Q24: Vrednost brez DDV | R24: Vrednost z DDV | S24: Proizvajalec | T24: Ponudnikov naziv blaga | U24: EAN | V24: Kataloška številka | W24: Opomba
B25: 1 | C25: Distalni čep; dimenzije: 10, 12, 14, 16, 18 in 20 mm | H25: KOS | I25: 27 | K25: 1 | O25: =ROUND(ROUND(L25,4)*(1-M25),4) -> 0 | P25: =ROUND(ROUND(O25,4)*(1+N25),4) -> 0 | Q25: =ROUND($I25*O25,4) -> 0 | R25: =ROUND($I25*P25,4) -> 0
P26: Skupaj: | Q26: =SUM(Q25:Q25) -> 0 | R26: =SUM(R25:R25) -> 0
A29: * | B29: 3. | C29: podsklop: SET ZA KOLENO IN KOLK | H29: ODPRT | L29: SET ZA KOLENO IN KOLK
A30: EOB | B30: Zap. št. | C30: Naziv blaga | D30: Lastnost 1 | E30: Lastnost 2 | F30: Lastnost 3 | G30: Lastnost 4 | H30: EM | I30: Količina | J30: Št. vzorcev | K30: Var. | L30: Veljavna cena brez DDV | M30: Popust | N30: Stopnja DDV | O30: Cena brez DDV | P30: Cena z DDV | Q30: Vrednost brez DDV | R30: Vrednost z DDV | S30: Proizvajalec | T30: Ponudnikov naziv blaga | U30: EAN | V30: Kataloška številka | W30: Opomba
B31: 1 | C31: Set IZPIRANJE za koleno za enkratno uporabo | H31: KPL | I31: 720 | K31: 1 | O31: =ROUND(ROUND(L31,4)*(1-M31),4) -> 0 | P31: =ROUND(ROUND(O31,4)*(1+N31),4) -> 0 | Q31: =ROUND($I31*O31,4) -> 0 | R31: =ROUND($I31*P31,4) -> 0
B32: 2 | C32: Set IZPIRANJE za kolk za enkratno uporabo | H32: KPL | I32: 40 | K32: 1 | O32: =ROUND(ROUND(L32,4)*(1-M32),4) -> 0 | P32: =ROUND(ROUND(O32,4)*(1+N32),4) -> 0 | Q32: =ROUND($I32*O32,4) -> 0 | R32: =ROUND($I32*P32,4) -> 0
P33: Skupaj: | Q33: =SUM(Q31:Q32) -> 0 | R33: =SUM(R31:R32) -> 0
A36: * | B36: 4. | C36: podsklop: SISTEM ZA LAVAŽO S CO2 | H36: ZAPRT | L36: SISTEM ZA LAVAŽO S CO2
A37: EOB | B37: Zap. št. | C37: Naziv blaga | D37: Lastnost 1 | E37: Lastnost 2 | F37: Lastnost 3 | G37: Lastnost 4 | H37: EM | I37: Količina | J37: Št. vzorcev | K37: Var. | L37: Veljavna cena brez DDV | M37: Popust | N37: Stopnja DDV | O37: Cena brez DDV | P37: Cena z DDV | Q37: Vrednost brez DDV | R37: Vrednost z DDV | S37: Proizvajalec | T37: Ponudnikov naziv blaga | U37: EAN | V37: Kataloška številka | W37: Opomba
B38: 1 | C38: SISTEM ZA LAVAŽO S CO2 | D38: Sistem cevi za enkratno uporabo s filtrom, ki omogoča čiščenje kosti s CO2 pred cementiranjem. | E38: Morebiten dodaten inštrumentarij mora ponudnik dati na uporabo brezplačno | H38: KOS | I38: 1 | K38: 1 | O38: =ROUND(ROUND(L38,4)*(1-M38),4) -> 0 | P38: =ROUND(ROUND(O38,4)*(1+N38),4) -> 0 | Q38: =ROUND($I38*O38,4) -> 0 | R38: =ROUND($I38*P38,4) -> 0
P39: Skupaj: | Q39: =SUM(Q38:Q38) -> 0 | R39: =SUM(R38:R38) -> 0
