Workbook

Sheet NAVODILA
B4: NAVODILA ZA IZPOLNITEV PREDRAČUNA – SEZNAMA RAZPISANEGA BLAGA (OBR-8a)
B6: 1. Ponudnik mora Predračun - Seznama razpisanega blaga (OBR – 8a) izpolniti, natisniti in natisnjeni izvod podpisati in žigosati.
B8: 2. Ponudnik k ponudbi predloži Predračun - Seznam razpisanega blaga (lastni natis izpolnjenega predračuna iz OBR-8a) v pisni in obvezno tudi v elektronski obliki - na CD-ju ali USB ključku (v primeru enostavnega postopka ob elektronski oddaji ponudbe ponudniki dajo xls. datoteko in scan natisnjene verzije - pdf datoteko kot priponko k elektronski ponudbi).
B10: 3. Ponudnik mora v »Predračun - Seznam razpisanega blaga« (exelova datoteka) pri vrstah blaga, ki jih ponuja (v polja obarvana z rumeno barvo) obvezno vpisati naslednje podatke:
B12: Opcija 1:
B13: o veljavna cena brez DDV/EM
B14: o popust (stopnja fiksnega popusta)
B15: o stopnjo DDV
B16: o proizvajalca ponujenega blaga / izvajalca storitve
B17: o ponudnikov naziv blaga / storitve
B18: o EAN kodo ponujenega blaga / storitve (če jo ima)
B19: o kataloško številko ponujenega blaga / storitve (če jo ima)
... B46: o cena brez DDV mora vsebovati vse stroške, popuste, rabate.

Sheet 1. Podatki naročnika
B4: Podatki naročnika
B5: Naročnik: | C5: Splošna bolnišnica Novo mesto
B6: JN št.: | C6: 16-21/21
B7: Predmet JN: | C7: Storitve mikrobioloških in drugih laboratorijskih preiskav
B8: Obdobje priznane sposobnosti in usposobljenosti:
B9: Obdobje JN:
B10: Vrsta postopka JN: | C10: odprti postopek
B11: Okvirni sporazumi: | C11: Ne
B12: Vrsta predmeta JN: | C12: STORITEV
B13: Status:
B15: Aplikacija Javna naročila, različica 2.3.5

Sheet 2. Podatki o ponudniku
B4: Podatki o ponudniku
B5: Naziv:
B6: Naslov:
B7: Identifikacijska številka za DDV:
B8: Telefon:
B9: Faks:
B10: Kontaktna oseba:
B11: Elektronski naslov:

Sheet 3. Strokovne zahteve naročnika
B4: Strokovne zahteve naročnika
B7: Kot je navedeno v specifikaciji zahtev za predmet v word datoteki.

Sheet Sklop I.
C4: Seznam razpisanega blaga za sklop:
B5: I. | C5: LABORATORIJSKE PREISKAVE
C7: =IF('2. Podatki o ponudniku'!C5<>"","Naziv ponudnika: " & '2. Podatki o ponudniku'!C5,"")
C8: =IF('2. Podatki o ponudniku'!C7<>"","Identifikacijska številka za DDV: " & '2. Podatki o ponudniku'!C7,"")
A11: * | B11: 1. | C11: podsklop: LIKVORSKA DIAGNOSTIKA | H11: ZAPRT | L11: LIKVORSKA DIAGNOSTIKA
A12: EOB | B12: Zap. št. | C12: Naziv blaga | D12: Lastnost 1 | E12: Lastnost 2 | F12: Lastnost 3 | G12: Lastnost 4 | H12: EM | I12: Količina | J12: Št. vzorcev | K12: Var. | L12: Veljavna cena brez DDV | M12: Popust | N12: Stopnja DDV | O12: Cena brez DDV | P12: Cena z DDV | Q12: Vrednost brez DDV | R12: Vrednost z DDV | S12: Proizvajalec | T12: Ponudnikov naziv blaga | U12: Kataloška številka | V12: Opomba
B13: 1 | C13: Lc-IEF IgG | H13: KOS | I13: 210 | K13: 1 | O13: =ROUND(ROUND(L13,4)*(1-M13),4) -> 0 | P13: =ROUND(ROUND(O13,4)*(1+N13),4) -> 0 | Q13: =ROUND($I13*O13,4) -> 0 | R13: =ROUND($I13*P13,4) -> 0
B14: 2 | C14: S-IEF IgG | H14: KOS | I14: 210 | K14: 1 | O14: =ROUND(ROUND(L14,4)*(1-M14),4) -> 0 | P14: =ROUND(ROUND(O14,4)*(1+N14),4) -> 0 | Q14: =ROUND($I14*O14,4) -> 0 | R14: =ROUND($I14*P14,4) -> 0
B15: 3 | C15: Lc-Tau | H15: KOS | I15: 48 | K15: 1 | O15: =ROUND(ROUND(L15,4)*(1-M15),4) -> 0 | P15: =ROUND(ROUND(O15,4)*(1+N15),4) -> 0 | Q15: =ROUND($I15*O15,4) -> 0 | R15: =ROUND($I15*P15,4) -> 0
B16: 4 | C16: Lc-P-Tau | H16: KOS | I16: 48 | K16: 1 | O16: =ROUND(ROUND(L16,4)*(1-M16),4) -> 0 | P16: =ROUND(ROUND(O16,4)*(1+N16),4) -> 0 | Q16: =ROUND($I16*O16,4) -> 0 | R16: =ROUND($I16*P16,4) -> 0
B17: 5 | C17: Lc-Amiloid Aß42 | H17: KOS | I17: 48 | K17: 1 | O17: =ROUND(ROUND(L17,4)*(1-M17),4) -> 0 | P17: =ROUND(ROUND(O17,4)*(1+N17),4) -> 0 | Q17: =ROUND($I17*O17,4) -> 0 | R17: =ROUND($I17*P17,4) -> 0
B18: 6 | C18: Lc-Amiloid Aß40 | H18: KOS | I18: 33 | K18: 1 | O18: =ROUND(ROUND(L18,4)*(1-M18),4) -> 0 | P18: =ROUND(ROUND(O18,4)*(1+N18),4) -> 0 | Q18: =ROUND($I18*O18,4) -> 0 | R18: =ROUND($I18*P18,4) -> 0
B19: 7 | C19: Lc-Razmerje Aß42/40 | H19: KOS | I19: 33 | K19: 1 | O19: =ROUND(ROUND(L19,4)*(1-M19),4) -> 0 | P19: =ROUND(ROUND(O19,4)*(1+N19),4) -> 0 | Q19: =ROUND($I19*O19,4) -> 0 | R19: =ROUND($I19*P19,4) -> 0
P20: Skupaj: | Q20: =SUM(Q13:Q19) -> 0 | R20: =SUM(R13:R19) -> 0
A23: * | B23: 2. | C23: podsklop: PREISKAVE ZA UGOTAVLJANJE TROMBOFILIJE | H23: ZAPRT | L23: PREISKAVE ZA UGOTAVLJANJE TROMBOFILIJE
A24: EOB | B24: Zap. št. | C24: Naziv blaga | D24: Lastnost 1 | E24: Lastnost 2 | F24: Lastnost 3 | G24: Lastnost 4 | H24: EM | I24: Količina | J24: Št. vzorcev | K24: Var. | L24: Veljavna cena brez DDV | M24: Popust | N24: Stopnja DDV | O24: Cena brez DDV | P24: Cena z DDV | Q24: Vrednost brez DDV | R24: Vrednost z DDV | S24: Proizvajalec | T24: Ponudnikov naziv blaga | U24: Kataloška številka | V24: Opomba
B25: 1 | C25: P-neodzivnost na aktivirani protein C (a. APTČ brez proteina C / b. APTČ s proteinom C/ razmerje med b in a) | H25: KOS | I25: 6 | K25: 1 | O25: =ROUND(ROUND(L25,4)*(1-M25),4) -> 0 | P25: =ROUND(ROUND(O25,4)*(1+N25),4) -> 0 | Q25: =ROUND($I25*O25,4) -> 0 | R25: =ROUND($I25*P25,4) -> 0
B26: 2 | C26: P-protein C:aktivnost | H26: KOS | I26: 6 | K26: 1 | O26: =ROUND(ROUND(L26,4)*(1-M26),4) -> 0 | P26: =ROUND(ROUND(O26,4)*(1+N26),4) -> 0 | Q26: =ROUND($I26*O26,4) -> 0 | R26: =ROUND($I26*P26,4) -> 0
B27: 3 | C27: P-protein S: prosti antigen | H27: KOS | I27: 6 | K27: 1 | O27: =ROUND(ROUND(L27,4)*(1-M27),4) -> 0 | P27: =ROUND(ROUND(O27,4)*(1+N27),4) -> 0 | Q27: =ROUND($I27*O27,4) -> 0 | R27: =ROUND($I27*P27,4) -> 0
B28: 4 | C28: P-lupusni antikoagulanti (a. presejalni test, b. potrditveni preizkus, normalizirano razmerje a/b) | H28: KOS | I28: 6 | K28: 1 | O28: =ROUND(ROUND(L28,4)*(1-M28),4) -> 0 | P28: =ROUND(ROUND(O28,4)*(1+N28),4) -> 0 | Q28: =ROUND($I28*O28,4) -> 0 | R28: =ROUND($I28*P28,4) -> 0
P29: Skupaj: | Q29: =SUM(Q25:Q28) -> 0 | R29: =SUM(R25:R28) -> 0
A32: * | B32: 3. | C32: podsklop: PREISKAVE ZA UGOTAVLJANJE HUNTINGTONOVE BOLEZNI | H32: ZAPRT | L32: PREISKAVE ZA UGOTAVLJANJE HUNTINGTONOVE BOLEZNI
A33: EOB | B33: Zap. št. | C33: Naziv blaga | D33: Lastnost 1 | E33: Lastnost 2 | F33: Lastnost 3 | G33: Lastnost 4 | H33: EM | I33: Količina | J33: Št. vzorcev | K33: Var. | L33: Veljavna cena brez DDV | M33: Popust | N33: Stopnja DDV | O33: Cena brez DDV | P33: Cena z DDV | Q33: Vrednost brez DDV | R33: Vrednost z DDV | S33: Proizvajalec | T33: Ponudnikov naziv blaga | U33: Kataloška številka | V33: Opomba
B34: 1 | C34: PREISKAVA ZA UGOTAVLJANJE HUNTINGTONOVE BOLEZNI | H34: KOS | I34: 3 | K34: 1 | O34: =ROUND(ROUND(L34,4)*(1-M34),4) -> 0 | P34: =ROUND(ROUND(O34,4)*(1+N34),4) -> 0 | Q34: =ROUND($I34*O34,4) -> 0 | R34: =ROUND($I34*P34,4) -> 0
P35: Skupaj: | Q35: =SUM(Q34:Q34) -> 0 | R35: =SUM(R34:R34) -> 0
A38: * | B38: 4. | C38: podsklop: PREISKAVE ZA HEMOSTAZO IN ATEROTROMBOZO | H38: ZAPRT | L38: PREISKAVE ZA HEMOSTAZO IN ATEROTROMBOZO
A39: EOB | B39: Zap. št. | C39: Naziv blaga | D39: Lastnost 1 | E39: Lastnost 2 | F39: Lastnost 3 | G39: Lastnost 4 | H39: EM | I39: Količina | J39: Št. vzorcev | K39: Var. | L39: Veljavna cena brez DDV | M39: Popust | N39: Stopnja DDV | O39: Cena brez DDV | P39: Cena z DDV | Q39: Vrednost brez DDV | R39: Vrednost z DDV | S39: Proizvajalec | T39: Ponudnikov naziv blaga | U39: Kataloška številka | V39: Opomba
B40: 1 | C40: FP-LA APTČ s fosfolipidi | H40: KOS | I40: 390 | K40: 1 | O40: =ROUND(ROUND(L40,4)*(1-M40),4) -> 0 | P40: =ROUND(ROUND(O40,4)*(1+N40),4) -> 0 | Q40: =ROUND($I40*O40,4) -> 0 | R40: =ROUND($I40*P40,4) -> 0
B41: 2 | C41: FP-LA potrditveno | H41: KOS | I41: 72 | K41: 1 | O41: =ROUND(ROUND(L41,4)*(1-M41),4) -> 0 | P41: =ROUND(ROUND(O41,4)*(1+N41),4) -> 0 | Q41: =ROUND($I41*O41,4) -> 0 | R41: =ROUND($I41*P41,4) -> 0
B42: 3 | C42: P-Protrombinski čas | H42: KOS | I42: 273 | K42: 1 | O42: =ROUND(ROUND(L42,4)*(1-M42),4) -> 0 | P42: =ROUND(ROUND(O42,4)*(1+N42),4) -> 0 | Q42: =ROUND($I42*O42,4) -> 0 | R42: =ROUND($I42*P42,4) -> 0
B43: 4 | C43: S-C REAKTIVNI PROTEIN | H43: KOS | I43: 18 | K43: 1 | O43: =ROUND(ROUND(L43,4)*(1-M43),4) -> 0 | P43: =ROUND(ROUND(O43,4)*(1+N43),4) -> 0 | Q43: =ROUND($I43*O43,4) -> 0 | R43: =ROUND($I43*P43,4) -> 0
B44: 5 | C44: P-APTČ | H44: KOS | I44: 240 | K44: 1 | O44: =ROUND(ROUND(L44,4)*(1-M44),4) -> 0 | P44: =ROUND(ROUND(O44,4)*(1+N44),4) -> 0 | Q44: =ROUND($I44*O44,4) -> 0 | R44: =ROUND($I44*P44,4) -> 0
B45: 6 | C45: P-Trombinski čas | H45: KOS | I45: 273 | K45: 1 | O45: =ROUND(ROUND(L45,4)*(1-M45),4) -> 0 | P45: =ROUND(ROUND(O45,4)*(1+N45),4) -> 0 | Q45: =ROUND($I45*O45,4) -> 0 | R45: =ROUND($I45*P45,4) -> 0
B46: 7 | C46: P-Antitrombin | H46: KOS | I46: 234 | K46: 1 | O46: =ROUND(ROUND(L46,4)*(1-M46),4) -> 0 | P46: =ROUND(ROUND(O46,4)*(1+N46),4) -> 0 | Q46: =ROUND($I46*O46,4) -> 0 | R46: =ROUND($I46*P46,4) -> 0
B47: 8 | C47: P-Protein S (prosti) ag | H47: KOS | I47: 240 | K47: 1 | O47: =ROUND(ROUND(L47,4)*(1-M47),4) -> 0 | P47: =ROUND(ROUND(O47,4)*(1+N47),4) -> 0 | Q47: =ROUND($I47*O47,4) -> 0 | R47: =ROUND($I47*P47,4) -> 0
B48: 9 | C48: K-Protrombin G20210A | H48: KOS | I48: 270 | K48: 1 | O48: =ROUND(ROUND(L48,4)*(1-M48),4) -> 0 | P48: =ROUND(ROUND(O48,4)*(1+N48),4) -> 0 | Q48: =ROUND($I48*O48,4) -> 0 | R48: =ROUND($I48*P48,4) -> 0
B49: 10 | C49: K-Faktor V Leiden | H49: KOS | I49: 72 | K49: 1 | O49: =ROUND(ROUND(L49,4)*(1-M49),4) -> 0 | P49: =ROUND(ROUND(O49,4)*(1+N49),4) -> 0 | Q49: =ROUND($I49*O49,4) -> 0 | R49: =ROUND($I49*P49,4) -> 0
B50: 11 | C50: P-Anti-Xa LMWH | H50: KOS | I50: 63 | K50: 1 | O50: =ROUND(ROUND(L50,4)*(1-M50),4) -> 0 | P50: =ROUND(ROUND(O50,4)*(1+N50),4) -> 0 | Q50: =ROUND($I50*O50,4) -> 0 | R50: =ROUND($I50*P50,4) -> 0
B51: 12 | C51: P-Protein C (aktivnost) | H51: KOS | I51: 240 | K51: 1 | O51: =ROUND(ROUND(L51,4)*(1-M51),4) -> 0 | P51: =ROUND(ROUND(O51,4)*(1+N51),4) -> 0 | Q51: =ROUND($I51*O51,4) -> 0 | R51: =ROUND($I51*P51,4) -> 0
... B59: 20 | C59: P-Anti-Xa rivaroksaban | H59: KOS | I59: 6 | K59: 1 | O59: =ROUND(ROUND(L59,4)*(1-M59),4) -> 0 | P59: =ROUND(ROUND(O59,4)*(1+N59),4) -> 0 | Q59: =ROUND($I59*O59,4) -> 0 | R59: =ROUND($I59*P59,4) -> 0
P60: Skupaj: | Q60: =SUM(Q40:Q59) -> 0 | R60: =SUM(R40:R59) -> 0
A63: * | B63: 5. | C63: podsklop: PREISKAVE ZA IMUNOLOGIJO REVMATIZMA | H63: ZAPRT | L63: PREISKAVE ZA IMUNOLOGIJO REVMATIZMA
A64: EOB | B64: Zap. št. | C64: Naziv blaga | D64: Lastnost 1 | E64: Lastnost 2 | F64: Lastnost 3 | G64: Lastnost 4 | H64: EM | I64: Količina | J64: Št. vzorcev | K64: Var. | L64: Veljavna cena brez DDV | M64: Popust | N64: Stopnja DDV | O64: Cena brez DDV | P64: Cena z DDV | Q64: Vrednost brez DDV | R64: Vrednost z DDV | S64: Proizvajalec | T64: Ponudnikov naziv blaga | U64: Kataloška številka | V64: Opomba
B65: 1 | C65: s-anti-HMGCR | H65: KOS | I65: 12 | K65: 1 | O65: =ROUND(ROUND(L65,4)*(1-M65),4) -> 0 | P65: =ROUND(ROUND(O65,4)*(1+N65),4) -> 0 | Q65: =ROUND($I65*O65,4) -> 0 | R65: =ROUND($I65*P65,4) -> 0
B66: 2 | C66: S-anti-ADL | H66: KOS | I66: 3 | K66: 1 | O66: =ROUND(ROUND(L66,4)*(1-M66),4) -> 0 | P66: =ROUND(ROUND(O66,4)*(1+N66),4) -> 0 | Q66: =ROUND($I66*O66,4) -> 0 | R66: =ROUND($I66*P66,4) -> 0
B67: 3 | C67: S-HEP-2 test | H67: KOS | I67: 1581 | K67: 1 | O67: =ROUND(ROUND(L67,4)*(1-M67),4) -> 0 | P67: =ROUND(ROUND(O67,4)*(1+N67),4) -> 0 | Q67: =ROUND($I67*O67,4) -> 0 | R67: =ROUND($I67*P67,4) -> 0
B68: 4 | C68: S-anti-ENA | H68: KOS | I68: 1047 | K68: 1 | O68: =ROUND(ROUND(L68,4)*(1-M68),4) -> 0 | P68: =ROUND(ROUND(O68,4)*(1+N68),4) -> 0 | Q68: =ROUND($I68*O68,4) -> 0 | R68: =ROUND($I68*P68,4) -> 0
B69: 5 | C69: S-anti-PDH | H69: KOS | I69: 144 | K69: 1 | O69: =ROUND(ROUND(L69,4)*(1-M69),4) -> 0 | P69: =ROUND(ROUND(O69,4)*(1+N69),4) -> 0 | Q69: =ROUND($I69*O69,4) -> 0 | R69: =ROUND($I69*P69,4) -> 0
B70: 6 | C70: S-anti-DNA | H70: KOS | I70: 339 | K70: 1 | O70: =ROUND(ROUND(L70,4)*(1-M70),4) -> 0 | P70: =ROUND(ROUND(O70,4)*(1+N70),4) -> 0 | Q70: =ROUND($I70*O70,4) -> 0 | R70: =ROUND($I70*P70,4) -> 0
B71: 7 | C71: S-aCL | H71: KOS | I71: 564 | K71: 1 | O71: =ROUND(ROUND(L71,4)*(1-M71),4) -> 0 | P71: =ROUND(ROUND(O71,4)*(1+N71),4) -> 0 | Q71: =ROUND($I71*O71,4) -> 0 | R71: =ROUND($I71*P71,4) -> 0
B72: 8 | C72: S-IgA aCI | H72: KOS | I72: 132 | K72: 1 | O72: =ROUND(ROUND(L72,4)*(1-M72),4) -> 0 | P72: =ROUND(ROUND(O72,4)*(1+N72),4) -> 0 | Q72: =ROUND($I72*O72,4) -> 0 | R72: =ROUND($I72*P72,4) -> 0
B73: 9 | C73: S-anti-beta2GPI | H73: KOS | I73: 390 | K73: 1 | O73: =ROUND(ROUND(L73,4)*(1-M73),4) -> 0 | P73: =ROUND(ROUND(O73,4)*(1+N73),4) -> 0 | Q73: =ROUND($I73*O73,4) -> 0 | R73: =ROUND($I73*P73,4) -> 0
B74: 10 | C74: S-anti-CCP | H74: KOS | I74: 396 | K74: 1 | O74: =ROUND(ROUND(L74,4)*(1-M74),4) -> 0 | P74: =ROUND(ROUND(O74,4)*(1+N74),4) -> 0 | Q74: =ROUND($I74*O74,4) -> 0 | R74: =ROUND($I74*P74,4) -> 0
B75: 11 | C75: S-KRIOglobulini - kvanti | H75: KOS | I75: 249 | K75: 1 | O75: =ROUND(ROUND(L75,4)*(1-M75),4) -> 0 | P75: =ROUND(ROUND(O75,4)*(1+N75),4) -> 0 | Q75: =ROUND($I75*O75,4) -> 0 | R75: =ROUND($I75*P75,4) -> 0
B76: 12 | C76: S-KRIOglobulini - kvali | H76: KOS | I76: 114 | K76: 1 | O76: =ROUND(ROUND(L76,4)*(1-M76),4) -> 0 | P76: =ROUND(ROUND(O76,4)*(1+N76),4) -> 0 | Q76: =ROUND($I76*O76,4) -> 0 | R76: =ROUND($I76*P76,4) -> 0
... B93: 29 | C93: S-ADL | H93: KOS | I93: 18 | K93: 1 | O93: =ROUND(ROUND(L93,4)*(1-M93),4) -> 0 | P93: =ROUND(ROUND(O93,4)*(1+N93),4) -> 0 | Q93: =ROUND($I93*O93,4) -> 0 | R93: =ROUND($I93*P93,4) -> 0
P94: Skupaj: | Q94: =SUM(Q65:Q93) -> 0 | R94: =SUM(R65:R93) -> 0
A97: * | B97: 6. | C97: podsklop: MOLEKULARNO GENETSKE PREISKAVE ZA POTREBE PATO- CITOLOŠKEGA ODDELKA | H97: ZAPRT | L97: MOLEKULARNO GENETSKE PREISKAVE ZA POTREBE PATO- CITOLOŠKEGA ODDELKA
A98: EOB | B98: Zap. št. | C98: Naziv blaga | D98: Lastnost 1 | E98: Lastnost 2 | F98: Lastnost 3 | G98: Lastnost 4 | H98: EM | I98: Količina | J98: Št. vzorcev | K98: Var. | L98: Veljavna cena brez DDV | M98: Popust | N98: Stopnja DDV | O98: Cena brez DDV | P98: Cena z DDV | Q98: Vrednost brez DDV | R98: Vrednost z DDV | S98: Proizvajalec | T98: Ponudnikov naziv blaga | U98: Kataloška številka | V98: Opomba
B99: 1 | C99: EGFR | D99: MUTACIJE | H99: KOS | I99: 42 | K99: 1 | O99: =ROUND(ROUND(L99,4)*(1-M99),4) -> 0 | P99: =ROUND(ROUND(O99,4)*(1+N99),4) -> 0 | Q99: =ROUND($I99*O99,4) -> 0 | R99: =ROUND($I99*P99,4) -> 0
B100: 2 | C100: ALK | D100: Patološke, citološke preiskave | H100: KOS | I100: 18 | K100: 1 | O100: =ROUND(ROUND(L100,4)*(1-M100),4) -> 0 | P100: =ROUND(ROUND(O100,4)*(1+N100),4) -> 0 | Q100: =ROUND($I100*O100,4) -> 0 | R100: =ROUND($I100*P100,4) -> 0
P101: Skupaj: | Q101: =SUM(Q99:Q100) -> 0 | R101: =SUM(R99:R100) -> 0
A104: * | B104: 7. | C104: podsklop: NUKLEARNA MEDICINA | H104: ZAPRT | L104: NUKLEARNA MEDICINA
A105: EOB | B105: Zap. št. | C105: Naziv blaga | D105: Lastnost 1 | E105: Lastnost 2 | F105: Lastnost 3 | G105: Lastnost 4 | H105: EM | I105: Količina | J105: Št. vzorcev | K105: Var. | L105: Veljavna cena brez DDV | M105: Popust | N105: Stopnja DDV | O105: Cena brez DDV | P105: Cena z DDV | Q105: Vrednost brez DDV | R105: Vrednost z DDV | S105: Proizvajalec | T105: Ponudnikov naziv blaga | U105: Kataloška številka | V105: Opomba
B106: 1 | C106: mK-PKU | H106: KOS | I106: 3852 | K106: 1 | O106: =ROUND(ROUND(L106,4)*(1-M106),4) -> 0 | P106: =ROUND(ROUND(O106,4)*(1+N106),4) -> 0 | Q106: =ROUND($I106*O106,4) -> 0 | R106: =ROUND($I106*P106,4) -> 0
B107: 2 | C107: mK-neo TSH | H107: KOS | I107: 3870 | K107: 1 | O107: =ROUND(ROUND(L107,4)*(1-M107),4) -> 0 | P107: =ROUND(ROUND(O107,4)*(1+N107),4) -> 0 | Q107: =ROUND($I107*O107,4) -> 0 | R107: =ROUND($I107*P107,4) -> 0
B108: 3 | C108: S- Prolaktin | H108: KOS | I108: 120 | K108: 1 | O108: =ROUND(ROUND(L108,4)*(1-M108),4) -> 0 | P108: =ROUND(ROUND(O108,4)*(1+N108),4) -> 0 | Q108: =ROUND($I108*O108,4) -> 0 | R108: =ROUND($I108*P108,4) -> 0
B109: 4 | C109: P-ACTH | H109: KOS | I109: 3 | K109: 1 | O109: =ROUND(ROUND(L109,4)*(1-M109),4) -> 0 | P109: =ROUND(ROUND(O109,4)*(1+N109),4) -> 0 | Q109: =ROUND($I109*O109,4) -> 0 | R109: =ROUND($I109*P109,4) -> 0
B110: 5 | C110: S-LH | H110: KOS | I110: 117 | K110: 1 | O110: =ROUND(ROUND(L110,4)*(1-M110),4) -> 0 | P110: =ROUND(ROUND(O110,4)*(1+N110),4) -> 0 | Q110: =ROUND($I110*O110,4) -> 0 | R110: =ROUND($I110*P110,4) -> 0
B111: 6 | C111: S-FSH | H111: KOS | I111: 180 | K111: 1 | O111: =ROUND(ROUND(L111,4)*(1-M111),4) -> 0 | P111: =ROUND(ROUND(O111,4)*(1+N111),4) -> 0 | Q111: =ROUND($I111*O111,4) -> 0 | R111: =ROUND($I111*P111,4) -> 0
B112: 7 | C112: P-Plazemska reninska aktivnost | H112: KOS | I112: 240 | K112: 1 | O112: =ROUND(ROUND(L112,4)*(1-M112),4) -> 0 | P112: =ROUND(ROUND(O112,4)*(1+N112),4) -> 0 | Q112: =ROUND($I112*O112,4) -> 0 | R112: =ROUND($I112*P112,4) -> 0
B113: 8 | C113: S-aldosteron | H113: KOS | I113: 246 | K113: 1 | O113: =ROUND(ROUND(L113,4)*(1-M113),4) -> 0 | P113: =ROUND(ROUND(O113,4)*(1+N113),4) -> 0 | Q113: =ROUND($I113*O113,4) -> 0 | R113: =ROUND($I113*P113,4) -> 0
B114: 9 | C114: S-C-peptid | H114: KOS | I114: 327 | K114: 1 | O114: =ROUND(ROUND(L114,4)*(1-M114),4) -> 0 | P114: =ROUND(ROUND(O114,4)*(1+N114),4) -> 0 | Q114: =ROUND($I114*O114,4) -> 0 | R114: =ROUND($I114*P114,4) -> 0
B115: 10 | C115: S-Kortizol | H115: KOS | I115: 33 | K115: 1 | O115: =ROUND(ROUND(L115,4)*(1-M115),4) -> 0 | P115: =ROUND(ROUND(O115,4)*(1+N115),4) -> 0 | Q115: =ROUND($I115*O115,4) -> 0 | R115: =ROUND($I115*P115,4) -> 0
B116: 11 | C116: S-antiTG | H116: KOS | I116: 3 | K116: 1 | O116: =ROUND(ROUND(L116,4)*(1-M116),4) -> 0 | P116: =ROUND(ROUND(O116,4)*(1+N116),4) -> 0 | Q116: =ROUND($I116*O116,4) -> 0 | R116: =ROUND($I116*P116,4) -> 0
B117: 12 | C117: S-antiTPO | H117: KOS | I117: 9 | K117: 1 | O117: =ROUND(ROUND(L117,4)*(1-M117),4) -> 0 | P117: =ROUND(ROUND(O117,4)*(1+N117),4) -> 0 | Q117: =ROUND($I117*O117,4) -> 0 | R117: =ROUND($I117*P117,4) -> 0
... B137: 32 | C137: S-Prosti testosteron | H137: KOS | I137: 12 | K137: 1 | O137: =ROUND(ROUND(L137,4)*(1-M137),4) -> 0 | P137: =ROUND(ROUND(O137,4)*(1+N137),4) -> 0 | Q137: =ROUND($I137*O137,4) -> 0 | R137: =ROUND($I137*P137,4) -> 0
P138: Skupaj: | Q138: =SUM(Q106:Q137) -> 0 | R138: =SUM(R106:R137) -> 0
A141: * | B141: 8. | C141: podsklop: PREISKAVE KLINIČNE KEMIJE IN BIOKEMIJE | H141: ZAPRT | L141: PREISKAVE KLINIČNE KEMIJE IN BIOKEMIJE
A142: EOB | B142: Zap. št. | C142: Naziv blaga | D142: Lastnost 1 | E142: Lastnost 2 | F142: Lastnost 3 | G142: Lastnost 4 | H142: EM | I142: Količina | J142: Št. vzorcev | K142: Var. | L142: Veljavna cena brez DDV | M142: Popust | N142: Stopnja DDV | O142: Cena brez DDV | P142: Cena z DDV | Q142: Vrednost brez DDV | R142: Vrednost z DDV | S142: Proizvajalec | T142: Ponudnikov naziv blaga | U142: Kataloška številka | V142: Opomba
B143: 1 | C143: Dihalni test za Helicobacter pylori | H143: KOS | I143: 9 | K143: 1 | O143: =ROUND(ROUND(L143,4)*(1-M143),4) -> 0 | P143: =ROUND(ROUND(O143,4)*(1+N143),4) -> 0 | Q143: =ROUND($I143*O143,4) -> 0 | R143: =ROUND($I143*P143,4) -> 0
B144: 2 | C144: dU-5-HIA | H144: KOS | I144: 33 | K144: 1 | O144: =ROUND(ROUND(L144,4)*(1-M144),4) -> 0 | P144: =ROUND(ROUND(O144,4)*(1+N144),4) -> 0 | Q144: =ROUND($I144*O144,4) -> 0 | R144: =ROUND($I144*P144,4) -> 0
B145: 3 | C145: dU-Adrenalin | H145: KOS | I145: 168 | K145: 1 | O145: =ROUND(ROUND(L145,4)*(1-M145),4) -> 0 | P145: =ROUND(ROUND(O145,4)*(1+N145),4) -> 0 | Q145: =ROUND($I145*O145,4) -> 0 | R145: =ROUND($I145*P145,4) -> 0
B146: 4 | C146: dU-Baker | H146: KOS | I146: 84 | K146: 1 | O146: =ROUND(ROUND(L146,4)*(1-M146),4) -> 0 | P146: =ROUND(ROUND(O146,4)*(1+N146),4) -> 0 | Q146: =ROUND($I146*O146,4) -> 0 | R146: =ROUND($I146*P146,4) -> 0
B147: 5 | C147: dU-Cistin | H147: KOS | I147: 36 | K147: 1 | O147: =ROUND(ROUND(L147,4)*(1-M147),4) -> 0 | P147: =ROUND(ROUND(O147,4)*(1+N147),4) -> 0 | Q147: =ROUND($I147*O147,4) -> 0 | R147: =ROUND($I147*P147,4) -> 0
B148: 6 | C148: dU-Citrati | H148: KOS | I148: 213 | K148: 1 | O148: =ROUND(ROUND(L148,4)*(1-M148),4) -> 0 | P148: =ROUND(ROUND(O148,4)*(1+N148),4) -> 0 | Q148: =ROUND($I148*O148,4) -> 0 | R148: =ROUND($I148*P148,4) -> 0
B149: 7 | C149: dU-Klorid | H149: KOS | I149: 3 | K149: 1 | O149: =ROUND(ROUND(L149,4)*(1-M149),4) -> 0 | P149: =ROUND(ROUND(O149,4)*(1+N149),4) -> 0 | Q149: =ROUND($I149*O149,4) -> 0 | R149: =ROUND($I149*P149,4) -> 0
B150: 8 | C150: dU-Kreatinin | H150: KOS | I150: 429 | K150: 1 | O150: =ROUND(ROUND(L150,4)*(1-M150),4) -> 0 | P150: =ROUND(ROUND(O150,4)*(1+N150),4) -> 0 | Q150: =ROUND($I150*O150,4) -> 0 | R150: =ROUND($I150*P150,4) -> 0
B151: 9 | C151: dU-Magnezij | H151: KOS | I151: 114 | K151: 1 | O151: =ROUND(ROUND(L151,4)*(1-M151),4) -> 0 | P151: =ROUND(ROUND(O151,4)*(1+N151),4) -> 0 | Q151: =ROUND($I151*O151,4) -> 0 | R151: =ROUND($I151*P151,4) -> 0
B152: 10 | C152: dU-Metanefrin | H152: KOS | I152: 156 | K152: 1 | O152: =ROUND(ROUND(L152,4)*(1-M152),4) -> 0 | P152: =ROUND(ROUND(O152,4)*(1+N152),4) -> 0 | Q152: =ROUND($I152*O152,4) -> 0 | R152: =ROUND($I152*P152,4) -> 0
B153: 11 | C153: dU-Noradrenalin | H153: KOS | I153: 168 | K153: 1 | O153: =ROUND(ROUND(L153,4)*(1-M153),4) -> 0 | P153: =ROUND(ROUND(O153,4)*(1+N153),4) -> 0 | Q153: =ROUND($I153*O153,4) -> 0 | R153: =ROUND($I153*P153,4) -> 0
B154: 12 | C154: dU-Normetanefrin | H154: KOS | I154: 153 | K154: 1 | O154: =ROUND(ROUND(L154,4)*(1-M154),4) -> 0 | P154: =ROUND(ROUND(O154,4)*(1+N154),4) -> 0 | Q154: =ROUND($I154*O154,4) -> 0 | R154: =ROUND($I154*P154,4) -> 0
... B237: 95 | C237: U-Znižanje zmrzišča (Poli) | H237: KOS | I237: 111 | K237: 1 | O237: =ROUND(ROUND(L237,4)*(1-M237),4) -> 0 | P237: =ROUND(ROUND(O237,4)*(1+N237),4) -> 0 | Q237: =ROUND($I237*O237,4) -> 0 | R237: =ROUND($I237*P237,4) -> 0
P238: Skupaj: | Q238: =SUM(Q143:Q237) -> 0 | R238: =SUM(R143:R237) -> 0
A241: * | B241: 9. | C241: podsklop: SPECIALNA LABORATORIJSKO PEDIATRIČNA DIAGNOSTIKA IN ALERGOLOGIJA | H241: ZAPRT | L241: SPECIALNA LABORATORIJSKO PEDIATRIČNA DIAGNOSTIKA IN ALERGOLOGIJA
A242: EOB | B242: Zap. št. | C242: Naziv blaga | D242: Lastnost 1 | E242: Lastnost 2 | F242: Lastnost 3 | G242: Lastnost 4 | H242: EM | I242: Količina | J242: Št. vzorcev | K242: Var. | L242: Veljavna cena brez DDV | M242: Popust | N242: Stopnja DDV | O242: Cena brez DDV | P242: Cena z DDV | Q242: Vrednost brez DDV | R242: Vrednost z DDV | S242: Proizvajalec | T242: Ponudnikov naziv blaga | U242: Kataloška številka | V242: Opomba
B243: 1 | C243: S-AGA IgG | H243: KOS | I243: 60 | K243: 1 | O243: =ROUND(ROUND(L243,4)*(1-M243),4) -> 0 | P243: =ROUND(ROUND(O243,4)*(1+N243),4) -> 0 | Q243: =ROUND($I243*O243,4) -> 0 | R243: =ROUND($I243*P243,4) -> 0
B244: 2 | C244: S-EMA IgA | H244: KOS | I244: 369 | K244: 1 | O244: =ROUND(ROUND(L244,4)*(1-M244),4) -> 0 | P244: =ROUND(ROUND(O244,4)*(1+N244),4) -> 0 | Q244: =ROUND($I244*O244,4) -> 0 | R244: =ROUND($I244*P244,4) -> 0
B245: 3 | C245: S-IgE-f95 breskev | H245: KOS | I245: 6 | K245: 1 | O245: =ROUND(ROUND(L245,4)*(1-M245),4) -> 0 | P245: =ROUND(ROUND(O245,4)*(1+N245),4) -> 0 | Q245: =ROUND($I245*O245,4) -> 0 | R245: =ROUND($I245*P245,4) -> 0
B246: 4 | C246: S-IgE-f20 mandelj | H246: KOS | I246: 6 | K246: 1 | O246: =ROUND(ROUND(L246,4)*(1-M246),4) -> 0 | P246: =ROUND(ROUND(O246,4)*(1+N246),4) -> 0 | Q246: =ROUND($I246*O246,4) -> 0 | R246: =ROUND($I246*P246,4) -> 0
...

Sheet Sklop II.
C4: Seznam razpisanega blaga za sklop:
B5: II. | C5: MIKROBIOLOŠKE PREISKAVE
C7: =IF('2. Podatki o ponudniku'!C5<>"","Naziv ponudnika: " & '2. Podatki o ponudniku'!C5,"")
C8: =IF('2. Podatki o ponudniku'!C7<>"","Identifikacijska številka za DDV: " & '2. Podatki o ponudniku'!C7,"")
A11: * | B11: 1. | C11: podsklop: OSNOVNE MIKROBIOLOŠKE PREISKAVE | H11: ZAPRT | L11: OSNOVNE MIKROBIOLOŠKE PREISKAVE
A12: EOB | B12: Zap. št. | C12: Naziv blaga | D12: Lastnost 1 | E12: Lastnost 2 | F12: Lastnost 3 | G12: Lastnost 4 | H12: EM | I12: Količina | J12: Št. vzorcev | K12: Var. | L12: Veljavna cena brez DDV | M12: Popust | N12: Stopnja DDV | O12: Cena brez DDV | P12: Cena z DDV | Q12: Vrednost brez DDV | R12: Vrednost z DDV | S12: Proizvajalec | T12: Ponudnikov naziv blaga | U12: Kataloška številka | V12: Opomba
B13: 1 | C13: Preiskava na Cryptosporidium spp. in Giardia - antigen | D13: AG21 | H13: KOS | I13: 12 | K13: 1 | O13: =ROUND(ROUND(L13,4)*(1-M13),4) -> 0 | P13: =ROUND(ROUND(O13,4)*(1+N13),4) -> 0 | Q13: =ROUND($I13*O13,4) -> 0 | R13: =ROUND($I13*P13,4) -> 0
B14: 2 | C14: Preiskava na topni antigen Legionella pneumophila | D14: AG25 | H14: KOS | I14: 789 | K14: 1 | O14: =ROUND(ROUND(L14,4)*(1-M14),4) -> 0 | P14: =ROUND(ROUND(O14,4)*(1+N14),4) -> 0 | Q14: =ROUND($I14*O14,4) -> 0 | R14: =ROUND($I14*P14,4) -> 0
B15: 3 | C15: Preiskava na topni antigen Str.pneumoniae | D15: AG26 | H15: KOS | I15: 639 | K15: 1 | O15: =ROUND(ROUND(L15,4)*(1-M15),4) -> 0 | P15: =ROUND(ROUND(O15,4)*(1+N15),4) -> 0 | Q15: =ROUND($I15*O15,4) -> 0 | R15: =ROUND($I15*P15,4) -> 0
B16: 4 | C16: Preiskava na aerobne bakterije | D16: B001 | H16: KOS | I16: 7899 | K16: 1 | O16: =ROUND(ROUND(L16,4)*(1-M16),4) -> 0 | P16: =ROUND(ROUND(O16,4)*(1+N16),4) -> 0 | Q16: =ROUND($I16*O16,4) -> 0 | R16: =ROUND($I16*P16,4) -> 0
B17: 5 | C17: Preiskava na anaerobne bakterije | D17: B002 | H17: KOS | I17: 7650 | K17: 1 | O17: =ROUND(ROUND(L17,4)*(1-M17),4) -> 0 | P17: =ROUND(ROUND(O17,4)*(1+N17),4) -> 0 | Q17: =ROUND($I17*O17,4) -> 0 | R17: =ROUND($I17*P17,4) -> 0
B18: 6 | C18: Preiskava na patogene bakterije - vzorci nosu, žrela, zg.dihal | D18: B003 | H18: KOS | I18: 654 | K18: 1 | O18: =ROUND(ROUND(L18,4)*(1-M18),4) -> 0 | P18: =ROUND(ROUND(O18,4)*(1+N18),4) -> 0 | Q18: =ROUND($I18*O18,4) -> 0 | R18: =ROUND($I18*P18,4) -> 0
B19: 7 | C19: Preiskava na patogene bakterije - vzorci sp.dihal | D19: B004 | H19: KOS | I19: 2223 | K19: 1 | O19: =ROUND(ROUND(L19,4)*(1-M19),4) -> 0 | P19: =ROUND(ROUND(O19,4)*(1+N19),4) -> 0 | Q19: =ROUND($I19*O19,4) -> 0 | R19: =ROUND($I19*P19,4) -> 0
B20: 8 | C20: Preiskava na patogene bakterije - vzorci urogen.t. | D20: B008 | H20: KOS | I20: 330 | K20: 1 | O20: =ROUND(ROUND(L20,4)*(1-M20),4) -> 0 | P20: =ROUND(ROUND(O20,4)*(1+N20),4) -> 0 | Q20: =ROUND($I20*O20,4) -> 0 | R20: =ROUND($I20*P20,4) -> 0
B21: 9 | C21: Semikvantitativna urinokultura | D21: B009 | H21: KOS | I21: 5121 | K21: 1 | O21: =ROUND(ROUND(L21,4)*(1-M21),4) -> 0 | P21: =ROUND(ROUND(O21,4)*(1+N21),4) -> 0 | Q21: =ROUND($I21*O21,4) -> 0 | R21: =ROUND($I21*P21,4) -> 0
B22: 10 | C22: Orientacijska preiskava seča - urikult | D22: B010 | H22: KOS | I22: 345 | K22: 1 | O22: =ROUND(ROUND(L22,4)*(1-M22),4) -> 0 | P22: =ROUND(ROUND(O22,4)*(1+N22),4) -> 0 | Q22: =ROUND($I22*O22,4) -> 0 | R22: =ROUND($I22*P22,4) -> 0
B23: 11 | C23: Preiskava na patogene bakterije - vzorci očesa, ušesa | D23: B011 | H23: KOS | I23: 645 | K23: 1 | O23: =ROUND(ROUND(L23,4)*(1-M23),4) -> 0 | P23: =ROUND(ROUND(O23,4)*(1+N23),4) -> 0 | Q23: =ROUND($I23*O23,4) -> 0 | R23: =ROUND($I23*P23,4) -> 0
B24: 12 | C24: Preiskava likvorja na patogene bakterije | D24: B016 | H24: KOS | I24: 18 | K24: 1 | O24: =ROUND(ROUND(L24,4)*(1-M24),4) -> 0 | P24: =ROUND(ROUND(O24,4)*(1+N24),4) -> 0 | Q24: =ROUND($I24*O24,4) -> 0 | R24: =ROUND($I24*P24,4) -> 0
... B33: 21 | C33: Preiskava na dermatofite | D33: G002 | H33: KOS | I33: 693 | K33: 1 | O33: =ROUND(ROUND(L33,4)*(1-M33),4) -> 0 | P33: =ROUND(ROUND(O33,4)*(1+N33),4) -> 0 | Q33: =ROUND($I33*O33,4) -> 0 | R33: =ROUND($I33*P33,4) -> 0
B34: 22 | C34: Identifikacija izolata - metoda MALDI-TOF | H34: KOS | I34: 5400 | K34: 1 | O34: =ROUND(ROUND(L34,4)*(1-M34),4) -> 0 | P34: =ROUND(ROUND(O34,4)*(1+N34),4) -> 0 | Q34: =ROUND($I34*O34,4) -> 0 | R34: =ROUND($I34*P34,4) -> 0
B35: 23 | C35: Salmonella sp. - osnovna serotipizacija | D35: ID25 | H35: KOS | I35: 42 | K35: 1 | O35: =ROUND(ROUND(L35,4)*(1-M35),4) -> 0 | P35: =ROUND(ROUND(O35,4)*(1+N35),4) -> 0 | Q35: =ROUND($I35*O35,4) -> 0 | R35: =ROUND($I35*P35,4) -> 0
B36: 24 | C36: Identifikacija izolata - metoda MALDI-TOF (LZM) | D36: ID34 | H36: KOS | I36: 12360 | K36: 1 | O36: =ROUND(ROUND(L36,4)*(1-M36),4) -> 0 | P36: =ROUND(ROUND(O36,4)*(1+N36),4) -> 0 | Q36: =ROUND($I36*O36,4) -> 0 | R36: =ROUND($I36*P36,4) -> 0
B37: 25 | C37: Borrelia burgdorferi - IgG (ELISA) | D37: LZ01 | H37: KOS | I37: 1935 | K37: 1 | O37: =ROUND(ROUND(L37,4)*(1-M37),4) -> 0 | P37: =ROUND(ROUND(O37,4)*(1+N37),4) -> 0 | Q37: =ROUND($I37*O37,4) -> 0 | R37: =ROUND($I37*P37,4) -> 0
B38: 26 | C38: Borrelia burgdorferi - IgM (ELISA) | D38: LZ02 | H38: KOS | I38: 1935 | K38: 1 | O38: =ROUND(ROUND(L38,4)*(1-M38),4) -> 0 | P38: =ROUND(ROUND(O38,4)*(1+N38),4) -> 0 | Q38: =ROUND($I38*O38,4) -> 0 | R38: =ROUND($I38*P38,4) -> 0
B39: 27 | C39: Borrelia burgdorferi - IgG (imunoblot) | D39: LZ05 | H39: KOS | I39: 468 | K39: 1 | O39: =ROUND(ROUND(L39,4)*(1-M39),4) -> 0 | P39: =ROUND(ROUND(O39,4)*(1+N39),4) -> 0 | Q39: =ROUND($I39*O39,4) -> 0 | R39: =ROUND($I39*P39,4) -> 0
B40: 28 | C40: Borelia burgdorferi - IgM (imunoblot) | D40: LZ06 | H40: KOS | I40: 210 | K40: 1 | O40: =ROUND(ROUND(L40,4)*(1-M40),4) -> 0 | P40: =ROUND(ROUND(O40,4)*(1+N40),4) -> 0 | Q40: =ROUND($I40*O40,4) -> 0 | R40: =ROUND($I40*P40,4) -> 0
B41: 29 | C41: Toxoplasma gondii IgG (ELISA) | D41: LZ08 | H41: KOS | I41: 1338 | K41: 1 | O41: =ROUND(ROUND(L41,4)*(1-M41),4) -> 0 | P41: =ROUND(ROUND(O41,4)*(1+N41),4) -> 0 | Q41: =ROUND($I41*O41,4) -> 0 | R41: =ROUND($I41*P41,4) -> 0
B42: 30 | C42: Toxoplasma gondii IgM (ELISA) | D42: LZ09 | H42: KOS | I42: 1338 | K42: 1 | O42: =ROUND(ROUND(L42,4)*(1-M42),4) -> 0 | P42: =ROUND(ROUND(O42,4)*(1+N42),4) -> 0 | Q42: =ROUND($I42*O42,4) -> 0 | R42: =ROUND($I42*P42,4) -> 0
B43: 31 | C43: Toxoplasma gondii IgG - avidnost | D43: LZ07 | H43: KOS | I43: 9 | K43: 1 | O43: =ROUND(ROUND(L43,4)*(1-M43),4) -> 0 | P43: =ROUND(ROUND(O43,4)*(1+N43),4) -> 0 | Q43: =ROUND($I43*O43,4) -> 0 | R43: =ROUND($I43*P43,4) -> 0
B44: 32 | C44: Preiskava na površinski antigen virusa hepatitisa B | D44: LZ12 | H44: KOS | I44: 591 | K44: 1 | O44: =ROUND(ROUND(L44,4)*(1-M44),4) -> 0 | P44: =ROUND(ROUND(O44,4)*(1+N44),4) -> 0 | Q44: =ROUND($I44*O44,4) -> 0 | R44: =ROUND($I44*P44,4) -> 0
B45: 33 | C45: Preiskava na mikroorganizme - barvani mikr.preparat | D45: MI01 | H45: KOS | I45: 8634 | K45: 1 | O45: =ROUND(ROUND(L45,4)*(1-M45),4) -> 0 | P45: =ROUND(ROUND(O45,4)*(1+N45),4) -> 0 | Q45: =ROUND($I45*O45,4) -> 0 | R45: =ROUND($I45*P45,4) -> 0
B46: 34 | C46: Preiskava na jajčeca črevesnih parazitov | D46: MI04 | H46: KOS | I46: 504 | K46: 1 | O46: =ROUND(ROUND(L46,4)*(1-M46),4) -> 0 | P46: =ROUND(ROUND(O46,4)*(1+N46),4) -> 0 | Q46: =ROUND($I46*O46,4) -> 0 | R46: =ROUND($I46*P46,4) -> 0
... B90: 78 | C90: PCR preiskava v realnem času na koronavirus 2019-nCoV (GeneXpert) | D90: M106 | H90: KOS | I90: 28080 | K90: 1 | O90: =ROUND(ROUND(L90,4)*(1-M90),4) -> 0 | P90: =ROUND(ROUND(O90,4)*(1+N90),4) -> 0 | Q90: =ROUND($I90*O90,4) -> 0 | R90: =ROUND($I90*P90,4) -> 0
P91: Skupaj: | Q91: =SUM(Q13:Q90) -> 0 | R91: =SUM(R13:R90) -> 0
A94: * | B94: 2. | C94: podsklop: MIKROBIOLOŠKE PREISKAVE II | H94: ZAPRT | L94: MIKROBIOLOŠKE PREISKAVE II
A95: EOB | B95: Zap. št. | C95: Naziv blaga | D95: Lastnost 1 | E95: Lastnost 2 | F95: Lastnost 3 | G95: Lastnost 4 | H95: EM | I95: Količina | J95: Št. vzorcev | K95: Var. | L95: Veljavna cena brez DDV | M95: Popust | N95: Stopnja DDV | O95: Cena brez DDV | P95: Cena z DDV | Q95: Vrednost brez DDV | R95: Vrednost z DDV | S95: Proizvajalec | T95: Ponudnikov naziv blaga | U95: Kataloška številka | V95: Opomba
B96: 1 | C96: Mikroskopski pregled kužnine na mikobakterije | D96: MIKR | H96: KOS | I96: 915 | K96: 1 | O96: =ROUND(ROUND(L96,4)*(1-M96),4) -> 0 | P96: =ROUND(ROUND(O96,4)*(1+N96),4) -> 0 | Q96: =ROUND($I96*O96,4) -> 0 | R96: =ROUND($I96*P96,4) -> 0
B97: 2 | C97: Preiskava kužnine na mikobakterije - kultivacija na trdih gojiščih | D97: KULT | H97: KOS | I97: 915 | K97: 1 | O97: =ROUND(ROUND(L97,4)*(1-M97),4) -> 0 | P97: =ROUND(ROUND(O97,4)*(1+N97),4) -> 0 | Q97: =ROUND($I97*O97,4) -> 0 | R97: =ROUND($I97*P97,4) -> 0
B98: 3 | C98: Preiskava kužnine na mikobakterije - kultivacija na tekočih gojiščih | D98: KULT | H98: KOS | I98: 915 | K98: 1 | O98: =ROUND(ROUND(L98,4)*(1-M98),4) -> 0 | P98: =ROUND(ROUND(O98,4)*(1+N98),4) -> 0 | Q98: =ROUND($I98*O98,4) -> 0 | R98: =ROUND($I98*P98,4) -> 0
B99: 4 | C99: Test pomnoževanja nukleinskih kislin na mikobakterije | D99: ATMTC | H99: KOS | I99: 69 | K99: 1 | O99: =ROUND(ROUND(L99,4)*(1-M99),4) -> 0 | P99: =ROUND(ROUND(O99,4)*(1+N99),4) -> 0 | Q99: =ROUND($I99*O99,4) -> 0 | R99: =ROUND($I99*P99,4) -> 0
B100: 5 | C100: QuantiFeronski test - priprava na test | D100: QFTPR | H100: KOS | I100: 297 | K100: 1 | O100: =ROUND(ROUND(L100,4)*(1-M100),4) -> 0 | P100: =ROUND(ROUND(O100,4)*(1+N100),4) -> 0 | Q100: =ROUND($I100*O100,4) -> 0 | R100: =ROUND($I100*P100,4) -> 0
B101: 6 | C101: QuantiFeronski test -izvedba testa | D101: QFTT | H101: KOS | I101: 297 | K101: 1 | O101: =ROUND(ROUND(L101,4)*(1-M101),4) -> 0 | P101: =ROUND(ROUND(O101,4)*(1+N101),4) -> 0 | Q101: =ROUND($I101*O101,4) -> 0 | R101: =ROUND($I101*P101,4) -> 0
B102: 7 | C102: Identifikacija izolirane mikobakterije | D102: IDMTpon. | H102: KOS | I102: 72 | K102: 1 | O102: =ROUND(ROUND(L102,4)*(1-M102),4) -> 0 | P102: =ROUND(ROUND(O102,4)*(1+N102),4) -> 0 | Q102: =ROUND($I102*O102,4) -> 0 | R102: =ROUND($I102*P102,4) -> 0
B103: 8 | C103: Testiranje občutljivosti mikobakterije | D103: REZT | H103: KOS | I103: 60 | K103: 1 | O103: =ROUND(ROUND(L103,4)*(1-M103),4) -> 0 | P103: =ROUND(ROUND(O103,4)*(1+N103),4) -> 0 | Q103: =ROUND($I103*O103,4) -> 0 | R103: =ROUND($I103*P103,4) -> 0
B104: 9 | C104: NTM biokemična potrditev | D104: IDNTM | H104: KOS | I104: 72 | K104: 1 | O104: =ROUND(ROUND(L104,4)*(1-M104),4) -> 0 | P104: =ROUND(ROUND(O104,4)*(1+N104),4) -> 0 | Q104: =ROUND($I104*O104,4) -> 0 | R104: =ROUND($I104*P104,4) -> 0
B105: 10 | C105: MT biokemična potrditev | D105: IDMTprvi | H105: KOS | I105: 12 | K105: 1 | O105: =ROUND(ROUND(L105,4)*(1-M105),4) -> 0 | P105: =ROUND(ROUND(O105,4)*(1+N105),4) -> 0 | Q105: =ROUND($I105*O105,4) -> 0 | R105: =ROUND($I105*P105,4) -> 0
P106: Skupaj: | Q106: =SUM(Q96:Q105) -> 0 | R106: =SUM(R96:R105) -> 0
A109: * | B109: 3. | C109: podsklop: MIKROBIOLOŠKE PREISKAVE III | H109: ZAPRT | L109: MIKROBIOLOŠKE PREISKAVE III
A110: EOB | B110: Zap. št. | C110: Naziv blaga | D110: Lastnost 1 | E110: Lastnost 2 | F110: Lastnost 3 | G110: Lastnost 4 | H110: EM | I110: Količina | J110: Št. vzorcev | K110: Var. | L110: Veljavna cena brez DDV | M110: Popust | N110: Stopnja DDV | O110: Cena brez DDV | P110: Cena z DDV | Q110: Vrednost brez DDV | R110: Vrednost z DDV | S110: Proizvajalec | T110: Ponudnikov naziv blaga | U110: Kataloška številka | V110: Opomba
B111: 1 | C111: MIK antibiotika za izolirani helikobakter (6X) | D111: 035 | H111: KOS | I111: 12 | K111: 1 | O111: =ROUND(ROUND(L111,4)*(1-M111),4) -> 0 | P111: =ROUND(ROUND(O111,4)*(1+N111),4) -> 0 | Q111: =ROUND($I111*O111,4) -> 0 | R111: =ROUND($I111*P111,4) -> 0
B112: 2 | C112: Identifikacija bakterije - MALDI-TOF | D112: 066 | H112: KOS | I112: 12 | K112: 1 | O112: =ROUND(ROUND(L112,4)*(1-M112),4) -> 0 | P112: =ROUND(ROUND(O112,4)*(1+N112),4) -> 0 | Q112: =ROUND($I112*O112,4) -> 0 | R112: =ROUND($I112*P112,4) -> 0
B113: 3 | C113: Dokaz in identi. bakterij v primarno sterilnih kužninah s pomočjo molekul. metod | D113: 075 | H113: KOS | I113: 3 | K113: 1 | O113: =ROUND(ROUND(L113,4)*(1-M113),4) -> 0 | P113: =ROUND(ROUND(O113,4)*(1+N113),4) -> 0 | Q113: =ROUND($I113*O113,4) -> 0 | R113: =ROUND($I113*P113,4) -> 0
B114: 4 | C114: Clostridium difficile toksin - DNA | D114: 80 | H114: KOS | I114: 3 | K114: 1 | O114: =ROUND(ROUND(L114,4)*(1-M114),4) -> 0 | P114: =ROUND(ROUND(O114,4)*(1+N114),4) -> 0 | Q114: =ROUND($I114*O114,4) -> 0 | R114: =ROUND($I114*P114,4) -> 0
B115: 5 | C115: Helicobacter pylori - molekularno določanje odpornosti proti KLA in FQ | D115: 088 | H115: KOS | I115: 12 | K115: 1 | O115: =ROUND(ROUND(L115,4)*(1-M115),4) -> 0 | P115: =ROUND(ROUND(O115,4)*(1+N115),4) -> 0 | Q115: =ROUND($I115*O115,4) -> 0 | R115: =ROUND($I115*P115,4) -> 0
B116: 6 | C116: Borrelia spp. antigen VIsE - protitelesa IgG | D116: 094 | H116: KOS | I116: 81 | K116: 1 | O116: =ROUND(ROUND(L116,4)*(1-M116),4) -> 0 | P116: =ROUND(ROUND(O116,4)*(1+N116),4) -> 0 | Q116: =ROUND($I116*O116,4) -> 0 | R116: =ROUND($I116*P116,4) -> 0
B117: 7 | C117: Borrelia spp. antigena OspC in VIsE - protitelesa IgM | D117: 095 | H117: KOS | I117: 81 | K117: 1 | O117: =ROUND(ROUND(L117,4)*(1-M117),4) -> 0 | P117: =ROUND(ROUND(O117,4)*(1+N117),4) -> 0 | Q117: =ROUND($I117*O117,4) -> 0 | R117: =ROUND($I117*P117,4) -> 0
B118: 8 | C118: Kultivacija in izolacija bakterij iz likvorja | D118: 105 | H118: KOS | I118: 6 | K118: 1 | O118: =ROUND(ROUND(L118,4)*(1-M118),4) -> 0 | P118: =ROUND(ROUND(O118,4)*(1+N118),4) -> 0 | Q118: =ROUND($I118*O118,4) -> 0 | R118: =ROUND($I118*P118,4) -> 0
B119: 9 | C119: Mikroskopska preiskava - direktni preparat iz kužnine | D119: 132 | H119: KOS | I119: 12 | K119: 1 | O119: =ROUND(ROUND(L119,4)*(1-M119),4) -> 0 | P119: =ROUND(ROUND(O119,4)*(1+N119),4) -> 0 | Q119: =ROUND($I119*O119,4) -> 0 | R119: =ROUND($I119*P119,4) -> 0
B120: 10 | C120: Mikroskopska preiskava - različna barvanja | D120: 133 | H120: KOS | I120: 3 | K120: 1 | O120: =ROUND(ROUND(L120,4)*(1-M120),4) -> 0 | P120: =ROUND(ROUND(O120,4)*(1+N120),4) -> 0 | Q120: =ROUND($I120*O120,4) -> 0 | R120: =ROUND($I120*P120,4) -> 0
B121: 11 | C121: Bartonella henselae - protitelesa IgM | D121: 140 | H121: KOS | I121: 126 | K121: 1 | O121: =ROUND(ROUND(L121,4)*(1-M121),4) -> 0 | P121: =ROUND(ROUND(O121,4)*(1+N121),4) -> 0 | Q121: =ROUND($I121*O121,4) -> 0 | R121: =ROUND($I121*P121,4) -> 0
B122: 12 | C122: Bartonella henselae - protitelesa IgG | D122: 141 | H122: KOS | I122: 126 | K122: 1 | O122: =ROUND(ROUND(L122,4)*(1-M122),4) -> 0 | P122: =ROUND(ROUND(O122,4)*(1+N122),4) -> 0 | Q122: =ROUND($I122*O122,4) -> 0 | R122: =ROUND($I122*P122,4) -> 0
... B274: 164 | C274: Chlamydia trachomatis in Neisseria gonorrhoeae - DNA | D274: K01 | H274: KOS | I274: 3 | K274: 1 | O274: =ROUND(ROUND(L274,4)*(1-M274),4) -> 0 | P274: =ROUND(ROUND(O274,4)*(1+N274),4) -> 0 | Q274: =ROUND($I274*O274,4) -> 0 | R274: =ROUND($I274*P274,4) -> 0
P275: Skupaj: | Q275: =SUM(Q111:Q274) -> 0 | R275: =SUM(R111:R274) -> 0

Sheet Sklop III.
C4: Seznam razpisanega blaga za sklop:
B5: III. | C5: PREDTRANSFUZIJSKE IN NEKATERE DRUGE KRVNE PREISKAVE, PRENATALNE KRVNE PREISKAVE TER KRI IN KOMPONENTE KRVI
C7: =IF('2. Podatki o ponudniku'!C5<>"","Naziv ponudnika: " & '2. Podatki o ponudniku'!C5,"")
C8: =IF('2. Podatki o ponudniku'!C7<>"","Identifikacijska številka za DDV: " & '2. Podatki o ponudniku'!C7,"")
A11: * | B11: 1. | C11: podsklop: PREDTRANSFUZIJSKE IN NEKATERE DRUGE KRVNE PREISKAVE | H11: ZAPRT | L11: PREDTRANSFUZIJSKE IN NEKATERE DRUGE KRVNE PREISKAVE
A12: EOB | B12: Zap. št. | C12: Naziv blaga | D12: Lastnost 1 | E12: Lastnost 2 | F12: Lastnost 3 | G12: Lastnost 4 | H12: EM | I12: Količina | J12: Št. vzorcev | K12: Var. | L12: Veljavna cena brez DDV | M12: Popust | N12: Stopnja DDV | O12: Cena brez DDV | P12: Cena z DDV | Q12: Vrednost brez DDV | R12: Vrednost z DDV | S12: Proizvajalec | T12: Ponudnikov naziv blaga | U12: Kataloška številka | V12: Opomba
B13: 1 | C13: Določitev KS ploščica +gel | H13: KOS | I13: 4500 | K13: 1 | O13: =ROUND(ROUND(L13,4)*(1-M13),4) -> 0 | P13: =ROUND(ROUND(O13,4)*(1+N13),4) -> 0 | Q13: =ROUND($I13*O13,4) -> 0 | R13: =ROUND($I13*P13,4) -> 0
B14: 2 | C14: Določitev krvne skupine AB0/ RhD gel nujno | H14: KOS | I14: 675 | K14: 1 | O14: =ROUND(ROUND(L14,4)*(1-M14),4) -> 0 | P14: =ROUND(ROUND(O14,4)*(1+N14),4) -> 0 | Q14: =ROUND($I14*O14,4) -> 0 | R14: =ROUND($I14*P14,4) -> 0
B15: 3 | C15: Določitev krvne skupine KS gel | H15: KOS | I15: 22980 | K15: 1 | O15: =ROUND(ROUND(L15,4)*(1-M15),4) -> 0 | P15: =ROUND(ROUND(O15,4)*(1+N15),4) -> 0 | Q15: =ROUND($I15*O15,4) -> 0 | R15: =ROUND($I15*P15,4) -> 0
B16: 4 | C16: Določitev krvne skupine AB0/ RhD ploščica+ gel nujno | H16: KOS | I16: 2790 | K16: 1 | O16: =ROUND(ROUND(L16,4)*(1-M16),4) -> 0 | P16: =ROUND(ROUND(O16,4)*(1+N16),4) -> 0 | Q16: =ROUND($I16*O16,4) -> 0 | R16: =ROUND($I16*P16,4) -> 0
B17: 5 | C17: Določitev antigena Kell | H17: KOS | I17: 4800 | K17: 1 | O17: =ROUND(ROUND(L17,4)*(1-M17),4) -> 0 | P17: =ROUND(ROUND(O17,4)*(1+N17),4) -> 0 | Q17: =ROUND($I17*O17,4) -> 0 | R17: =ROUND($I17*P17,4) -> 0
B18: 6 | C18: Določitev fenotipa Rh C/D/E/c/e | H18: KOS | I18: 135 | K18: 1 | O18: =ROUND(ROUND(L18,4)*(1-M18),4) -> 0 | P18: =ROUND(ROUND(O18,4)*(1+N18),4) -> 0 | Q18: =ROUND($I18*O18,4) -> 0 | R18: =ROUND($I18*P18,4) -> 0
B19: 7 | C19: Posamezni eritociti antigeni izven AB0 | H19: KOS | I19: 5250 | K19: 1 | O19: =ROUND(ROUND(L19,4)*(1-M19),4) -> 0 | P19: =ROUND(ROUND(O19,4)*(1+N19),4) -> 0 | Q19: =ROUND($I19*O19,4) -> 0 | R19: =ROUND($I19*P19,4) -> 0
B20: 8 | C20: Določitev variant antigena RhD | H20: KOS | I20: 720 | K20: 1 | O20: =ROUND(ROUND(L20,4)*(1-M20),4) -> 0 | P20: =ROUND(ROUND(O20,4)*(1+N20),4) -> 0 | Q20: =ROUND($I20*O20,4) -> 0 | R20: =ROUND($I20*P20,4) -> 0
B21: 9 | C21: Navzkrižni preizkus gel test | H21: KOS | I21: 15360 | K21: 1 | O21: =ROUND(ROUND(L21,4)*(1-M21),4) -> 0 | P21: =ROUND(ROUND(O21,4)*(1+N21),4) -> 0 | Q21: =ROUND($I21*O21,4) -> 0 | R21: =ROUND($I21*P21,4) -> 0
B22: 10 | C22: Navzkrižni preizkus gel test -nujno | H22: KOS | I22: 2055 | K22: 1 | O22: =ROUND(ROUND(L22,4)*(1-M22),4) -> 0 | P22: =ROUND(ROUND(O22,4)*(1+N22),4) -> 0 | Q22: =ROUND($I22*O22,4) -> 0 | R22: =ROUND($I22*P22,4) -> 0
B23: 11 | C23: Iskanjeantigensko skladnih enot za imuniziranega bolnika | H23: KOS | I23: 2400 | K23: 1 | O23: =ROUND(ROUND(L23,4)*(1-M23),4) -> 0 | P23: =ROUND(ROUND(O23,4)*(1+N23),4) -> 0 | Q23: =ROUND($I23*O23,4) -> 0 | R23: =ROUND($I23*P23,4) -> 0
B24: 12 | C24: Direktni antiglobulinski (Coombsov) test (DCT) | H24: KOS | I24: 810 | K24: 1 | O24: =ROUND(ROUND(L24,4)*(1-M24),4) -> 0 | P24: =ROUND(ROUND(O24,4)*(1+N24),4) -> 0 | Q24: =ROUND($I24*O24,4) -> 0 | R24: =ROUND($I24*P24,4) -> 0
... B98: 86 | C98: Obsevanje KK | H98: KOS | I98: 120 | K98: 1 | O98: =ROUND(ROUND(L98,4)*(1-M98),4) -> 0 | P98: =ROUND(ROUND(O98,4)*(1+N98),4) -> 0 | Q98: =ROUND($I98*O98,4) -> 0 | R98: =ROUND($I98*P98,4) -> 0
P99: Skupaj: | Q99: =SUM(Q13:Q98) -> 0 | R99: =SUM(R13:R98) -> 0
A102: * | B102: 2. | C102: podsklop: PRENATALNE PREISKAVE | H102: ZAPRT | L102: PRENATALNE PREISKAVE
A103: EOB | B103: Zap. št. | C103: Naziv blaga | D103: Lastnost 1 | E103: Lastnost 2 | F103: Lastnost 3 | G103: Lastnost 4 | H103: EM | I103: Količina | J103: Št. vzorcev | K103: Var. | L103: Veljavna cena brez DDV | M103: Popust | N103: Stopnja DDV | O103: Cena brez DDV | P103: Cena z DDV | Q103: Vrednost brez DDV | R103: Vrednost z DDV | S103: Proizvajalec | T103: Ponudnikov naziv blaga | U103: Kataloška številka | V103: Opomba
B104: 1 | C104: Preiskave in podaja poročila glede preventivnega injiciranja IgG antiD pri RhD negativnih nosečnicah | H104: KOS | I104: 990 | K104: 1 | O104: =ROUND(ROUND(L104,4)*(1-M104),4) -> 0 | P104: =ROUND(ROUND(O104,4)*(1+N104),4) -> 0 | Q104: =ROUND($I104*O104,4) -> 0 | R104: =ROUND($I104*P104,4) -> 0
B105: 2 | C105: Določitev krvne skupine AB0/ RhD | H105: KOS | I105: 900 | K105: 1 | O105: =ROUND(ROUND(L105,4)*(1-M105),4) -> 0 | P105: =ROUND(ROUND(O105,4)*(1+N105),4) -> 0 | Q105: =ROUND($I105*O105,4) -> 0 | R105: =ROUND($I105*P105,4) -> 0
B106: 3 | C106: Določitev antigena K | H106: KOS | I106: 1200 | K106: 1 | O106: =ROUND(ROUND(L106,4)*(1-M106),4) -> 0 | P106: =ROUND(ROUND(O106,4)*(1+N106),4) -> 0 | Q106: =ROUND($I106*O106,4) -> 0 | R106: =ROUND($I106*P106,4) -> 0
B107: 4 | C107: Določitev fenotipa Rh | H107: KOS | I107: 15 | K107: 1 | O107: =ROUND(ROUND(L107,4)*(1-M107),4) -> 0 | P107: =ROUND(ROUND(O107,4)*(1+N107),4) -> 0 | Q107: =ROUND($I107*O107,4) -> 0 | R107: =ROUND($I107*P107,4) -> 0
B108: 5 | C108: Določitev ICT | H108: KOS | I108: 11295 | K108: 1 | O108: =ROUND(ROUND(L108,4)*(1-M108),4) -> 0 | P108: =ROUND(ROUND(O108,4)*(1+N108),4) -> 0 | Q108: =ROUND($I108*O108,4) -> 0 | R108: =ROUND($I108*P108,4) -> 0
B109: 6 | C109: Odkrivanje fetomaternalne krvavitve - Klaihauer - Betkejev test | H109: KOS | I109: 360 | K109: 1 | O109: =ROUND(ROUND(L109,4)*(1-M109),4) -> 0 | P109: =ROUND(ROUND(O109,4)*(1+N109),4) -> 0 | Q109: =ROUND($I109*O109,4) -> 0 | R109: =ROUND($I109*P109,4) -> 0
P110: Skupaj: | Q110: =SUM(Q104:Q109) -> 0 | R110: =SUM(R104:R109) -> 0
