Workbook

Sheet 1_INTENZIVA
C2: SKLOP 1: Dobava premične medicinske oprema za center intenzivne terapije za SB Novo mesto
B3: zap. št. | C3: opis | D3: EM (enota mere) | E3: količina | F3: cena v € /EM | G3: cena skupaj v € (braz DDV)
B5: 1. | C5: Monitoring | D5: kpl | E5: 1 | G5: =E5*F5 -> 0
C6: naročnik bo ponudnika pred odločitvijo pozval na praktično predstavitev opreme in delovanje programa in tehničnih rešitev, ki so vključene v ponudbo
C8: a. 2 x centralna postaja (vsaka s po dvema ekranoma) za istočasni nadzor vsaj 16 bolnikov na vsaki centralni postaji
C9: Vsaka centralna nadzorna delovna postaja mora omogočati vsaj:
C10: Centralna nadzorna delovna postaja mora omogočati priključitev monitorjev za nadzor in prikaz vitalnih funkcij in telemetrijskih oddajnikov za najmanj 16 pacientov na vsaj po dveh ekranih s tehnologijo na dotik. Z možnostjo kasnejše razširitve sistema za do 24 pacientov. Velikost ekranov mora biti vsaj 24" široki ekran "widescreen"
C11: Pregled naj omogoča, da lahko na enem ekranu vidimo vse spremljane bolnike, na drugem ekranu pa podrobnosti spremljanja posameznega bolnika. Hkrati naj ekrana omogočata prilagoditve prikaza glede na potrebe uporabnika.
C12: Vnašanje in urejanje podatkov o pacientih, komentarjev in nadzor parametrov na enem mestu, uporaba čitalca črtne kode.
C13: Urejanje poročil z grafičnim vmesnikom za vnos krivulj in hranjenje in prenos v bolnišnični informacijski sistem ter izpis na barvni laserski tiskalnik.
C14: Izpis nadzorovanih parametrov in krivulj v primeru alarma ali ročnega aktiviranja izpisa na posameznem monitorju.
C15: S predpisi in standardi dovoljene posege na monitorjih (vsaj upravljanje z alarmi, aktiviranje neinvazivne meritve krvnega tlaka pri izbranem pacientu, potrditev nekritičnih alarmov). Alarmne limite naj bo možno nastaviti hkrati za vse bolnike in ločeno za vsakega posameznega bolnika. Oba ekrana naj bosta opremeljena z vidnim alarmom, ki naj bo viden z vseh strani sestrskega pulta.
C16: Algoritem za analizo in alarmiranje ''beat to beat'' sprememb v srčnem utripu, ritmu in ST intervalih.
C17: Meritev QT/QTc segmenta z nastavljivimi alarmi, 12-kanalno EKG spremljanje
C18: Popoln pregled trenutnega dogajanja, pregled shranjenih podatkov, ki naj vključuje: krivulje, parametre, alarme, detekcije aritmij, ST segmenta, dogodkov in trendov - za najmanj 120 zadnjih ur za vse nadzorovane parametre in krivulje, s prikazom dogodkov (alarmi in ročno vnešeni dogodki) („Full disclosure“). Full disclosure naj omogoča poln pregled krivulj, vsaj do 16 krivulj na bolnika.
... C142: Testiranje delovanja
B144: Proizvajalec:
B145: Tip:
B146: Kataloška številka
B147: Opombe:
B149: zap. št. | C149: opis | D149: enota | E149: količina | F149: cena v € /enota | G149: cena skupaj v €
B151: 2. | C151: Transportni monitor z nosilcem za monitor | D151: kpl | E151: 4 | G151: =E151*F151 -> 0
C152: Transportni monitor - primarni monitor naj bo enostaven za uporabo, lahek (vključno z baterijo in ročko ne
C153: več kot 1,5 kg ±5%). Biti mora kompatibilen z obstoječimi monitorji v urgentnem centru (proizvajalca NIHON KOHDEN)
C154: - pasivno hlajenje (brez ventilatorja),
C155: - odporen na udarce (potrjeno s standardom),
C156: - LCD TFT zaslon aktiven na dotik (touch screen),
C157: - prikaz naslednjih parametrov:
C158: - EKG/ respiracija
C159: - NIBP (neinvazivno merjenje krvnega tlaka)
C160: - SpO2 (saturacija arterijske krvi s kisikom z naprstno ščipalko za odrasle)
C161: - CO2 (koncentracija ogljikovega dioksida v izdihanem zraku)
C162: Primarni merilni modul naj omogoča naknadno nadgradnjo vsaj z možnostmi: 2x temperatura, 2xIBP, CCO.
C163: Primarni merilni modul (transportni monitor) naj zagotavlja hkratno merjenje in polno kontinuiteto vseh
... C187: - SIST EN 1060-4
B189: Proizvajalec:
B190: Tip:
B191: Kataloška številka
B192: Opombe:
B194: zap. št. | C194: opis | D194: enota | E194: količina | F194: cena v € /enota | G194: cena skupaj v €
B196: 3. | C196: STERILIZATOR | D196: kpl | E196: 1 | G196: =E196*F196 -> 0
C197: Polno avtomatski parni sterilizator namenjen sterilizaciji zavitih trdih, votlih, poroznih, bombažnih materialov, ki se uporabljajo v bolnišnici in so obstojni pri temperaturah 121°C in 134°C.
C198: Ogrevanje sterilizatorja preko vgrajenega paro – paro generatorja.
C199: Biti mora prehodnega tipa, z vertikalnimi, navpično drsnimi vrati na čisti in sterilni strani, z električnim napajanjem.
C200: Velikost komore 8 SE oz. volumna 580 – 600 litrov.
C201: Zunanje mere (V x Š x G) v mm: 1900 - 2000 x 900 - 1000 x 1700 – 1800.
C202: Raven zvoka ob delovanju aparata maksimalno 65 dB.
C204: POSAMEZNE KOMPONENTE
C205: KOMORA
C206: - Izdelana iz nerjavečega jekla, kvalitete AISI 316 L ali boljšega.
C207: - Debelina stene komore najmanj 5 mm.
C208: - Vodila za vložni voziček znotraj komore morajo biti iz enako kvalitetnega nerjavečega jekla.
C209: - Notranjost komore visoko polirana zaradi lažjega čiščenja, robovi zaokroženi.
... C251: ponudnik mora v kpl. ponujene opreme (v sklopu ponudbene cene) zagotoviti:
C252: Voziček za sterilizator (na čisti in sterilni strani) mora biti izdelan iz nerjavečega jekla kvalitete AISI 304 ali boljšega. Kompatibilnost s sterilizatorjem. Imeti mora nameščen zavorni mehanizem, ki omogoča stabilnost vozička pri nalaganju in razlaganju sterilizatorja. | D252: kos | E252: 2
C253: Vložni voziček mora imeti eno polico nastavljivo po višini. Izdelan mora biti iz nerjavečega jekla kvalitete AISI 316 L ali boljšega. Kompatibilnost s sterilizatorjem in zunanjim vozičkom. | D253: kos | E253: 1
C255: EDUKACIJA ZAPOSLENI IN NAVODILO O DELOVANJU IN ROKOVANJU
C256: Ponudnik mora v sklopu ponudbene cene zagotoviti izobraževanje vsega osebja v Centralni sterilizaciji za varno in uspešno delo z opremo do faze popolnega obvladovanja sistema.
C257: Priložiti mora navodila za rokovanje s sterilizatorjem v slovenskem jeziku in pripadajočo originalno dokumentacijo.
C259: GARANCIJA, PREVENTIVNO VZDRŽEVANJE in SERVISNE STORITVE
C260: Ponudnik mora nuditi min 24 mesečno garancijsko dobo.
C261: Ponudnik mora v času garancijskega roka na svoje stroške zagotoviti vsa redna preventivna vzdrževanja po navodilu proizvajalca in odpravo vseh napak na opremi.
C262: Servisna storitev v primeru okvare mora biti zagotovljena v 12 urah od javljene napake, rok odprave napake 48 ur.
C263: Ponudnik mora v okviru ponudbene dokumentacije obvezno predložiti predvideni strošek preventivnega vzdrževanja za obdobje 5 let po izteku garancijske dobe in podati opis obsega preventivnega vzdrževanja po navodilu proizvajalca opreme.
C265: POSTAVITEV STERILIZATORJA
C266: Po postavitvi sterilizatorja se morajo morebitne ostale odprtine zapreti z nerjavečim jeklom primerne kvalitete tako, da se aparat primerno umesti v že obstoječo konstrukcijo. Nerjaveče jeklo mora biti primerne kvalitete za čiščenje in razkuževanje. Ponudnik mora predložiti listo čistil in razkužil kompatibilnih z opremo.
C268: TEHNIČNE ZAHTEVE
C269: PARO - PARNI GENERATOR
... C306: Ponudnik bo moral na lastne stroške omogočiti ogled že delujočega aparata (model, kot ga ponuja v predmetnem JN!) v primerljivem kliničnem okolju, v kolikor bi ga naročnik k temu pozval (če opreme še ne bi poznal in bi bilo to potrebno v fazi pregleda in analize ponudb za ugotovitev ustreznosti ponujene opreme).
B309: Proizvajalec:
B310: Tip:
B311: Kataloška številka
B312: Opombe:
B315: zap. št. | C315: opis | D315: enota | E315: količina | F315: cena v € /enota | G315: cena skupaj v €
B317: 4. | C317: aparat za izvajanje in spremljanje terapije z vdihanim dušikovim oksidom (iNO) s transportnim modulom | D317: kos | E317: 1 | G317: =E317*F317 -> 0
C318: Splošne zahteve:
C319: Sistem za sinhronizirano intermitentno in kontinuirano dovajanje ter spremljanje terapije z inhalacijskim dušikovim oksidom (iNO), namenjen odraslim, otrokom, novorojenčkom in nedonošenčkom, ki omogoča z ventilatorjem sinhronizirano in proporcionalno dovajanje iNO ter merjenje vrednosti NO, NO2 in FiO2.
C320: Sistem mora poleg aparata vključevati mobilni podstavek na kolesih z zavornim sistemom, z montažo za vsaj 2 NO jeklenki, s košaro ali predalnikom za pribor ter vsaj 2 tlačna regulatorja za NO jeklenki, ki naj bosta tovarniško prednastavljena za povečanje varnosti delovanja in preprečevanja napačnih nastavitev tlakov.
C321: Aparat za dovajanje in spremljanje NO terapije mora omogočati hkraten priklop vsaj dveh (2) jeklenk s samodejnim varnostnim preklopom med njima, če se ena jeklenka izprazni. Aparat naj ima na ekranu prikaz dovajalnih tlakov obeh jeklenk in nastavljive alarmne limite za alarm ob izpraznenju jeklenk.
C322: Aparat za dovajanje in spremljanje iNO terapije naj bo enostavno snemljiv iz mobilnega podstavka - brez uporabe orodja. Za namene transporta naj ima aparat prenosno ročko, teža aparata za dovajanje in spremljanje NO pa naj ne presega 10kg.
C323: Aparat naj ima vgrajeno baterijo za delovanje ob izpadu električne energije ali transportu, ki naj zagotavlja vsaj 2 uri delovanja.
C324: Aparatu naj bo dodan tudi štartni set potrošnega materiala za uporabo v vsaj 10 aplikacijah. Štartni set naj vključuje vsaj 10 linij za zajem oziroma vzorčenje, ki mora imeti integriran lovilec kondeza - posodico z zaščitnim filtrom, vsaj 10 linij za dovajanje, vsaj 10 kemičnih odstranjevalcev - filtrov za izhod ventilatorja (t.i. "ventilator scavenger") ter vsaj 10 kemičnih odstranjevalcev - filtrov za izhod aparata za dovajanje in spremljanje NO (t.i. "NO scavenger") ipd., tako da pribor zagotavlja polno funkcionalnost rabe v 10 aplikacijah. Filter "scavenger" za ventilator naj bo izveden tako, da je cev dovolj dolga (vsaj 1,5m), da filter leži vodoravno in preprečuje kapljanje obarvane vode na tla. V kolikor sistem uporablja senzorje pretoka za enkratno uporabo, mora ponudnik ponuditi vsaj 10 odraslih in 10 otroških senzorjev pretoka. Vmesniki za dihalni sistem naj bodo primerni za uporabo z dihalnimi sistemi za odrasle, otroke in novorojenčke ter naj bodo kompatibilni s standardnimi ogrevanimi in neogrevanimi dihalnimi sistemi.
C325: Aparat naj omogoča elektronsko povezavo z ventilatorji za mehansko predihavanje pljuč in direktno elektronsko komunikacijo za časovno in amplitudno sinhronizacijo z ventilatorjevimi vpihi.
C326: Vsa oprema in potrošni material morajo ustrezati medicinskim standardom in nositi CE oznako skladnosti z direktivo 93/42/EEC ter EMC skladnost z EN 60601 (3. edition).
C327: Karakteristike in lastnosti:
C328: dovajanje dušikovega oksida (NO) in spremljanje NO in dušikovega dioksida (NO2) preko vgrajenega LCD ekrana
C329: spremljanje v razponu vsaj 100 ppm za NO in vsaj 50 ppm za NO2 z razločljivostjo vsaj 0,1 ppm za oba plina
... C351: Priložiti je potrebno servisni certifikat proizvajalca za vsaj 2 šolana serviserja.
B353: Proizvajalec:
B354: Tip:
B355: Kataloška številka
B356: Opombe:
B358: 5. | C358: ventilator - respirator | D358: kos | E358: 6 | G358: =E358*F358 -> 0
C359: Naštete oblike ventilacije in ostali uporabljeni izrazi so, zaradi neenotne terminologije, mišljeni »generično«.
C360: Aparat za mehansko predihavanje oz. ventilator mora zahtevati naslednjim zahtevam:
C361: 1. Načini / tipi / oblike predihavanja:
C362: IPPV, IPPV/Assist (CMV, Assist/Control) z vsaj:
C363: - volumsko kontrolirani vdihi (VC)
C364: - tlačno kontrolirani vdihi (PC)
C365: - dvojno kontrolirani vdihi (npr. PRVC/VG/AutoFlow/ VC+/ APV ali ekvivalent)
...

Sheet 1 INTENZIVA_sum
C2: SKLOP 1: Dobava premične medicinske oprema za center intenzivne terapije za SB Novo mesto - REKAPITULACIJA
B3: zap. št. | C3: opis | D3: EM (enota mere) | E3: količina | F3: cena v € /EM | G3: cena skupaj v € (brez DDV)
B4: 1. | C4: Monitoring | D4: kpl | E4: 1 | F4: ='1_INTENZIVA'!F5 -> 0 | G4: =E4*F4 -> 0
B5: 2. | C5: Transportni monitor z nosilcem za monitor | D5: kpl | E5: 4 | F5: ='1_INTENZIVA'!F151 -> 0 | G5: =E5*F5 -> 0
B6: 3. | C6: Sterilizator | D6: kpl | E6: 1 | F6: ='1_INTENZIVA'!F196 -> 0 | G6: =E6*F6 -> 0
B7: 4. | C7: aparat za izvajanje in spremljanje terapije z vdihanim dušikovim oksidom (iNO) s transportnim modulom | D7: kos | E7: 1 | F7: ='1_INTENZIVA'!F317 -> 0 | G7: =E7*F7 -> 0
B8: 5. | C8: ventilator - respirator | D8: kos | E8: 6 | F8: ='1_INTENZIVA'!F358 -> 0 | G8: =E8*F8 -> 0
B9: 6. | C9: defibrilator s pacingom in invazivnim monitorjem | D9: kpl | E9: 3 | F9: ='1_INTENZIVA'!F469 -> 0 | G9: =E9*F9 -> 0
B10: 7. | C10: bolniška postelja za intenzivno terapijo (bolniške sobe) | D10: kos | E10: 16 | F10: ='1_INTENZIVA'!F498 -> 0 | G10: =E10*F10 -> 0
B11: 8. | C11: čezposteljna mizica (bolniške sobe + prostor reanimacije) | D11: kos | E11: 17 | F11: ='1_INTENZIVA'!F563 -> 0 | G11: =E11*F11 -> 0
B12: 9. | C12: infuzijska delovna postaja v sestavi (vsaka mora vsebovati po): | D12: kos | E12: 18 | F12: ='1_INTENZIVA'!F575 -> 0 | G12: =E12*F12 -> 0
B13: 10. | C13: enteralna črpalka | D13: kos | E13: 17 | F13: ='1_INTENZIVA'!F698 -> 0 | G13: =E13*F13 -> 0
B14: 11. | C14: črpalka za subglotično aspiracijo | D14: kos | E14: 3 | F14: ='1_INTENZIVA'!F721 -> 0 | G14: =E14*F14 -> 0
B15: 12. | C15: mobilno infuzijsko stojalo | D15: kos | E15: 5 | F15: ='1_INTENZIVA'!F738 -> 0 | G15: =E15*F15 -> 0
B16: 13. | C16: Mayo mizica instrumentarna hidravlična, konzolna, iz nerjavečega jekla | D16: kos | E16: 1 | F16: ='1_INTENZIVA'!F750 -> 0 | G16: =E16*F16 -> 0
B17: 14. | C17: visokofrekvenčna kirurška enota z montažo na stativ | D17: kos | E17: 1 | F17: ='1_INTENZIVA'!F765 -> 0 | G17: =E17*F17 -> 0
B18: 15. | C18: naprava s pretočnim načinom ogrevanja (pretok najmanj 180ml/min) | D18: kos | E18: 1 | F18: ='1_INTENZIVA'!F800 -> 0 | G18: =E18*F18 -> 0
B19: 16. | C19: mobilni anestezijski aparat z monitorjem | D19: kpl | E19: 1 | F19: ='1_INTENZIVA'!F816 -> 0 | G19: =E19*F19 -> 0
B20: 17. | C20: voziček za reanimacijo | D20: kos | E20: 3 | F20: ='1_INTENZIVA'!F891 -> 0 | G20: =E20*F20 -> 0
B21: 18. | C21: reanimacijski kovček | D21: kos | E21: 1 | F21: ='1_INTENZIVA'!F929 -> 0 | G21: =E21*F21 -> 0
B22: 19. | C22: voziček za anestezijo | D22: kos | E22: 1 | F22: ='1_INTENZIVA'!F955 -> 0 | G22: =E22*F22 -> 0
B23: 20. | C23: voziček za preveze in posege | D23: kos | E23: 6 | F23: ='1_INTENZIVA'!F989 -> 0 | G23: =E23*F23 -> 0
B24: 21. | C24: voziček za nego (katetre) | D24: kos | E24: 2 | F24: ='1_INTENZIVA'!F1016 -> 0 | G24: =E24*F24 -> 0
B25: 22. | C25: koš za ločeno zbiranje odpadkov - trojček - volumna 3x70 litrov | D25: kos | E25: 2 | F25: ='1_INTENZIVA'!F1039 -> 0 | G25: =E25*F25 -> 0
B26: 23. | C26: dvojni voziček z vrečama za nečisto perilo s pokrovoma | D26: kos | E26: 8 | F26: ='1_INTENZIVA'!F1048 -> 0 | G26: =E26*F26 -> 0
B27: 24. | C27: kontejner oz. koš za odpadno embalažo iz dejavnosti | D27: kos | E27: 26 | F27: ='1_INTENZIVA'!F1057 -> 0 | G27: =E27*F27 -> 0
B28: 25. | C28: kontejner oz. voziček za zbiranje odpadkov iz zdravstva | D28: kos | E28: 21 | F28: ='1_INTENZIVA'!F1066 -> 0 | G28: =E28*F28 -> 0
B29: 26. | C29: kontejner oz. voziček za infektivne odpadke, volumen zabojnika 30 litrov | D29: kos | E29: 16 | F29: ='1_INTENZIVA'!F1075 -> 0 | G29: =E29*F29 -> 0
B30: 27. | C30: kontejner oz. voziček za infektivne odpadke, volumen zabojnika 60 litrov | D30: kos | E30: 2 | F30: ='1_INTENZIVA'!F1084 -> 0 | G30: =E30*F30 -> 0
B31: 28. | C31: voziček s tremi policami iz nerjaveče pločevine za prevoz ČISTEGA perila | D31: kos | E31: 6 | F31: ='1_INTENZIVA'!F1093 -> 0 | G31: =E31*F31 -> 0
B32: 29. | C32: kontejner oz. koš za transfuzijske vrečke iz nerjavečega materiala, velikost 30 litrov (kot npr. od proizvajalca Prosigma d.o.o.) | D32: kos | E32: 1 | F32: ='1_INTENZIVA'!F1102 -> 0 | G32: =E32*F32 -> 0
B33: 30. | C33: koš za steklo velikosti 7-10 litrov | D33: kos | E33: 5 | F33: ='1_INTENZIVA'!F1114 -> 0 | G33: =E33*F33 -> 0
B34: 31. | C34: ultrazvočni prenosni sistem za kateterizacijo ven | D34: kos | E34: 1 | F34: ='1_INTENZIVA'!F1123 -> 0 | G34: =E34*F34 -> 0
B35: 32. | C35: sobno stranišče na kolesih | D35: kos | E35: 2 | F35: ='1_INTENZIVA'!F1136 -> 0 | G35: =E35*F35 -> 0
B36: 33. | C36: termodezinfektor s sušenjem | D36: kos | E36: 1 | F36: ='1_INTENZIVA'!F1158 -> 0 | G36: =E36*F36 -> 0
B37: 34. | C37: tipkovnica in miš - silikonska | D37: kpl | E37: 16 | F37: ='1_INTENZIVA'!F1168 -> 0 | G37: =E37*F37 -> 0
B38: 35. | C38: računalnik (enota, miška, tipkovnica) | D38: kpl | E38: 25 | F38: ='1_INTENZIVA'!F1178 -> 0 | G38: =E38*F38 -> 0
B39: 36. | C39: monitor LCD 24 colski | D39: kpl | E39: 25 | F39: ='1_INTENZIVA'!F1209 -> 0 | G39: =E39*F39 -> 0
B40: 37. | C40: brezžično omrežje | D40: kpl | E40: 5 | F40: ='1_INTENZIVA'!F1230 -> 0 | G40: =E40*F40 -> 0
B41: 38. | C41: dostopovna stikala z dodatki | D41: kpl | E41: 1 | F41: ='1_INTENZIVA'!F1239 -> 0 | G41: =E41*F41 -> 0
B42: 39. | C42: administrativni stol | D42: kom | E42: 31 | F42: ='1_INTENZIVA'!F1261 -> 0 | G42: =E42*F42 -> 0
B43: 40. | C43: sejni stol | D43: kom | E43: 18 | F43: ='1_INTENZIVA'!F1286 -> 0 | G43: =E43*F43 -> 0
B44: 41. | C44: zdravniški stol z naslonom | D44: kom | E44: 24 | F44: ='1_INTENZIVA'!F1297 -> 0 | G44: =E44*F44 -> 0
B45: 42. | C45: zdravniški in sestrski stol brez naslona | D45: kom | E45: 5 | F45: ='1_INTENZIVA'!F1308 -> 0 | G45: =E45*F45 -> 0
B46: 43. | C46: magnetna tabla (piši briši) | D46: kom | E46: 2 | F46: ='1_INTENZIVA'!F1319 -> 0 | G46: =E46*F46 -> 0
B47: 44. | C47: garderobne omarice | D47: kom | E47: 45 | F47: ='1_INTENZIVA'!F1335 -> 0 | G47: =E47*F47 -> 0
B48: 45. | C48: garderobni boxi | E48: 2 | G48: ='1_INTENZIVA'!G1343 -> 0
C49: SUM | G49: =SUM(G4:G48) -> 0

Sheet 2a ENDOSKOPIJA 
C1: SKLOP 2a Dobava premične medicinske opreme za endoskopski center za SB Novo mesto
C2: Vsi ponujeni endoskopi, katerih zahteve so opisane v razpisu, morajo biti najvišjega ranga kvalitete proizvajalca- torej najnovejša in najsodobnejša serija endoskopa, ki ga ponudnik ponuja v trenutku oddaje ponudbe. Za endoskopsko opremo, ki je naročnik ne pozna, si pridržuje pravico vsaj 2-tedenskega testiranja preden sprejme odločitev o ustreznosti ponujene opreme. To bo moral zagotoviti ponudnik na svoje stroške, v kolikor bi ga k temu naročnik pozval v fazi pregleda in analize ponudb za ugotavljanje ustreznosti ponujene opreme.
B3: zap.št. | C3: opis | D3: enota | E3: kol. | F3: cena v € /enota | G3: cena skupaj v € (braz DDV)
B4: 1. | C4: VIDEOLINIJA ZA REKTOSKOPIJO se izloči iz sklopa 2a v samostojen sklop 3a. Ta postavka ni več del predmeta sklopa 2a - naročnik je postavko tu črtal, ne pa tudi brisal, da se ohrani sistem številčenja vse ostale opreme, in se zagotovi sledenje posameznih postavk po celotni RD s prilogami ter sledenje že postavljenim vprašanjem in odgovorom naročnika na posamezne postavke opreme!
B6: 2. | C6: ENDO ULTRAZVOČNA ENOTA - komplet
C7: Lokacija: 1x1.5.
B8: 2.1 | C8: UZ endoskopski kompaktni procesor | D8: kpl | E8: 1 | G8: =E8*F8 -> 0
C9: Funkcionalne zahteve: aparat mora omogočati diagnostične endoultrazvočne preiskave.
C10: zagotavljati mora priključitev elektronskih radialnih ter linearnih endoultrazvočnih endoskopov
C11: možnost merjenja različnih točk mesta opazovanja
C12: frekvenčno območje mora biti v elektronskem načinu 5MHz, 7,5MHz, 10MHz in 12MHz
C13: vidni obseg prikaza v več stopnjah opredeljenih v centimetrih po globini
C14: možnost pregleda shranjenih slik naj bo vsaj 600 (Cine memory)
C15: omogočati mora več nastavitev ultrazvočne slike, kot so; kontrast, gain, enhance,..
C16: orientacija slike: normalna/inverzna
C17: možnost prikaza na zaslonu: enojna ali dvojna slika
C18: Enota mora omogočati naslednje tehnologije:
C19: prikaz B načina endoultrazvočne slike
C20: prikaz POWER (doppler) FLOW-načina
... C48: Ponudnik mora ponuditi enoto, ki izpolnjuje vse zahteve in hkrati predstavlja najnovejši, najmodernejšii in najvišji nivo kakovosti enote na trgu v prodajnem asortimanu proizvajalca, katerega enoto ponuja.
B50: Proizvajalec:
B51: Tip:
B52: Kataloška številka
B53: Opombe:
B55: 2.2 | C55: endoskopski videoprocesor | D55: kpl | E55: 1 | G55: =E55*F55 -> 0
C56: Funkcionalne zahteve:
C57: prikaz endoskopske slike v HDTV ločljivosti
C58: funkcija identifikacije endoskopa
C59: funkcija štetja uporab endoskopa
C60: funkcijo strukturne izostritve
C61: funkcija nastavitve kontrasta
C62: funkcija zamrzovanja slike in avtomatske prilagoditve jakosti svetlobe (ko se
C63: približamo tkivu se mora svetloba zmanjšati in obratno - to mora omogočati optimalno osvetlitev tkiva)
C64: vnos podatkov o pacientih preko tipkovnice
C65: slika v sliki ali slika ob sliki
C66: zamrzovanje slike
C67: elektronski zoom - povečava
... C84: Ponudnik mora ponuditi enoto, ki izpolnjuje vse zahteve in hkrati predstavlja najnovejši, najmodernejšii in najvišji nivo kakovosti enote na trgu v prodajnem asortimanu proizvajalca, katerega enoto ponuja.
B86: Proizvajalec:
B87: Tip:
B88: Kataloška številka
B89: Opombe:
B91: 2.3 | C91: endoskopski izvor svetlobe | D91: kpl | E91: 1 | G91: =E91*F91 -> 0
C92: Funkcionalne zahteve:
C93: avtomatska prilagoditev moči oddane svetlobe (v povezavi s procesorjem naj zagotavlja avtomatsko optimalno osvetlitev tkiva);
C94: vgrajeno mora imeti zračno-vodno črpalko z več stopnjami nastavitve, ki jo je po potrebi možno tudi izklopiti;
C95: priklop endoskopa za izvajanje endoskopskih posegov preko konektorja, ki vsebuje tako izhod svetlobe kot video izhod (endoskop se priklopi enostavno z enim samim konektorjem).
C96: karakterizacija patoloških sprememb - v povezavi z videoprocesorjem ter ustreznim endoskopom naj omogoča funkcije lažje karakterizacije patoloških sprememb tkiva, ki je zahtevana pri endoskopskem videoprocesorju. Pripomba:
C97: Ponudnik lahko ponudi bodisi ksenonski ali pa LED izvor svetlobe:
C98: V primeru ponudbe LED izvora svetlobe: vgrajene naj ima 4 LED sijalke ali enakovredno s svetilnostjo vsaj 1400 lm (+/- 5%). To pomeni, da v primeru, če slučajno pregori osnovna sijalka, sistem omogoči s preostalimi sijalkami ali s preostalo sijalko varno dokončan poseg) s pričakovano življenjsko dobo vsaj 10.000 ur in ne manj kot 6 let uporabe. Ponudnik mora podati nepreklicno garancijo na delovanje LED sijalk za vsaj 10.000 ur delovanja in ne manj kot 6 let uporabe in s tem omogočiti popolnoma brezplačno menjavo (brez kakršnihkoli stroškov dela in materiala, npr. žarnica,h, km..., za naročnika) v primeru, da LED sijalka/e pregori/jo, za dobo 6 let od datuma primopredaje opreme. Vsaka od sijalk naj ima drugačno valovno dolžino svetlobe. Ponudnik naj to vkalkulira v ponudbeno ceno opreme.
C99: V primeru ponudbe ksenonskega izvora svetlobe naj ponudnik ponudi izvor svetlobe s ksenon žarnico moči vsaj 300W ter vgrajeno rezervno žarnico za primer, če glavna žarnica pri uporabi pregori. Ponudnik mora v primeru ponudbe ksenonskega izvora svetlobe ponuditi popolnoma brezplačno menjavo (brez kakršnihkoli stroškov dela in materiala, npr. žarnica,km, h,... za naročnika) v primeru, da žarnice pregorijo, za dobo 6 let od primopredaje opreme. Ponudnik naj to vkalkulira v ponudbeno ceno opreme.
C100: Spekter svetlobe (svetlobni snop) naj bo moč regulirati glede na želeno obliko diagnostike in sicer:
C101: a. bela svetloba (standardna endoskopska slika),
C102: b. svetloba nižjih valovnih dolžin s filtracijo svetlobe ali brez nje – tehnologije kot npr. NBI, BLI.
C103: Vsak ponujeni komplet mora vsebovati:
... C108: Ponudnik mora ponuditi enoto, ki izpolnjuje vse zahteve in hkrati predstavlja najnovejši, najmodernejšii in najvišji nivo kakovosti enote na trgu v prodajnem asortimanu proizvajalca, katerega enoto ponuja.
B110: Proizvajalec:
B111: Tip:
B112: Kataloška številka
B113: Opombe:
B115: 2.4 | C115: endoskopska UZ radialna sonda | D115: kpl | E115: 1 | G115: =E115*F115 -> 0
C116: Ponujena EUZ sonda mora zagotavljati naslednje zahteve:
C117: širina vidnega polja najmanj (Field of view) 100º
C118: globina vidnega polja najmanj od 3 do 100 mm
C119: zunanji premer vstavnega tubusa največ 11,8 mm
C120: zunanji premer distalnega dela tubusa največ 13,8mm
C121: delovna dolžina najmanj 1200 mm
C122: premer delovnega kanala najmanj 2,2 mm
C123: najmanjši upogibi distalnega dela morajo biti:
C124: navzgor/navzdol: vsaj 130º/90º
C125: desno/levo: vsaj 90º/ 90º
C126: zagotavljati mora najmanj frekvence delovanja: 5MHz, 7.5MHz, 10MHz in 12MHz
C127: območje skeniranja mora biti 360º
... C139: Naročnik bo kot dopustno štel tudi ponudbo z novejšo in boljšo različico sonde, ki ustreza naslednjim zahtevam: radialna ultrazvočna sonda, ki omogoča angulacijo vsaj 190° (gor), 90° (dol) in levo/desno 100°, z delovnim kanalom vsaj 2,8 mm, kar omogoča tudi bistveno boljšo sukcijo; možnostjo, da endoultrazvočna sonda omogoča v kombinaciji z endoskopskim video procesorjem in endoskopskim monitorjem HDTV endoskopsko sliko na monitorju in atravmatsko ultrazvočno sondo, katere premer ne presega 11,5 mm.
B141: Proizvajalec:
B142: Tip:
B143: Kataloška številka
B144: Opombe:
B146: 2.5 | C146: endoskopski monitor | D146: kpl | E146: 2 | G146: =E146*F146 -> 0
C147: Monitor mora zagotavljati sledeče tehnične karakteristike:
C148: 1. kompatibilen z videoprocesorjem, ki omogoča FULL HD tehnologijo reprodukcijo slike
C149: 2. zagotavlja uporabo slike ob sliki
C150: 3. velikost monitorja najmanj 27 inčev
C151: 4. omogočati mora ločljivost 1920x1080 pikslov
C152: 5. MDD certifikat – namenjen za uporabo v medicinske namene
C153: 6. imeti mora ustrezne video vhode za povezavo z endoskopskim videoprocesorjem iz točke A.
C154: 7. video vhodi: HD-SDI, DVI
C155: 8. video izhodi: DVI
C156: 9. pritrditev monitorja po VESA standardu
C157: 10. prikazovanje slike v formatu 16:9
C158: 11. prikazovanje barv: najmanj 9 milijonov
C159: 12. teža - primerna za namestitev na stativ - ne več kot 12kg.
B161: Proizvajalec:
B162: Tip:
B163: Kataloška številka
B164: Opombe:
B166: 2.6 | C166: duodenoskop | D166: kpl | E166: 1 | G166: =E166*F166 -> 0
C167: Funkcionalne zahteve:
C168: Endoskop, kompatibilen s ponujenim procesorjem ter izvorom svetlobe.
C169: Na ročaju mora imeti integrirane gumbe za upravljanje različnih funkcij videoprocesorja.
...

Sheet 2a ENDOSKOPIJA sum
C1: SKLOP 2a Dobava premične medicinske opreme za endoskopski center za SB Novo mesto - REKAPITULACIJA
B3: zap. št. | C3: opis | D3: EM (enota mere) | E3: količina | F3: cena v € /EM | G3: cena skupaj v € (brez DDV)
B4: 1. | C4: VIDEOLINIJA ZA REKTOSKOPIJO oprema je bila izločena iz sklopa 2a v samostojen sklop 3a
B6: 2. | C6: ENDO ULTRAZVOČNA ENOTA - komplet
B7: 2.1 | C7: UZ endoskopski kompaktni procesor | D7: kpl | E7: 1 | F7: ='2a ENDOSKOPIJA '!F8 -> 0 | G7: =E7*F7 -> 0
B8: 2.2 | C8: endoskopski videoprocesor | D8: kpl | E8: 1 | F8: ='2a ENDOSKOPIJA '!F55 -> 0 | G8: =E8*F8 -> 0
B9: 2.3 | C9: endoskopski izvor svetlobe | D9: kpl | E9: 1 | F9: ='2a ENDOSKOPIJA '!F91 -> 0 | G9: =E9*F9 -> 0
B10: 2.4 | C10: endoskopska UZ radialna sonda | D10: kpl | E10: 1 | F10: ='2a ENDOSKOPIJA '!F115 -> 0 | G10: =E10*F10 -> 0
B11: 2.5 | C11: endoskopski monitor | D11: kpl | E11: 2 | F11: ='2a ENDOSKOPIJA '!F146 -> 0 | G11: =E11*F11 -> 0
B12: 2.6 | C12: duodenoskop | D12: kpl | E12: 1 | F12: ='2a ENDOSKOPIJA '!F166 -> 0 | G12: =E12*F12 -> 0
B13: 2.7 | C13: bronhoskop | D13: kpl | E13: 1 | F13: ='2a ENDOSKOPIJA '!F194 -> 0 | G13: =E13*F13 -> 0
C14: SUM | G14: =SUM(G7:G13) -> 0
B16: 3. | C16: VIDEOLINIJA - GASTROSKOPIJA
B17: 3.1 | C17: endoskopski videoprocesor | D17: kpl | E17: 1 | F17: ='2a ENDOSKOPIJA '!F225 -> 0 | G17: =E17*F17 -> 0
B18: 3.2 | C18: endoskopski izvor svetlobe | D18: kpl | E18: 1 | F18: ='2a ENDOSKOPIJA '!F262 -> 0 | G18: =E18*F18 -> 0
B19: 3.3 | C19: endoskopski monitor | D19: kpl | E19: 2 | F19: ='2a ENDOSKOPIJA '!F286 -> 0 | G19: =E19*F19 -> 0
B20: 3.4 | C20: elektrokirurška enota z argon plazmo | D20: kpl | E20: 1 | F20: ='2a ENDOSKOPIJA '!F311 -> 0 | G20: =E20*F20 -> 0
B21: 3.5 | C21: irigacijska črpalka | D21: kpl | E21: 1 | F21: ='2a ENDOSKOPIJA '!F343 -> 0 | G21: =E21*F21 -> 0
B22: 3.6 | C22: aspiracijska črpalka | D22: kpl | E22: 1 | F22: ='2a ENDOSKOPIJA '!F360 -> 0 | G22: =E22*F22 -> 0
B23: 3.7 | C23: videogastroskop z optično povečavo - diagnostični | D23: kpl | E23: 5 | F23: ='2a ENDOSKOPIJA '!F381 -> 0 | G23: =E23*F23 -> 0
B24: 3.8 | C24: videogastroskop - terapevtski | D24: kpl | E24: 1 | F24: ='2a ENDOSKOPIJA '!F410 -> 0 | G24: =E24*F24 -> 0
C25: SUM | G25: =SUM(G17:G24) -> 0
B27: 4. | C27: VIDEOLINIJA - KOLONOSKOPIJA - komplet
B28: 4.1 | C28: endoskopski videoprocesor | D28: kpl | E28: 1 | F28: ='2a ENDOSKOPIJA '!F440 -> 0 | G28: =E28*F28 -> 0
B29: 4.2 | C29: endoskopski izvor svetlobe | D29: kpl | E29: 1 | F29: ='2a ENDOSKOPIJA '!F478 -> 0 | G29: =E29*F29 -> 0
B30: 4.3 | C30: endoskopski monitor | D30: kpl | E30: 1 | F30: ='2a ENDOSKOPIJA '!F502 -> 0 | G30: =E30*F30 -> 0
B31: 4.4 | C31: elektrokirurška enota z argon plazmo | D31: kpl | E31: 1 | F31: ='2a ENDOSKOPIJA '!F527 -> 0 | G31: =E31*F31 -> 0
B32: 4.5 | C32: irigacijska črpalka | D32: kpl | E32: 1 | F32: ='2a ENDOSKOPIJA '!F559 -> 0 | G32: =E32*F32 -> 0
B33: 4.6 | C33: aspiracijska črpalka | D33: kpl | E33: 1 | F33: ='2a ENDOSKOPIJA '!F576 -> 0 | G33: =E33*F33 -> 0
B34: 4.7 | C34: endoskopski CO2 insuflator | D34: kpl | E34: 1 | F34: ='2a ENDOSKOPIJA '!F597 -> 0 | G34: =E34*F34 -> 0
B35: 4.8 | C35: videokolonoskop - pediatrični | D35: kpl | E35: 1 | F35: ='2a ENDOSKOPIJA '!F619 -> 0 | G35: =E35*F35 -> 0
B36: 4.9 | C36: videokolonoskop - rutinski | D36: kpl | E36: 4 | F36: ='2a ENDOSKOPIJA '!F652 -> 0 | G36: =E36*F36 -> 0
C37: SUM | G37: =SUM(G28:G36) -> 0
B39: 5. | C39: stroj za pranje in dezinfekcijo fleksibilnih endoskopov | D39: kpl | E39: 2 | F39: ='2a ENDOSKOPIJA '!F682 -> 0 | G39: =E39*F39 -> 0
B41: 6. | C41: omara za shranjevanje endoskopov | D41: kpl | E41: 3 | F41: ='2a ENDOSKOPIJA '!F746 -> 0 | G41: =E41*F41 -> 0
B43: 7. | C43: zračna pištola z nastavki | D43: kpl | E43: 1 | F43: ='2a ENDOSKOPIJA '!F771 -> 0 | G43: =E43*F43 -> 0
B45: 8. | C45: vodna pištola z nastavki | D45: kpl | E45: 1 | F45: ='2a ENDOSKOPIJA '!F783 -> 0 | G45: =E45*F45 -> 0
B47: 9. | C47: UZ čistilec | D47: kpl | E47: 1 | F47: ='2a ENDOSKOPIJA '!F795 -> 0 | G47: =E47*F47 -> 0
B49: 10. | C49: aparat za merjenje tesnosti endoskopov, kompatibilen z endoskopi | D49: kpl | E49: 1 | F49: ='2a ENDOSKOPIJA '!F811 -> 0 | G49: =E49*F49 -> 0
B51: 11. | C51: voziček za prevoz fleksibilnih endoskopov | D51: kpl | E51: 2 | F51: ='2a ENDOSKOPIJA '!F819 -> 0 | G51: =E51*F51 -> 0
B53: 12. | C53: pladnji za prenos fleksibilnih endoskopov | D53: kpl | E53: 8 | F53: ='2a ENDOSKOPIJA '!F841 -> 0 | G53: =E53*F53 -> 0
B55: 13. | C55: strecher | D55: kpl | E55: 4 | F55: ='2a ENDOSKOPIJA '!F852 -> 0 | G55: =E55*F55 -> 0
B57: 14. | C57: pregledna miza | E57: 2 | F57: ='2a ENDOSKOPIJA '!F878 -> 0 | G57: =E57*F57 -> 0
B59: 15. | C59: pregledna miza za rektoskopije | D59: kpl | E59: 1 | F59: ='2a ENDOSKOPIJA '!F898 -> 0 | G59: =E59*F59 -> 0
B61: 16. | C61: dozator kisika | D61: kpl | E61: 3 | F61: ='2a ENDOSKOPIJA '!F925 -> 0 | G61: =E61*F61 -> 0
B63: 17. | C63: voziček za zdravila | D63: kpl | E63: 1 | F63: ='2a ENDOSKOPIJA '!F943 -> 0 | G63: =E63*F63 -> 0
B65: 18. | C65: voziček za transport materiala | D65: kpl | E65: 3 | F65: ='2a ENDOSKOPIJA '!F977 -> 0 | G65: =E65*F65 -> 0
B67: 19. | C67: dokumentacijski sistem | D67: kpl | E67: 1 | F67: ='2a ENDOSKOPIJA '!F993 -> 0 | G67: =E67*F67 -> 0
B69: 20. | C69: računalnik (enota, miška, tipkovnica) | D69: kpl | E69: 12 | F69: ='2a ENDOSKOPIJA '!F1047 -> 0 | G69: =E69*F69 -> 0
B71: 21. | C71: monitor LCD 24 colski | D71: kpl | E71: 12 | F71: ='2a ENDOSKOPIJA '!F1078 -> 0 | G71: =E71*F71 -> 0
B73: 22. | C73: profesionalni digitalni diktafon | D73: kpl | E73: 3 | F73: ='2a ENDOSKOPIJA '!F1100 -> 0 | G73: =E73*F73 -> 0
B75: 23. | C75: optični čitalnik črtne kode | D75: kpl | E75: 3 | F75: ='2a ENDOSKOPIJA '!F1149 -> 0 | G75: =E75*F75 -> 0
B77: 24. | C77: oprema za prepis tonskega posnetka | D77: kpl | E77: 3 | F77: ='2a ENDOSKOPIJA '!F1162 -> 0 | G77: =E77*F77 -> 0
B79: 25. | C79: administrativni stol | D79: kom | E79: 13 | F79: ='2a ENDOSKOPIJA '!F1173 -> 0 | G79: =E79*F79 -> 0
B81: 26. | C81: sejni stol z oznako | D81: kom | E81: 33 | F81: ='2a ENDOSKOPIJA '!F1198 -> 0 | G81: =E81*F81 -> 0
B83: 27. | C83: zdravniški stol z naslonom z oznako TO/ST-04 | D83: kom | E83: 10 | F83: ='2a ENDOSKOPIJA '!F1209 -> 0 | G83: =E83*F83 -> 0
B85: 28. | C85: magnetna tabla (piši briši) | D85: kom | E85: 1 | F85: ='2a ENDOSKOPIJA '!F1220 -> 0 | G85: =E85*F85 -> 0
B87: 29. | C87: koš za ločeno zbiranje odpadkov - trojček - volumna 3x70 litrov | D87: kos | E87: 3 | F87: ='2a ENDOSKOPIJA '!F1235 -> 0 | G87: =E87*F87 -> 0
B89: 30. | C89: dvojni voziček z vrečama za nečisto perilo s pokrovoma | D89: kos | E89: 5 | F89: ='2a ENDOSKOPIJA '!F1244 -> 0 | G89: =E89*F89 -> 0
B91: 31. | C91: kontejner oz. koš za odpadno embalažo iz dejavnosti | D91: kos | E91: 8 | F91: ='2a ENDOSKOPIJA '!F1253 -> 0 | G91: =E91*F91 -> 0
B93: 32. | C93: kontejner oz. voziček za zbiranje odpadkov iz zdravstva | D93: kos | E93: 8 | F93: ='2a ENDOSKOPIJA '!F1262 -> 0 | G93: =E93*F93 -> 0
B95: 33. | C95: kontejner oz. voziček za infektivne odpadke, volumen zabojnika 30 litrov | D95: kos | E95: 2 | F95: ='2a ENDOSKOPIJA '!F1271 -> 0 | G95: =E95*F95 -> 0
C97: SKUPAJ ENDOSKOPIJE: | G97: =G14+G25+G37+SUM(G39:G95) -> 0

Sheet 3a VIDEOLINIJA REKTOSKOPIJA
C1: SKLOP 3a Dobava premične medicinske opreme za endoskopski center za SB Novo mesto - VIDEOLINIJA ZA REKTOSKOPIJO
C2: Vsi ponujeni endoskopi, katerih zahteve so opisane v razpisu, morajo biti najvišjega ranga kvalitete proizvajalca- torej najnovejša in najsodobnejša serija endoskopa, ki ga ponudnik ponuja v trenutku oddaje ponudbe. Za endoskopsko opremo, ki je naročnik ne pozna, si pridržuje pravico vsaj 2-tedenskega testiranja preden sprejme odločitev o ustreznosti ponujene opreme. To bo moral zagotoviti ponudnik na svoje stroške, v kolikor bi ga k temu naročnik pozval v fazi pregleda in analize ponudb za ugotavljanje ustreznosti ponujene opreme.
B3: zap.št. | C3: opis | D3: enota | E3: kol. | F3: cena v € /enota | G3: cena skupaj v € (braz DDV)
B4: 1. | C4: VIDEOLINIJA ZA REKTOSKOPIJO
C5: Lokacija: 1x 1.8.
C6: Vse komponente pod tč. 1. videolinija za rektoskopijo morajo biti med sebojno kompatibilne!
B7: 1.1a | C7: procesor endoskopske kamere | D7: kpl | E7: 1 | G7: =E7*F7 -> 0
C8: - procesor mora zagotavljati polno (FULL HD) kvaliteto slike z resolucijo najmanj 1920x1080 točk
C9: in progresivnim skeniranjem slike (1080p)
C10: - omogoča prikaz slike v najmanj v 2D tehnologiji
C11: - 2x digitalni zoom
C12: - možnost rotacije slike za 180°
C13: ´- omogoča priključitev različnih digitalnih modulov, ki omogočajo priklop različnih glav kamer,
C14: lahko pa so moduli že vgrajeni v osnovni enoti.
C15: - omogoča algoritemsko spreminjanje barvnega spektra za boljšo diagnostiko
C16: - funkcija enakomerne osvetlitve celotne endoskopske slike in izboljšanega
C17: kontrasta slike
C18: - avtomatična nastavitev intenzitete svetlobe preko izvora svetlobe s pomočjo
C19: povezovalnega kabla
... C43: 4. USB ključ 32GB
B45: Proizvajalec:
B46: Tip:
B47: Kataloška številka
B48: Opombe:
B50: 1.1b | C50: endoskopski monitor | D50: kpl | E50: 1 | G50: =E50*F50 -> 0
C51: Monitor mora zagotavljati sledeče tehnične karakteristike:
C52: 1. kompatibilen z videoprocesorjem, ki omogoča FULL HD tehnologijo reprodukcijo slike
C53: 2. zagotavlja uporabo slike ob sliki
C54: 3. velikost monitorja najmanj 26 inčev
C55: 4. omogočati mora ločljivost 1920x1080 pikslov
C56: 5. MDD certifikat – namenjen za uporabo v medicinske namene
C57: 6. imeti mora ustrezne video vhode za povezavo z endoskopskim videoprocesorjem iz točke A.
C58: 7. video vhodi: HD-SDI, DVI
C59: 8. video izhodi: DVI
C60: 9. prikazovanje slike v formatu 16:9
C61: 10. prikazovanje barv: najmanj 9 milijonov
B63: Proizvajalec:
B64: Tip:
B65: Kataloška številka
B66: Opombe:
B69: 1.2 | C69: endoskopska glava kamere | D69: kpl | E69: 1 | G69: =E69*F69 -> 0
C70: FULL HD endoskopska kamera najvišjega standarda z resolucijo 1920x1080 točk in
C71: slikovnim razmerjem 16:9 (lahko tudi 16:10)
C72: ´- glava kamere z videoadapterjem za optiko z okularjem
C73: - programske tipke na glavi kamere morajo omogočati nastavitev vseh parametrov iz glave kamere
B75: Proizvajalec:
B76: Tip:
B77: Kataloška številka
B78: Opombe:
B80: 1.3 | C80: izvor svetlobe | D80: kpl | E80: 1 | G80: =E80*F80 -> 0
C81: ´- LED izvor svetlobe, življenjska doba žarnice do 30.000 delovnih ur, barvna temperatura 6000-7000 K
C82: ´- pumpa za vpihovanje zraka in ali CO2
C83: Zaščita class I; CF; IPX I
B85: Proizvajalec:
B86: Tip:
B87: Kataloška številka
B88: Opombe:
B90: 1.4 | C90: elektrokirurški generator | D90: kpl | E90: 1 | G90: =E90*F90 -> 0
C91: Univerzalni aparat za rezanje in koagulacijo pri klasičnih in endoskopskih posegih.
C92: ´- samodejni test aparata najmanj ob vklopu, zaželjeno je takoj po vsakem posegu
C93: - kontrola rezanja
C94: - kontrola koagulacije
C95: ´- monopolarni rez max.: 220-350W, 8 (lahko 9) stopenj reza
C96: ´- monopolarna koagulacija: 120-200W, 8 (lahko 9) stopenj koagulacije
C97: - bipolarna koagulacija 120W, 8 stopenj koagulacije
C98: ´- gastro cut ali druga ekvivalentna funkcija
C99: - funkcija Autostart
C100: - stalna kontrola izhodne moči
C101: - stalna kontrola kontaktne površine nevtralne elektrode
C102: - kontrola vračanja tokov preko nevtralne elektrode
... C111: Nevtralna elektroda
B113: Proizvajalec:
B114: Tip:
B115: Kataloška številka
B116: Opombe:
B118: 1.5 | C118: sistem za irigacijo in aspiracijo | D118: kpl | E118: 1 | G118: =E118*F118 -> 0
C119: - možnost hitrega izbora prednastavljenih posegov
C120: ´- normalni pritisk 100-300 mmHg, lahko do 500mmHg
C121: ´- maksimalni pretok 100-800 ml/min, lahko do 1000ml/min
C122: - nastavitev parametrov preko zaslona na dotik
C123: - avtomatska detekcija maksimalnih vrednosti na zaslonu enote
C124: - omogočati mora komunikacijo z ostalimi enotami
C125: Certificiran za medicinske namene (MDD)
B127: Proizvajalec:
B128: Tip:
B129: Kataloška številka
B130: Opombe:
B132: 1.6 | C132: Video-fleksibilni rektosigmoidoskop | D132: kpl | E132: 2 | G132: =E132*F132 -> 0
C133: - v distalnem delu naj bo vgrajena sodobna barvna čip tehnologija, ki zagotavlja HD (visoko ločljivost)
C134: v povezavi z HD video procesorjem in monitorjem;
C135: - v povezavi z video procesorjem naj omogoča vsaj 2x elektronski zoom v 4 stopnjah.
C136: ´- vgrajena sodobna barvna čip tehnologija mora endoskopu omogočati v kombinaciji z določenim
C137: videoprocesorjem uporabo svetlobnih filtrov, ki iz svetlobnega spektra izločijo določeno
C138: izbrano barvo. S tem naj je omogočena izboljšana diagnoza patologije oziroma prepoznavanje
C139: patoloških sprememb. Lažje prepoznavanje kapilarne in žilne strukture v mukozi.
C140: - vgrajen kanal za izpiranje med endoskopskim posegom
C141: - na priklopu na izvor svetlobe morajo biti vgrajeni priklopi za povezavo z videoprocesorjem
C142: - na ročaju mora imeti integrirane gumbe za upravljanje videoprocesorja, izvora svetlobe,
C143: dokumentacijskega sistema
C144: - zagotovljeno upravljanje videoprocesorja, izvora svetlobe, črpalke in ostale periferne opreme
...

Sheet 3a VIDEOLINIJA REKTOSKOPIJA sum
C1: SKLOP 3a Dobava premične medicinske opreme za endoskopski center za SB Novo mesto - VIDEOLINIJA ZA REKTOSKOPIJO, REKAPITULACIJA
B3: zap. št. | C3: opis | D3: EM (enota mere) | E3: količina | F3: cena v € /EM | G3: cena skupaj v € (brez DDV)
B4: 1. | C4: VIDEOLINIJA ZA REKTOSKOPIJO
B5: 1.1a | C5: procesor endoskopske kamere | D5: kpl | E5: 1 | F5: ='3a VIDEOLINIJA REKTOSKOPIJA'!F7 -> 0 | G5: =E5*F5 -> 0
B6: 1.1b | C6: endoskopski monitor | D6: kpl | E6: 1 | F6: ='3a VIDEOLINIJA REKTOSKOPIJA'!F50 -> 0 | G6: =E6*F6 -> 0
B7: 1.2 | C7: endoskopska glava kamere | D7: kpl | E7: 1 | F7: ='3a VIDEOLINIJA REKTOSKOPIJA'!F69 -> 0 | G7: =E7*F7 -> 0
B8: 1.3 | C8: izvor svetlobe | D8: kpl | E8: 1 | F8: ='3a VIDEOLINIJA REKTOSKOPIJA'!F80 -> 0 | G8: =E8*F8 -> 0
B9: 1.4 | C9: elektrokirurški generator | D9: kpl | E9: 1 | F9: ='3a VIDEOLINIJA REKTOSKOPIJA'!F90 -> 0 | G9: =E9*F9 -> 0
B10: 1.5 | C10: sistem za irigacijo in aspiracijo | D10: kpl | E10: 1 | F10: ='3a VIDEOLINIJA REKTOSKOPIJA'!F118 -> 0 | G10: =E10*F10 -> 0
B11: 1.6 | C11: Video-fleksibilni rektosigmoidoskop | D11: kpl | E11: 2 | F11: ='3a VIDEOLINIJA REKTOSKOPIJA'!F132 -> 0 | G11: =E11*F11 -> 0
B12: 1.7 | C12: video rektoskop | G12: ='3a VIDEOLINIJA REKTOSKOPIJA'!G176 -> 0
B13: 1.8 | C13: proktoskop | G13: ='3a VIDEOLINIJA REKTOSKOPIJA'!G187 -> 0
B14: 1.9 | C14: rektoskopi | G14: ='3a VIDEOLINIJA REKTOSKOPIJA'!G197 -> 0
B15: 1.10 | C15: dokumentni sistem | D15: kpl | E15: 1 | F15: ='3a VIDEOLINIJA REKTOSKOPIJA'!F218 -> 0 | G15: =E15*F15 -> 0
C16: SKUPAJ ENDOSKOPIJE: | G16: =SUM(G5:G15) -> 0
