Workbook

Sheet NAVODILA
B4: NAVODILA ZA IZPOLNITEV PREDRAČUNA – SEZNAMA RAZPISANEGA BLAGA (OBR-8a)
B6: 1. Ponudnik mora Predračun - Seznama razpisanega blaga (OBR – 8a) izpolniti, natisniti in natisnjeni izvod podpisati in žigosati.
B8: 2. Ponudnik k ponudbi predloži Predračun - Seznam razpisanega blaga (lastni natis izpolnjenega predračuna iz OBR-8a) v pisni in obvezno tudi v elektronski obliki - na CD-ju ali USB ključku (v primeru enostavnega postopka ob elektronski oddaji ponudbe ponudniki dajo xls. datoteko in scan natisnjene verzije - pdf datoteko kot priponko k elektronski ponudbi).
B10: 3. Ponudnik mora v »Predračun - Seznam razpisanega blaga« (exelova datoteka) pri vrstah blaga, ki jih ponuja (v polja obarvana z rumeno barvo) obvezno vpisati naslednje podatke:
B12: Opcija 1:
B13: o veljavna cena brez DDV/EM
B14: o popust (stopnja fiksnega popusta)
B15: o stopnjo DDV
B16: o proizvajalca ponujenega blaga / izvajalca storitve
B17: o ponudnikov naziv blaga / storitve
B18: o EAN kodo ponujenega blaga / storitve (če jo ima)
B19: o kataloško številko ponujenega blaga / storitve (če jo ima)
... B46: o cena brez DDV mora vsebovati vse stroške, popuste, rabate.

Sheet 1. Podatki naročnika
B4: Podatki naročnika
B5: Naročnik: | C5: Splošna bolnišnica Novo mesto
B6: JN št.: | C6: 16-07/20
B7: Predmet JN: | C7: MATERIAL ZA POPRAVILA IN VZDRŽEVANJE
B8: Obdobje priznane sposobnosti in usposobljenosti:
B9: Obdobje JN:
B10: Vrsta postopka JN: | C10: odprti postopek
B11: Okvirni sporazumi: | C11: Ne
B12: Vrsta predmeta JN: | C12: BLAGO
B13: Status:
B15: Aplikacija Javna naročila, različica 2.3.5

Sheet 2. Podatki o ponudniku
B4: Podatki o ponudniku
B5: Naziv:
B6: Naslov:
B7: Identifikacijska številka za DDV:
B8: Telefon:
B9: Faks:
B10: Kontaktna oseba:
B11: Elektronski naslov:

Sheet 3. Strokovne zahteve naročnika
B4: Strokovne zahteve naročnika

Sheet Sklop I.
C4: Seznam razpisanega blaga za sklop:
B5: I. | C5: ELEKTRO MATERIAL
C7: =IF('2. Podatki o ponudniku'!C5<>"","Naziv ponudnika: " & '2. Podatki o ponudniku'!C5,"")
C8: =IF('2. Podatki o ponudniku'!C7<>"","Identifikacijska številka za DDV: " & '2. Podatki o ponudniku'!C7,"")
A11: * | B11: 1. | C11: podsklop: podsklop: ELEKTRO MATERIAL | H11: ODPRT | L11: podsklop: ELEKTRO MATERIAL
A12: EOB | B12: Zap. št. | C12: Naziv blaga | D12: Lastnost 1 | E12: Lastnost 2 | F12: Lastnost 3 | G12: Informativna šifra PIS | H12: EM | I12: Količina | J12: Št. vzorcev | K12: Var. | L12: Veljavna cena brez DDV | M12: Popust | N12: Stopnja DDV | O12: Cena brez DDV | P12: Cena z DDV | Q12: Vrednost brez DDV | R12: Vrednost z DDV | S12: Proizvajalec | T12: Ponudnikov naziv blaga | U12: EAN | V12: Kataloška številka | W12: Opomba
A13: 11100257105 | B13: 1 | C13: ANTENA SOBNA | G13: 4664 | H13: KOS | I13: 2 | K13: 1 | O13: =ROUND(ROUND(L13,4)*(1-M13),4) -> 0 | P13: =ROUND(ROUND(O13,4)*(1+N13),4) -> 0 | Q13: =ROUND($I13*O13,4) -> 0 | R13: =ROUND($I13*P13,4) -> 0
A14: 11100201006 | B14: 2 | C14: AVTOMATSKA VAROV. C 3x20A | G14: 12678 | H14: KOS | I14: 30 | K14: 1 | O14: =ROUND(ROUND(L14,4)*(1-M14),4) -> 0 | P14: =ROUND(ROUND(O14,4)*(1+N14),4) -> 0 | Q14: =ROUND($I14*O14,4) -> 0 | R14: =ROUND($I14*P14,4) -> 0
A15: 11100201007 | B15: 3 | C15: AVTOMATSKA VAROV. C 3X25A | G15: 12679 | H15: KOS | I15: 10 | K15: 1 | O15: =ROUND(ROUND(L15,4)*(1-M15),4) -> 0 | P15: =ROUND(ROUND(O15,4)*(1+N15),4) -> 0 | Q15: =ROUND($I15*O15,4) -> 0 | R15: =ROUND($I15*P15,4) -> 0
B16: 4 | C16: AKUMULATOR MAKITA BL1860B 18V 6.0Ah | D16: LITHIUM | H16: KOS | I16: 20 | K16: 1 | O16: =ROUND(ROUND(L16,4)*(1-M16),4) -> 0 | P16: =ROUND(ROUND(O16,4)*(1+N16),4) -> 0 | Q16: =ROUND($I16*O16,4) -> 0 | R16: =ROUND($I16*P16,4) -> 0
A17: 11100202027 | B17: 5 | C17: BATERIJA LR 03 | G17: 8470 | H17: KOS | I17: 10 | K17: 1 | O17: =ROUND(ROUND(L17,4)*(1-M17),4) -> 0 | P17: =ROUND(ROUND(O17,4)*(1+N17),4) -> 0 | Q17: =ROUND($I17*O17,4) -> 0 | R17: =ROUND($I17*P17,4) -> 0
A18: 11100202014 | B18: 6 | C18: BATERIJA 12V 9Ah | G18: 3092 | H18: KOS | I18: 30 | K18: 1 | O18: =ROUND(ROUND(L18,4)*(1-M18),4) -> 0 | P18: =ROUND(ROUND(O18,4)*(1+N18),4) -> 0 | Q18: =ROUND($I18*O18,4) -> 0 | R18: =ROUND($I18*P18,4) -> 0
A19: 11100202017 | B19: 7 | C19: BATERIJA 23GA | G19: 3079 | H19: KOS | I19: 30 | K19: 1 | O19: =ROUND(ROUND(L19,4)*(1-M19),4) -> 0 | P19: =ROUND(ROUND(O19,4)*(1+N19),4) -> 0 | Q19: =ROUND($I19*O19,4) -> 0 | R19: =ROUND($I19*P19,4) -> 0
A20: 11100202036 | B20: 8 | C20: BATERIJA 377 | G20: 8465 | H20: KOS | I20: 20 | K20: 1 | O20: =ROUND(ROUND(L20,4)*(1-M20),4) -> 0 | P20: =ROUND(ROUND(O20,4)*(1+N20),4) -> 0 | Q20: =ROUND($I20*O20,4) -> 0 | R20: =ROUND($I20*P20,4) -> 0
A21: 11100202009 | B21: 9 | C21: BATERIJA GLR1 9V | G21: 3068 | H21: KOS | I21: 60 | K21: 1 | O21: =ROUND(ROUND(L21,4)*(1-M21),4) -> 0 | P21: =ROUND(ROUND(O21,4)*(1+N21),4) -> 0 | Q21: =ROUND($I21*O21,4) -> 0 | R21: =ROUND($I21*P21,4) -> 0
A22: 11100202057 | B22: 10 | C22: BATERIJA A27 20mAH 12V | G22: 13138 | H22: KOS | I22: 10 | K22: 1 | O22: =ROUND(ROUND(L22,4)*(1-M22),4) -> 0 | P22: =ROUND(ROUND(O22,4)*(1+N22),4) -> 0 | Q22: =ROUND($I22*O22,4) -> 0 | R22: =ROUND($I22*P22,4) -> 0
A23: 11100202063 | B23: 11 | C23: BATERIJA AKU 7,2V 1800mAh | G23: 3083 | H23: KOS | I23: 10 | K23: 1 | O23: =ROUND(ROUND(L23,4)*(1-M23),4) -> 0 | P23: =ROUND(ROUND(O23,4)*(1+N23),4) -> 0 | Q23: =ROUND($I23*O23,4) -> 0 | R23: =ROUND($I23*P23,4) -> 0
A24: 11100202058 | B24: 12 | C24: BATERIJA AKU 7.2V/1.5Ah | G24: 4460 | H24: KOS | I24: 6 | K24: 1 | O24: =ROUND(ROUND(L24,4)*(1-M24),4) -> 0 | P24: =ROUND(ROUND(O24,4)*(1+N24),4) -> 0 | Q24: =ROUND($I24*O24,4) -> 0 | R24: =ROUND($I24*P24,4) -> 0
A25: 11100202021 | B25: 13 | C25: BATERIJA AKU AAA R03 | G25: 3059 | H25: KOS | I25: 200 | K25: 1 | O25: =ROUND(ROUND(L25,4)*(1-M25),4) -> 0 | P25: =ROUND(ROUND(O25,4)*(1+N25),4) -> 0 | Q25: =ROUND($I25*O25,4) -> 0 | R25: =ROUND($I25*P25,4) -> 0
A26: 11100202022 | B26: 14 | C26: BATERIJA CR 2016 | G26: 3074 | H26: KOS | I26: 6 | K26: 1 | O26: =ROUND(ROUND(L26,4)*(1-M26),4) -> 0 | P26: =ROUND(ROUND(O26,4)*(1+N26),4) -> 0 | Q26: =ROUND($I26*O26,4) -> 0 | R26: =ROUND($I26*P26,4) -> 0
A27: 11100202023 | B27: 15 | C27: BATERIJA CR 2025 3V | G27: 3076 | H27: KOS | I27: 20 | K27: 1 | O27: =ROUND(ROUND(L27,4)*(1-M27),4) -> 0 | P27: =ROUND(ROUND(O27,4)*(1+N27),4) -> 0 | Q27: =ROUND($I27*O27,4) -> 0 | R27: =ROUND($I27*P27,4) -> 0
A28: 11100202006 | B28: 16 | C28: BATERIJA CR 2032 3V | G28: 3075 | H28: KOS | I28: 300 | K28: 1 | O28: =ROUND(ROUND(L28,4)*(1-M28),4) -> 0 | P28: =ROUND(ROUND(O28,4)*(1+N28),4) -> 0 | Q28: =ROUND($I28*O28,4) -> 0 | R28: =ROUND($I28*P28,4) -> 0
... A30: 11100202034 | B30: 18 | C30: BATERIJA Li 1/2AA | G30: 12395 | H30: KOS | I30: 4 | K30: 1 | O30: =ROUND(ROUND(L30,4)*(1-M30),4) -> 0 | P30: =ROUND(ROUND(O30,4)*(1+N30),4) -> 0 | Q30: =ROUND($I30*O30,4) -> 0 | R30: =ROUND($I30*P30,4) -> 0
A31: 11100202059 | B31: 19 | C31: BATERIJA Li Ion 16,5V, 1,1Ah | D31: 18,15Wh -tip 89-8510-440-20 ZIMMER | G31: 11119 | H31: KOS | I31: 2 | K31: 1 | O31: =ROUND(ROUND(L31,4)*(1-M31),4) -> 0 | P31: =ROUND(ROUND(O31,4)*(1+N31),4) -> 0 | Q31: =ROUND($I31*O31,4) -> 0 | R31: =ROUND($I31*P31,4) -> 0
A32: 11100202027 | B32: 20 | C32: BATERIJA LR 03 | G32: 3062 | H32: KOS | I32: 400 | K32: 1 | O32: =ROUND(ROUND(L32,4)*(1-M32),4) -> 0 | P32: =ROUND(ROUND(O32,4)*(1+N32),4) -> 0 | Q32: =ROUND($I32*O32,4) -> 0 | R32: =ROUND($I32*P32,4) -> 0
A33: 11100202065 | B33: 21 | C33: BATERIJA LR 03_ 1,5V | G33: 8880 | H33: KOS | I33: 3000 | K33: 1 | O33: =ROUND(ROUND(L33,4)*(1-M33),4) -> 0 | P33: =ROUND(ROUND(O33,4)*(1+N33),4) -> 0 | Q33: =ROUND($I33*O33,4) -> 0 | R33: =ROUND($I33*P33,4) -> 0
A34: 11100202028 | B34: 22 | C34: BATERIJA LR 44 | G34: 3073 | H34: KOS | I34: 80 | K34: 1 | O34: =ROUND(ROUND(L34,4)*(1-M34),4) -> 0 | P34: =ROUND(ROUND(O34,4)*(1+N34),4) -> 0 | Q34: =ROUND($I34*O34,4) -> 0 | R34: =ROUND($I34*P34,4) -> 0
A35: 11100202046 | B35: 23 | C35: BATERIJA LR 54 | G35: 4430 | H35: KOS | I35: 30 | K35: 1 | O35: =ROUND(ROUND(L35,4)*(1-M35),4) -> 0 | P35: =ROUND(ROUND(O35,4)*(1+N35),4) -> 0 | Q35: =ROUND($I35*O35,4) -> 0 | R35: =ROUND($I35*P35,4) -> 0
A36: 11100202050 | B36: 24 | C36: BATERIJA LR 6 AA 1,5V | G36: 12616 | H36: KOS | I36: 4000 | K36: 1 | O36: =ROUND(ROUND(L36,4)*(1-M36),4) -> 0 | P36: =ROUND(ROUND(O36,4)*(1+N36),4) -> 0 | Q36: =ROUND($I36*O36,4) -> 0 | R36: =ROUND($I36*P36,4) -> 0
A37: 11100202047 | B37: 25 | C37: BATERIJA LR 14 | D37: baterija za laringoskop C LR14 1.5V 2X | G37: 3069 | H37: KOS | I37: 400 | K37: 1 | O37: =ROUND(ROUND(L37,4)*(1-M37),4) -> 0 | P37: =ROUND(ROUND(O37,4)*(1+N37),4) -> 0 | Q37: =ROUND($I37*O37,4) -> 0 | R37: =ROUND($I37*P37,4) -> 0
A38: 11100202029 | B38: 26 | C38: BATERIJA LR41 | G38: 3071 | H38: KOS | I38: 20 | K38: 1 | O38: =ROUND(ROUND(L38,4)*(1-M38),4) -> 0 | P38: =ROUND(ROUND(O38,4)*(1+N38),4) -> 0 | Q38: =ROUND($I38*O38,4) -> 0 | R38: =ROUND($I38*P38,4) -> 0
A39: 11100202049 | B39: 27 | C39: BATERIJA LR 6 1,5 V | G39: 11351 | H39: KOS | I39: 500 | K39: 1 | O39: =ROUND(ROUND(L39,4)*(1-M39),4) -> 0 | P39: =ROUND(ROUND(O39,4)*(1+N39),4) -> 0 | Q39: =ROUND($I39*O39,4) -> 0 | R39: =ROUND($I39*P39,4) -> 0
A40: 11100202011 | B40: 28 | C40: BATERIJA NC 3,6V/260 | G40: 11352 | H40: KOS | I40: 10 | K40: 1 | O40: =ROUND(ROUND(L40,4)*(1-M40),4) -> 0 | P40: =ROUND(ROUND(O40,4)*(1+N40),4) -> 0 | Q40: =ROUND($I40*O40,4) -> 0 | R40: =ROUND($I40*P40,4) -> 0
A41: 11100202060 | B41: 29 | C41: BATERIJA POLNILNA 12 V, 3,4 Ah | D41: AKU VRLA LC-R | G41: 11699 | H41: KOS | I41: 2 | K41: 1 | O41: =ROUND(ROUND(L41,4)*(1-M41),4) -> 0 | P41: =ROUND(ROUND(O41,4)*(1+N41),4) -> 0 | Q41: =ROUND($I41*O41,4) -> 0 | R41: =ROUND($I41*P41,4) -> 0
A42: 11100202061 | B42: 30 | C42: BATERIJA POLNILNA AA 1,4 V | D42: GP BATERIJA AKU GP2700AAHC | G42: 11039 | H42: KOS | I42: 50 | K42: 1 | O42: =ROUND(ROUND(L42,4)*(1-M42),4) -> 0 | P42: =ROUND(ROUND(O42,4)*(1+N42),4) -> 0 | Q42: =ROUND($I42*O42,4) -> 0 | R42: =ROUND($I42*P42,4) -> 0
A43: 11100204001 | B43: 31 | C43: CEV PN fi 13,5 | D43: MAP-CEV PN 13,5 | G43: 11064 | H43: KOS | I43: 2 | K43: 1 | O43: =ROUND(ROUND(L43,4)*(1-M43),4) -> 0 | P43: =ROUND(ROUND(O43,4)*(1+N43),4) -> 0 | Q43: =ROUND($I43*O43,4) -> 0 | R43: =ROUND($I43*P43,4) -> 0
A44: 11100204002 | B44: 32 | C44: CEV PN FI 16 | D44: MAP-CEV PN 16 | G44: 11065 | H44: KOS | I44: 10 | K44: 1 | O44: =ROUND(ROUND(L44,4)*(1-M44),4) -> 0 | P44: =ROUND(ROUND(O44,4)*(1+N44),4) -> 0 | Q44: =ROUND($I44*O44,4) -> 0 | R44: =ROUND($I44*P44,4) -> 0
A45: 11100204007 | B45: 33 | C45: CEV PVC ZA BETON 32 DIN | D45: RBC PISKAR | G45: 2402 | H45: M | I45: 200 | K45: 1 | O45: =ROUND(ROUND(L45,4)*(1-M45),4) -> 0 | P45: =ROUND(ROUND(O45,4)*(1+N45),4) -> 0 | Q45: =ROUND($I45*O45,4) -> 0 | R45: =ROUND($I45*P45,4) -> 0
A46: 11100204031 | B46: 34 | C46: CEV RFS DIN 16mm ZIDNA | D46: OPTOPLAST | G46: 10448 | H46: m | I46: 200 | K46: 1 | O46: =ROUND(ROUND(L46,4)*(1-M46),4) -> 0 | P46: =ROUND(ROUND(O46,4)*(1+N46),4) -> 0 | Q46: =ROUND($I46*O46,4) -> 0 | R46: =ROUND($I46*P46,4) -> 0
A47: 11100204008 | B47: 35 | C47: CEV RFS fi 11 | G47: 2398 | H47: M | I47: 200 | K47: 1 | O47: =ROUND(ROUND(L47,4)*(1-M47),4) -> 0 | P47: =ROUND(ROUND(O47,4)*(1+N47),4) -> 0 | Q47: =ROUND($I47*O47,4) -> 0 | R47: =ROUND($I47*P47,4) -> 0
A48: 11100204009 | B48: 36 | C48: CEV RFS fi 13,5 | G48: 2399 | H48: m | I48: 200 | K48: 1 | O48: =ROUND(ROUND(L48,4)*(1-M48),4) -> 0 | P48: =ROUND(ROUND(O48,4)*(1+N48),4) -> 0 | Q48: =ROUND($I48*O48,4) -> 0 | R48: =ROUND($I48*P48,4) -> 0
A49: 11100204010 | B49: 37 | C49: CEV RFS fi 16 | G49: 11357 | H49: m | I49: 200 | K49: 1 | O49: =ROUND(ROUND(L49,4)*(1-M49),4) -> 0 | P49: =ROUND(ROUND(O49,4)*(1+N49),4) -> 0 | Q49: =ROUND($I49*O49,4) -> 0 | R49: =ROUND($I49*P49,4) -> 0
A50: 11100204023 | B50: 38 | C50: CEV SKRČLJIVA 12.7 mm | G50: 2396 | H50: M | I50: 10 | K50: 1 | O50: =ROUND(ROUND(L50,4)*(1-M50),4) -> 0 | P50: =ROUND(ROUND(O50,4)*(1+N50),4) -> 0 | Q50: =ROUND($I50*O50,4) -> 0 | R50: =ROUND($I50*P50,4) -> 0
A51: 11100204026 | B51: 39 | C51: CEV SKRČLJIVA 3-4 mm | G51: 2394 | H51: M | I51: 10 | K51: 1 | O51: =ROUND(ROUND(L51,4)*(1-M51),4) -> 0 | P51: =ROUND(ROUND(O51,4)*(1+N51),4) -> 0 | Q51: =ROUND($I51*O51,4) -> 0 | R51: =ROUND($I51*P51,4) -> 0
A52: 11100204027 | B52: 40 | C52: CEV SKRČLJIVA 4-5 mm | G52: 2395 | H52: M | I52: 10 | K52: 1 | O52: =ROUND(ROUND(L52,4)*(1-M52),4) -> 0 | P52: =ROUND(ROUND(O52,4)*(1+N52),4) -> 0 | Q52: =ROUND($I52*O52,4) -> 0 | R52: =ROUND($I52*P52,4) -> 0
A53: 11100204028 | B53: 41 | C53: CEV SKRČLJIVA 6 RDEČA | G53: 4528 | H53: m | I53: 10 | K53: 1 | O53: =ROUND(ROUND(L53,4)*(1-M53),4) -> 0 | P53: =ROUND(ROUND(O53,4)*(1+N53),4) -> 0 | Q53: =ROUND($I53*O53,4) -> 0 | R53: =ROUND($I53*P53,4) -> 0
A54: 11100204029 | B54: 42 | C54: CEV SKRČLJIVA 9.5 MODRA | G54: 4529 | H54: m | I54: 10 | K54: 1 | O54: =ROUND(ROUND(L54,4)*(1-M54),4) -> 0 | P54: =ROUND(ROUND(O54,4)*(1+N54),4) -> 0 | Q54: =ROUND($I54*O54,4) -> 0 | R54: =ROUND($I54*P54,4) -> 0
A55: 11100204032 | B55: 43 | C55: CEV ZAŠČITNA GIBLJIVA FI 16 mm | D55: PVC DIN SIVA EUROFLEX | G55: 13445 | H55: m | I55: 100 | K55: 1 | O55: =ROUND(ROUND(L55,4)*(1-M55),4) -> 0 | P55: =ROUND(ROUND(O55,4)*(1+N55),4) -> 0 | Q55: =ROUND($I55*O55,4) -> 0 | R55: =ROUND($I55*P55,4) -> 0
A56: 11100210032 | B56: 44 | C56: ČLEN VEZNI ZA ELBA VTIČ. | G56: 10170 | H56: KOS | I56: 20 | K56: 1 | O56: =ROUND(ROUND(L56,4)*(1-M56),4) -> 0 | P56: =ROUND(ROUND(O56,4)*(1+N56),4) -> 0 | Q56: =ROUND($I56*O56,4) -> 0 | R56: =ROUND($I56*P56,4) -> 0
A57: 11100208011 | B57: 45 | C57: DOZA 100x100x50 | G57: 11367 | H57: KOS | I57: 10 | K57: 1 | O57: =ROUND(ROUND(L57,4)*(1-M57),4) -> 0 | P57: =ROUND(ROUND(O57,4)*(1+N57),4) -> 0 | Q57: =ROUND($I57*O57,4) -> 0 | R57: =ROUND($I57*P57,4) -> 0
A58: 11100208010 | B58: 46 | C58: DOZA 140x180x70 | G58: 12624 | H58: KOS | I58: 2 | K58: 1 | O58: =ROUND(ROUND(L58,4)*(1-M58),4) -> 0 | P58: =ROUND(ROUND(O58,4)*(1+N58),4) -> 0 | Q58: =ROUND($I58*O58,4) -> 0 | R58: =ROUND($I58*P58,4) -> 0
A59: 11100208020 | B59: 47 | C59: DOZA 150 x 110 x 70 | G59: 9512 | H59: KOS | I59: 2 | K59: 1 | O59: =ROUND(ROUND(L59,4)*(1-M59),4) -> 0 | P59: =ROUND(ROUND(O59,4)*(1+N59),4) -> 0 | Q59: =ROUND($I59*O59,4) -> 0 | R59: =ROUND($I59*P59,4) -> 0
A60: 11100208021 | B60: 48 | C60: DOZA 160 x 120 x 70 | G60: 4619 | H60: KOS | I60: 2 | K60: 1 | O60: =ROUND(ROUND(L60,4)*(1-M60),4) -> 0 | P60: =ROUND(ROUND(O60,4)*(1+N60),4) -> 0 | Q60: =ROUND($I60*O60,4) -> 0 | R60: =ROUND($I60*P60,4) -> 0
A61: 11100208029 | B61: 49 | C61: DOZA 240 x 190 x 90 | G61: 9547 | H61: KOS | I61: 4 | K61: 1 | O61: =ROUND(ROUND(L61,4)*(1-M61),4) -> 0 | P61: =ROUND(ROUND(O61,4)*(1+N61),4) -> 0 | Q61: =ROUND($I61*O61,4) -> 0 | R61: =ROUND($I61*P61,4) -> 0
A62: 11100208030 | B62: 50 | C62: DOZA 86.5 x 86.5 x 44,5 PVC | G62: 10139 | H62: KOS | I62: 20 | K62: 1 | O62: =ROUND(ROUND(L62,4)*(1-M62),4) -> 0 | P62: =ROUND(ROUND(O62,4)*(1+N62),4) -> 0 | Q62: =ROUND($I62*O62,4) -> 0 | R62: =ROUND($I62*P62,4) -> 0
A63: 11100208006 | B63: 51 | C63: DOZA DRF 60 ZA VOTLE STENE | G63: 2845 | H63: KOS | I63: 20 | K63: 1 | O63: =ROUND(ROUND(L63,4)*(1-M63),4) -> 0 | P63: =ROUND(ROUND(O63,4)*(1+N63),4) -> 0 | Q63: =ROUND($I63*O63,4) -> 0 | R63: =ROUND($I63*P63,4) -> 0
A64: 11100210043 | B64: 52 | C64: DOZA ELBA ENOJNA | G64: 2559 | H64: KOS | I64: 50 | K64: 1 | O64: =ROUND(ROUND(L64,4)*(1-M64),4) -> 0 | P64: =ROUND(ROUND(O64,4)*(1+N64),4) -> 0 | Q64: =ROUND($I64*O64,4) -> 0 | R64: =ROUND($I64*P64,4) -> 0
A65: 11100210003 | B65: 53 | C65: ELBA DOZA ZA PAR.KANAL 3M | G65: 2576 | H65: KOS | I65: 120 | K65: 1 | O65: =ROUND(ROUND(L65,4)*(1-M65),4) -> 0 | P65: =ROUND(ROUND(O65,4)*(1+N65),4) -> 0 | Q65: =ROUND($I65*O65,4) -> 0 | R65: =ROUND($I65*P65,4) -> 0
A66: 11100210001 | B66: 54 | C66: ELBA DOZA ZA PAR.KANAL 1M | G66: 2545 | H66: KOS | I66: 40 | K66: 1 | O66: =ROUND(ROUND(L66,4)*(1-M66),4) -> 0 | P66: =ROUND(ROUND(O66,4)*(1+N66),4) -> 0 | Q66: =ROUND($I66*O66,4) -> 0 | R66: =ROUND($I66*P66,4) -> 0
A67: 11100210025 | B67: 55 | C67: DOZA MODUL VOTLE STENE 7M | G67: 10235 | H67: KOS | I67: 20 | K67: 1 | O67: =ROUND(ROUND(L67,4)*(1-M67),4) -> 0 | P67: =ROUND(ROUND(O67,4)*(1+N67),4) -> 0 | Q67: =ROUND($I67*O67,4) -> 0 | R67: =ROUND($I67*P67,4) -> 0
... A80: 11100209019 | B80: 68 | C80: DUŠILKA ELEKTRONSKA 58W | G80: 2616 | H80: KOS | I80: 20 | K80: 1 | O80: =ROUND(ROUND(L80,4)*(1-M80),4) -> 0 | P80: =ROUND(ROUND(O80,4)*(1+N80),4) -> 0 | Q80: =ROUND($I80*O80,4) -> 0 | R80: =ROUND($I80*P80,4) -> 0
A81: 11100209021 | B81: 69 | C81: DUŠILKA ELEKTRONSKA REGU 2X58 | D81: TRID-DUŠILKA REGULACIJSKA PCA 2X58 T8 | G81: 11332 | H81: KOS | I81: 6 | K81: 1 | O81: =ROUND(ROUND(L81,4)*(1-M81),4) -> 0 | P81: =ROUND(ROUND(O81,4)*(1+N81),4) -> 0 | Q81: =ROUND($I81*O81,4) -> 0 | R81: =ROUND($I81*P81,4) -> 0
A82: 11100211010 | B82: 70 | C82: ELEMENT KONČNI 130/72 | G82: 9527 | H82: KOS | I82: 40 | K82: 1 | O82: =ROUND(ROUND(L82,4)*(1-M82),4) -> 0 | P82: =ROUND(ROUND(O82,4)*(1+N82),4) -> 0 | Q82: =ROUND($I82*O82,4) -> 0 | R82: =ROUND($I82*P82,4) -> 0
A83: 11100211008 | B83: 71 | C83: ELEMENT KONČNI 110/72 | G83: 8554 | H83: KOS | I83: 14 | K83: 1 | O83: =ROUND(ROUND(L83,4)*(1-M83),4) -> 0 | P83: =ROUND(ROUND(O83,4)*(1+N83),4) -> 0 | Q83: =ROUND($I83*O83,4) -> 0 | R83: =ROUND($I83*P83,4) -> 0
A84: 11100257090 | B84: 72 | C84: ELEMENT KONTAKTNI | G84: 8733 | H84: KOS | I84: 4 | K84: 1 | O84: =ROUND(ROUND(L84,4)*(1-M84),4) -> 0 | P84: =ROUND(ROUND(O84,4)*(1+N84),4) -> 0 | Q84: =ROUND($I84*O84,4) -> 0 | R84: =ROUND($I84*P84,4) -> 0
A85: 11100231007 | B85: 73 | C85: GOBICA ZA SLUŠALKE PHILIPS | G85: 2828 | H85: KOS | I85: 60 | K85: 1 | O85: =ROUND(ROUND(L85,4)*(1-M85),4) -> 0 | P85: =ROUND(ROUND(O85,4)*(1+N85),4) -> 0 | Q85: =ROUND($I85*O85,4) -> 0 | R85: =ROUND($I85*P85,4) -> 0
A86: 11100231005 | B86: 74 | C86: GOBICA ZA SLUŠALKE OLYMPUS | G86: 8386 | H86: KOS | I86: 60 | K86: 1 | O86: =ROUND(ROUND(L86,4)*(1-M86),4) -> 0 | P86: =ROUND(ROUND(O86,4)*(1+N86),4) -> 0 | Q86: =ROUND($I86*O86,4) -> 0 | R86: =ROUND($I86*P86,4) -> 0
A87: 11100231006 | B87: 75 | C87: GOBICA ZA SLUŠALKE E102 OLYMPUS | G87: 11532 | H87: KOS | I87: 60 | K87: 1 | O87: =ROUND(ROUND(L87,4)*(1-M87),4) -> 0 | P87: =ROUND(ROUND(O87,4)*(1+N87),4) -> 0 | Q87: =ROUND($I87*O87,4) -> 0 | R87: =ROUND($I87*P87,4) -> 0
A88: 11100206028 | B88: 76 | C88: KABEL ČEVLJI CEVNI 50/M10 | D88: CEVNI EURO M (PAK=100 KOS) | G88: 12116 | H88: zav | I88: 20 | K88: 1 | O88: =ROUND(ROUND(L88,4)*(1-M88),4) -> 0 | P88: =ROUND(ROUND(O88,4)*(1+N88),4) -> 0 | Q88: =ROUND($I88*O88,4) -> 0 | R88: =ROUND($I88*P88,4) -> 0
A89: 11100213061 | B89: 77 | C89: KABEL FG160R16-4G50 | D89: BOBEN 500 M | G89: 12115 | H89: m | I89: 20 | K89: 1 | O89: =ROUND(ROUND(L89,4)*(1-M89),4) -> 0 | P89: =ROUND(ROUND(O89,4)*(1+N89),4) -> 0 | Q89: =ROUND($I89*O89,4) -> 0 | R89: =ROUND($I89*P89,4) -> 0
A90: 11100213062 | B90: 78 | C90: KABEL FG160R16-5G16 | G90: 14615 | H90: m | I90: 80 | K90: 1 | O90: =ROUND(ROUND(L90,4)*(1-M90),4) -> 0 | P90: =ROUND(ROUND(O90,4)*(1+N90),4) -> 0 | Q90: =ROUND($I90*O90,4) -> 0 | R90: =ROUND($I90*P90,4) -> 0
A91: 11100213063 | B91: 79 | C91: KABEL FTP CAT 6_4 x2 x23 AWG | D91: KABEL FTP CAT6 UC400 S 23/1 4P PVC MOD | G91: 11084 | H91: m | I91: 8000 | K91: 1 | O91: =ROUND(ROUND(L91,4)*(1-M91),4) -> 0 | P91: =ROUND(ROUND(O91,4)*(1+N91),4) -> 0 | Q91: =ROUND($I91*O91,4) -> 0 | R91: =ROUND($I91*P91,4) -> 0
A92: 11100213046 | B92: 80 | C92: KABEL H03VV-F 3 G 0.75MM BELA | G92: 2411 | H92: M | I92: 400 | K92: 1 | O92: =ROUND(ROUND(L92,4)*(1-M92),4) -> 0 | P92: =ROUND(ROUND(O92,4)*(1+N92),4) -> 0 | Q92: =ROUND($I92*O92,4) -> 0 | R92: =ROUND($I92*P92,4) -> 0
A93: 11100213069 | B93: 81 | C93: KABEL H05VV-F 3 G 1.5MM2 KK | G93: 2412 | H93: m | I93: 200 | K93: 1 | O93: =ROUND(ROUND(L93,4)*(1-M93),4) -> 0 | P93: =ROUND(ROUND(O93,4)*(1+N93),4) -> 0 | Q93: =ROUND($I93*O93,4) -> 0 | R93: =ROUND($I93*P93,4) -> 0
A94: 11100213064 | B94: 82 | C94: KABEL H05VV-F 5X1,5mm 2BE 100m | D94: Inštalacijski kabel | G94: 10821 | H94: m | I94: 200 | K94: 1 | O94: =ROUND(ROUND(L94,4)*(1-M94),4) -> 0 | P94: =ROUND(ROUND(O94,4)*(1+N94),4) -> 0 | Q94: =ROUND($I94*O94,4) -> 0 | R94: =ROUND($I94*P94,4) -> 0
A95: 11100213065 | B95: 83 | C95: KABEL JB-Y(ST)Y 2x2x0,8 RDE BOBEN | D95: za POŽARNI RED | G95: 14616 | H95: m | I95: 400 | K95: 1 | O95: =ROUND(ROUND(L95,4)*(1-M95),4) -> 0 | P95: =ROUND(ROUND(O95,4)*(1+N95),4) -> 0 | Q95: =ROUND($I95*O95,4) -> 0 | R95: =ROUND($I95*P95,4) -> 0
A96: 11100213050 | B96: 84 | C96: KABEL NYM-J 5X2.5 mm | G96: 4953 | H96: m | I96: 700 | K96: 1 | O96: =ROUND(ROUND(L96,4)*(1-M96),4) -> 0 | P96: =ROUND(ROUND(O96,4)*(1+N96),4) -> 0 | Q96: =ROUND($I96*O96,4) -> 0 | R96: =ROUND($I96*P96,4) -> 0
A97: 11100213051 | B97: 85 | C97: KABEL NYM-J 5X4 mm | G97: 4892 | H97: m | I97: 200 | K97: 1 | O97: =ROUND(ROUND(L97,4)*(1-M97),4) -> 0 | P97: =ROUND(ROUND(O97,4)*(1+N97),4) -> 0 | Q97: =ROUND($I97*O97,4) -> 0 | R97: =ROUND($I97*P97,4) -> 0
A98: 11100213052 | B98: 86 | C98: KABEL NYM-J 3X1.5MM KK | G98: 2417 | H98: M | I98: 2000 | K98: 1 | O98: =ROUND(ROUND(L98,4)*(1-M98),4) -> 0 | P98: =ROUND(ROUND(O98,4)*(1+N98),4) -> 0 | Q98: =ROUND($I98*O98,4) -> 0 | R98: =ROUND($I98*P98,4) -> 0
A99: 11100213053 | B99: 87 | C99: KABEL NYM-J 3X2.5MM KK | G99: 2418 | H99: M | I99: 4000 | K99: 1 | O99: =ROUND(ROUND(L99,4)*(1-M99),4) -> 0 | P99: =ROUND(ROUND(O99,4)*(1+N99),4) -> 0 | Q99: =ROUND($I99*O99,4) -> 0 | R99: =ROUND($I99*P99,4) -> 0
A100: 11100213070 | B100: 88 | C100: KABEL NYM-J 5X6MM | G100: 2419 | H100: M | I100: 100 | K100: 1 | O100: =ROUND(ROUND(L100,4)*(1-M100),4) -> 0 | P100: =ROUND(ROUND(O100,4)*(1+N100),4) -> 0 | Q100: =ROUND($I100*O100,4) -> 0 | R100: =ROUND($I100*P100,4) -> 0
A101: 11100213010 | B101: 89 | C101: KABEL PPL 3X1.5 MM | G101: 4883 | H101: m | I101: 100 | K101: 1 | O101: =ROUND(ROUND(L101,4)*(1-M101),4) -> 0 | P101: =ROUND(ROUND(O101,4)*(1+N101),4) -> 0 | Q101: =ROUND($I101*O101,4) -> 0 | R101: =ROUND($I101*P101,4) -> 0
A102: 11100213011 | B102: 90 | C102: KABEL PPL 3X2.5 MM | G102: 2413 | H102: M | I102: 200 | K102: 1 | O102: =ROUND(ROUND(L102,4)*(1-M102),4) -> 0 | P102: =ROUND(ROUND(O102,4)*(1+N102),4) -> 0 | Q102: =ROUND($I102*O102,4) -> 0 | R102: =ROUND($I102*P102,4) -> 0
A103: 11100213032 | B103: 91 | C103: KABEL PPL 5X2.5 MM | G103: 2415 | H103: m | I103: 200 | K103: 1 | O103: =ROUND(ROUND(L103,4)*(1-M103),4) -> 0 | P103: =ROUND(ROUND(O103,4)*(1+N103),4) -> 0 | Q103: =ROUND($I103*O103,4) -> 0 | R103: =ROUND($I103*P103,4) -> 0
A104: 11100213033 | B104: 92 | C104: KABEL PPL 5X4 MM | G104: 2414 | H104: M | I104: 200 | K104: 1 | O104: =ROUND(ROUND(L104,4)*(1-M104),4) -> 0 | P104: =ROUND(ROUND(O104,4)*(1+N104),4) -> 0 | Q104: =ROUND($I104*O104,4) -> 0 | R104: =ROUND($I104*P104,4) -> 0
A105: 11100213066 | B105: 93 | C105: KABEL TK J-Y (St)Y 100x2x0,6mm | D105: INŠTALACIJSKI ___BOBEN | G105: 13051 | H105: m | I105: 400 | K105: 1 | O105: =ROUND(ROUND(L105,4)*(1-M105),4) -> 0 | P105: =ROUND(ROUND(O105,4)*(1+N105),4) -> 0 | Q105: =ROUND($I105*O105,4) -> 0 | R105: =ROUND($I105*P105,4) -> 0
A106: 11100213067 | B106: 94 | C106: KABEL TK J-Y (St)Y 50x2x0,6mm | G106: 13281 | H106: m | I106: 500 | K106: 1 | O106: =ROUND(ROUND(L106,4)*(1-M106),4) -> 0 | P106: =ROUND(ROUND(O106,4)*(1+N106),4) -> 0 | Q106: =ROUND($I106*O106,4) -> 0 | R106: =ROUND($I106*P106,4) -> 0
A107: 11100213003 | B107: 95 | C107: KABEL FTP CAT 6E _4 X2 X 23 AWG | G107: 2425 | H107: M | I107: 4000 | K107: 1 | O107: =ROUND(ROUND(L107,4)*(1-M107),4) -> 0 | P107: =ROUND(ROUND(O107,4)*(1+N107),4) -> 0 | Q107: =ROUND($I107*O107,4) -> 0 | R107: =ROUND($I107*P107,4) -> 0
A108: 11100210038 | B108: 96 | C108: KANAL ELBA PARAPETNI 110/72 | D108: ELB-KANAL AT 110-72 1100721 | G108: 11077 | H108: KOS | I108: 2 | K108: 1 | O108: =ROUND(ROUND(L108,4)*(1-M108),4) -> 0 | P108: =ROUND(ROUND(O108,4)*(1+N108),4) -> 0 | Q108: =ROUND($I108*O108,4) -> 0 | R108: =ROUND($I108*P108,4) -> 0
A109: 11100215003 | B109: 97 | C109: KANAL NIK 1 SAMOLEPILNI | G109: 2531 | H109: M | I109: 400 | K109: 1 | O109: =ROUND(ROUND(L109,4)*(1-M109),4) -> 0 | P109: =ROUND(ROUND(O109,4)*(1+N109),4) -> 0 | Q109: =ROUND($I109*O109,4) -> 0 | R109: =ROUND($I109*P109,4) -> 0
A110: 11100215005 | B110: 98 | C110: KANAL NIK 2 SAMOLEPILNI | G110: 2533 | H110: M | I110: 400 | K110: 1 | O110: =ROUND(ROUND(L110,4)*(1-M110),4) -> 0 | P110: =ROUND(ROUND(O110,4)*(1+N110),4) -> 0 | Q110: =ROUND($I110*O110,4) -> 0 | R110: =ROUND($I110*P110,4) -> 0
A111: 11100215008 | B111: 99 | C111: KANAL NIK 6 | G111: 4893 | H111: m | I111: 80 | K111: 1 | O111: =ROUND(ROUND(L111,4)*(1-M111),4) -> 0 | P111: =ROUND(ROUND(O111,4)*(1+N111),4) -> 0 | Q111: =ROUND($I111*O111,4) -> 0 | R111: =ROUND($I111*P111,4) -> 0
A112: 11100210009 | B112: 100 | C112: ELBA PARAPETNI KANAL 130/72 | G112: 9528 | H112: m | I112: 200 | K112: 1 | O112: =ROUND(ROUND(L112,4)*(1-M112),4) -> 0 | P112: =ROUND(ROUND(O112,4)*(1+N112),4) -> 0 | Q112: =ROUND($I112*O112,4) -> 0 | R112: =ROUND($I112*P112,4) -> 0
A113: 11100210026 | B113: 101 | C113: KANAL-ELBA 170/72 S PREGRADO | G113: 4956 | H113: m | I113: 2 | K113: 1 | O113: =ROUND(ROUND(L113,4)*(1-M113),4) -> 0 | P113: =ROUND(ROUND(O113,4)*(1+N113),4) -> 0 | Q113: =ROUND($I113*O113,4) -> 0 | R113: =ROUND($I113*P113,4) -> 0
A114: 11100210044 | B114: 102 | C114: KONČNIK ZA KOVI. KANAL | G114: 2541 | H114: KOS | I114: 10 | K114: 1 | O114: =ROUND(ROUND(L114,4)*(1-M114),4) -> 0 | P114: =ROUND(ROUND(O114,4)*(1+N114),4) -> 0 | Q114: =ROUND($I114*O114,4) -> 0 | R114: =ROUND($I114*P114,4) -> 0
A115: 11100218003 | B115: 103 | C115: KONDENZATOR 16mikroF | G115: 2651 | H115: KOS | I115: 4 | K115: 1 | O115: =ROUND(ROUND(L115,4)*(1-M115),4) -> 0 | P115: =ROUND(ROUND(O115,4)*(1+N115),4) -> 0 | Q115: =ROUND($I115*O115,4) -> 0 | R115: =ROUND($I115*P115,4) -> 0
A116: 11100258023 | B116: 104 | C116: KONEKTOR MODULARNI CAT 5E | G116: 10166 | H116: KOS | I116: 60 | K116: 1 | O116: =ROUND(ROUND(L116,4)*(1-M116),4) -> 0 | P116: =ROUND(ROUND(O116,4)*(1+N116),4) -> 0 | Q116: =ROUND($I116*O116,4) -> 0 | R116: =ROUND($I116*P116,4) -> 0
A117: 11100232008 | B117: 105 | C117: RAČUNALNIŠKI KONEKTOR | G117: 2555 | H117: KOS | I117: 50 | K117: 1 | O117: =ROUND(ROUND(L117,4)*(1-M117),4) -> 0 | P117: =ROUND(ROUND(O117,4)*(1+N117),4) -> 0 | Q117: =ROUND($I117*O117,4) -> 0 | R117: =ROUND($I117*P117,4) -> 0
A118: 11100219020 | B118: 106 | C118: KONTAKTOR AC 3P 9A 4kW 1NO 0NC | D118: ETICON 24V DC | G118: 12357 | H118: KOS | I118: 2 | K118: 1 | O118: =ROUND(ROUND(L118,4)*(1-M118),4) -> 0 | P118: =ROUND(ROUND(O118,4)*(1+N118),4) -> 0 | Q118: =ROUND($I118*O118,4) -> 0 | R118: =ROUND($I118*P118,4) -> 0
A119: 11100219021 | B119: 107 | C119: KONTAKTOR ETICON BCXMFE01 1NC | D119: pomožni kontakt | G119: 12356 | H119: KOS | I119: 2 | K119: 1 | O119: =ROUND(ROUND(L119,4)*(1-M119),4) -> 0 | P119: =ROUND(ROUND(O119,4)*(1+N119),4) -> 0 | Q119: =ROUND($I119*O119,4) -> 0 | R119: =ROUND($I119*P119,4) -> 0
...

Sheet Sklop II.
C4: Seznam razpisanega blaga za sklop:
B5: II. | C5: GRADBENI MATERIAL
C7: =IF('2. Podatki o ponudniku'!C5<>"","Naziv ponudnika: " & '2. Podatki o ponudniku'!C5,"")
C8: =IF('2. Podatki o ponudniku'!C7<>"","Identifikacijska številka za DDV: " & '2. Podatki o ponudniku'!C7,"")
A11: * | B11: 1. | C11: podsklop: podsklop: GRADBENI MATERIAL | H11: ODPRT | L11: podsklop: GRADBENI MATERIAL
A12: EOB | B12: Zap. št. | C12: Naziv blaga | D12: Lastnost 1 | E12: Lastnost 2 | F12: Lastnost 3 | G12: Informativna šifra PIS | H12: EM | I12: Količina | J12: Št. vzorcev | K12: Var. | L12: Veljavna cena brez DDV | M12: Popust | N12: Stopnja DDV | O12: Cena brez DDV | P12: Cena z DDV | Q12: Vrednost brez DDV | R12: Vrednost z DDV | S12: Proizvajalec | T12: Ponudnikov naziv blaga | U12: EAN | V12: Kataloška številka | W12: Opomba
A13: 11100501002 | B13: 1 | C13: CEMENT VREČA (25KG) | G13: 4911 | H13: kg | I13: 700 | K13: 1 | O13: =ROUND(ROUND(L13,4)*(1-M13),4) -> 0 | P13: =ROUND(ROUND(O13,4)*(1+N13),4) -> 0 | Q13: =ROUND($I13*O13,4) -> 0 | R13: =ROUND($I13*P13,4) -> 0
A14: 11100501073 | B14: 2 | C14: ČISTILO PU PENE 500 ML | D14: ZA PURPEN PIŠTOLO | G14: 12120 | H14: KOS | I14: 6 | K14: 1 | O14: =ROUND(ROUND(L14,4)*(1-M14),4) -> 0 | P14: =ROUND(ROUND(O14,4)*(1+N14),4) -> 0 | Q14: =ROUND($I14*O14,4) -> 0 | R14: =ROUND($I14*P14,4) -> 0
A15: 11100501074 | B15: 3 | C15: DISTANČNIK KRIŽEC PVC 2,5 mm | D15: ZA PLOŠČICE KERAMIČNE | G15: 13500 | H15: KOS | I15: 5000 | K15: 1 | O15: =ROUND(ROUND(L15,4)*(1-M15),4) -> 0 | P15: =ROUND(ROUND(O15,4)*(1+N15),4) -> 0 | Q15: =ROUND($I15*O15,4) -> 0 | R15: =ROUND($I15*P15,4) -> 0
A16: 11100501004 | B16: 4 | C16: EMULZIJA (1LITER) | G16: 4910 | H16: KOS | I16: 30 | K16: 1 | O16: =ROUND(ROUND(L16,4)*(1-M16),4) -> 0 | P16: =ROUND(ROUND(O16,4)*(1+N16),4) -> 0 | Q16: =ROUND($I16*O16,4) -> 0 | R16: =ROUND($I16*P16,4) -> 0
A17: 11100501006 | B17: 5 | C17: FOLIJA EMBALAŽNA 500MM | G17: 11487 | H17: KOS | I17: 10 | K17: 1 | O17: =ROUND(ROUND(L17,4)*(1-M17),4) -> 0 | P17: =ROUND(ROUND(O17,4)*(1+N17),4) -> 0 | Q17: =ROUND($I17*O17,4) -> 0 | R17: =ROUND($I17*P17,4) -> 0
A18: 11100501062 | B18: 6 | C18: FOLIJA LEP. STRETCH-250mm. | G18: 4193 | H18: KOS | I18: 2 | K18: 1 | O18: =ROUND(ROUND(L18,4)*(1-M18),4) -> 0 | P18: =ROUND(ROUND(O18,4)*(1+N18),4) -> 0 | Q18: =ROUND($I18*O18,4) -> 0 | R18: =ROUND($I18*P18,4) -> 0
A19: 11100501093 | B19: 7 | C19: FOLIJA ZAŠČITNA PE PROZORNA 4m | G19: 3784 | H19: KG | I19: 200 | K19: 1 | O19: =ROUND(ROUND(L19,4)*(1-M19),4) -> 0 | P19: =ROUND(ROUND(O19,4)*(1+N19),4) -> 0 | Q19: =ROUND($I19*O19,4) -> 0 | R19: =ROUND($I19*P19,4) -> 0
A20: 11100501075 | B20: 8 | C20: GLADILKA KOV. ZA LEPILO Z ZOB. | G20: 11488 | H20: KOS | I20: 2 | K20: 1 | O20: =ROUND(ROUND(L20,4)*(1-M20),4) -> 0 | P20: =ROUND(ROUND(O20,4)*(1+N20),4) -> 0 | Q20: =ROUND($I20*O20,4) -> 0 | R20: =ROUND($I20*P20,4) -> 0
A21: 11100501094 | B21: 9 | C21: GLADILKA PLASTIČNA 30x15 | G21: 3787 | H21: KOS | I21: 2 | K21: 1 | O21: =ROUND(ROUND(L21,4)*(1-M21),4) -> 0 | P21: =ROUND(ROUND(O21,4)*(1+N21),4) -> 0 | Q21: =ROUND($I21*O21,4) -> 0 | R21: =ROUND($I21*P21,4) -> 0
A22: 11100501076 | B22: 10 | C22: GLAVA t35 UNIVERZALNA | G22: 13701 | H22: KOS | I22: 2 | K22: 1 | O22: =ROUND(ROUND(L22,4)*(1-M22),4) -> 0 | P22: =ROUND(ROUND(O22,4)*(1+N22),4) -> 0 | Q22: =ROUND($I22*O22,4) -> 0 | R22: =ROUND($I22*P22,4) -> 0
A23: 11100501021 | B23: 11 | C23: LEPILO NOTRANJI (VREČA 25KG) | G23: 3766 | H23: KG | I23: 1200 | K23: 1 | O23: =ROUND(ROUND(L23,4)*(1-M23),4) -> 0 | P23: =ROUND(ROUND(O23,4)*(1+N23),4) -> 0 | Q23: =ROUND($I23*O23,4) -> 0 | R23: =ROUND($I23*P23,4) -> 0
A24: 11100501022 | B24: 12 | C24: LEPILO ZUNANJE (VREČA 25KG) | G24: 11493 | H24: kg | I24: 30 | K24: 1 | O24: =ROUND(ROUND(L24,4)*(1-M24),4) -> 0 | P24: =ROUND(ROUND(O24,4)*(1+N24),4) -> 0 | Q24: =ROUND($I24*O24,4) -> 0 | R24: =ROUND($I24*P24,4) -> 0
A25: 11100501077 | B25: 13 | C25: LETEV POLKROŽNA L=2,7 m, 8 mm | D25: PVC P PROFIL BEL_ ZA KERAMIČ. PLOŠČICE | G25: 13501 | H25: KOS | I25: 10 | K25: 1 | O25: =ROUND(ROUND(L25,4)*(1-M25),4) -> 0 | P25: =ROUND(ROUND(O25,4)*(1+N25),4) -> 0 | Q25: =ROUND($I25*O25,4) -> 0 | R25: =ROUND($I25*P25,4) -> 0
A26: 11100501064 | B26: 14 | C26: MALTA APNENA | G26: 8778 | H26: kg | I26: 300 | K26: 1 | O26: =ROUND(ROUND(L26,4)*(1-M26),4) -> 0 | P26: =ROUND(ROUND(O26,4)*(1+N26),4) -> 0 | Q26: =ROUND($I26*O26,4) -> 0 | R26: =ROUND($I26*P26,4) -> 0
A27: 11100501065 | B27: 15 | C27: MALTA BETONSKA | G27: 8777 | H27: kg | I27: 2000 | K27: 1 | O27: =ROUND(ROUND(L27,4)*(1-M27),4) -> 0 | P27: =ROUND(ROUND(O27,4)*(1+N27),4) -> 0 | Q27: =ROUND($I27*O27,4) -> 0 | R27: =ROUND($I27*P27,4) -> 0
A28: 11100501078 | B28: 16 | C28: MALTA HITROVZENA HIDROZAT 5 KG | G28: 13653 | H28: KOS | I28: 2 | K28: 1 | O28: =ROUND(ROUND(L28,4)*(1-M28),4) -> 0 | P28: =ROUND(ROUND(O28,4)*(1+N28),4) -> 0 | Q28: =ROUND($I28*O28,4) -> 0 | R28: =ROUND($I28*P28,4) -> 0
A29: 11100501008 | B29: 17 | C29: MASA FUGIRNA (VREČA 1KG) | G29: 3775 | H29: KOS | I29: 20 | K29: 1 | O29: =ROUND(ROUND(L29,4)*(1-M29),4) -> 0 | P29: =ROUND(ROUND(O29,4)*(1+N29),4) -> 0 | Q29: =ROUND($I29*O29,4) -> 0 | R29: =ROUND($I29*P29,4) -> 0
A30: 11100501079 | B30: 18 | C30: MASA IZRAVNALNA _ STENSKA | D30: JUBOLIN | G30: 4339 | H30: kg | I30: 50 | K30: 1 | O30: =ROUND(ROUND(L30,4)*(1-M30),4) -> 0 | P30: =ROUND(ROUND(O30,4)*(1+N30),4) -> 0 | Q30: =ROUND($I30*O30,4) -> 0 | R30: =ROUND($I30*P30,4) -> 0
A31: 11100501080 | B31: 19 | C31: MASA IZRAVNALNA _ TALNA | G31: 13178 | H31: kg | I31: 240 | K31: 1 | O31: =ROUND(ROUND(L31,4)*(1-M31),4) -> 0 | P31: =ROUND(ROUND(O31,4)*(1+N31),4) -> 0 | Q31: =ROUND($I31*O31,4) -> 0 | R31: =ROUND($I31*P31,4) -> 0
A32: 11100501081 | B32: 20 | C32: MASA TESNILNA AKRILNA 300 ml | D32: ACRYFLEX BEL | G32: 11940 | H32: KOS | I32: 4 | K32: 1 | O32: =ROUND(ROUND(L32,4)*(1-M32),4) -> 0 | P32: =ROUND(ROUND(O32,4)*(1+N32),4) -> 0 | Q32: =ROUND($I32*O32,4) -> 0 | R32: =ROUND($I32*P32,4) -> 0
A33: 11100501082 | B33: 21 | C33: MASA TESNILNA SILIKON. 300 ml | D33: CERESIT CS 25_ CEMENT GRAY | G33: 13496 | H33: KOS | I33: 4 | K33: 1 | O33: =ROUND(ROUND(L33,4)*(1-M33),4) -> 0 | P33: =ROUND(ROUND(O33,4)*(1+N33),4) -> 0 | Q33: =ROUND($I33*O33,4) -> 0 | R33: =ROUND($I33*P33,4) -> 0
A34: 11100501029 | B34: 22 | C34: MIVKA VREČA 20kg | G34: 3765 | H34: KG | I34: 120 | K34: 1 | O34: =ROUND(ROUND(L34,4)*(1-M34),4) -> 0 | P34: =ROUND(ROUND(O34,4)*(1+N34),4) -> 0 | Q34: =ROUND($I34*O34,4) -> 0 | R34: =ROUND($I34*P34,4) -> 0
A35: 11100501058 | B35: 23 | C35: PAPIR BRUSNI K150 | G35: 4337 | H35: m | I35: 30 | K35: 1 | O35: =ROUND(ROUND(L35,4)*(1-M35),4) -> 0 | P35: =ROUND(ROUND(O35,4)*(1+N35),4) -> 0 | Q35: =ROUND($I35*O35,4) -> 0 | R35: =ROUND($I35*P35,4) -> 0
A36: 11100501083 | B36: 24 | C36: PLATNO BRUSNO_ K 150 | G36: 13324 | H36: m | I36: 10 | K36: 1 | O36: =ROUND(ROUND(L36,4)*(1-M36),4) -> 0 | P36: =ROUND(ROUND(O36,4)*(1+N36),4) -> 0 | Q36: =ROUND($I36*O36,4) -> 0 | R36: =ROUND($I36*P36,4) -> 0
A37: 11100501095 | B37: 25 | C37: PLOŠČA ARMSTRONG BOARD | G37: 4595 | H37: m2 | I37: 60 | K37: 1 | O37: =ROUND(ROUND(L37,4)*(1-M37),4) -> 0 | P37: =ROUND(ROUND(O37,4)*(1+N37),4) -> 0 | Q37: =ROUND($I37*O37,4) -> 0 | R37: =ROUND($I37*P37,4) -> 0
A38: 11100501096 | B38: 26 | C38: PLOŠČA MAVČNA 2,5 | G38: 3762 | H38: M2 | I38: 40 | K38: 1 | O38: =ROUND(ROUND(L38,4)*(1-M38),4) -> 0 | P38: =ROUND(ROUND(O38,4)*(1+N38),4) -> 0 | Q38: =ROUND($I38*O38,4) -> 0 | R38: =ROUND($I38*P38,4) -> 0
A39: 11100501084 | B39: 27 | C39: PLOŠČA REZALNA 115x22x5,5 mm | D39: DIAMANTNA _keramika | G39: 13498 | H39: KOS | I39: 2 | K39: 1 | O39: =ROUND(ROUND(L39,4)*(1-M39),4) -> 0 | P39: =ROUND(ROUND(O39,4)*(1+N39),4) -> 0 | Q39: =ROUND($I39*O39,4) -> 0 | R39: =ROUND($I39*P39,4) -> 0
A40: 11100501085 | B40: 28 | C40: PLOŠČA REZALNA 125 x1 x22,23 mm | D40: X-LOCK | G40: 14524 | H40: KOS | I40: 60 | K40: 1 | O40: =ROUND(ROUND(L40,4)*(1-M40),4) -> 0 | P40: =ROUND(ROUND(O40,4)*(1+N40),4) -> 0 | Q40: =ROUND($I40*O40,4) -> 0 | R40: =ROUND($I40*P40,4) -> 0
A41: 11100501037 | B41: 29 | C41: PLOŠČA REZALNA ZA BETON 115 DIAMANTNA | D41: DIAMANTNA | G41: 11495 | H41: KOS | I41: 2 | K41: 1 | O41: =ROUND(ROUND(L41,4)*(1-M41),4) -> 0 | P41: =ROUND(ROUND(O41,4)*(1+N41),4) -> 0 | Q41: =ROUND($I41*O41,4) -> 0 | R41: =ROUND($I41*P41,4) -> 0
A42: 11100501040 | B42: 30 | C42: PLOŠČICE KERAMIČNE stenske 20X25cm | G42: 3759 | H42: M2 | I42: 40 | K42: 1 | O42: =ROUND(ROUND(L42,4)*(1-M42),4) -> 0 | P42: =ROUND(ROUND(O42,4)*(1+N42),4) -> 0 | Q42: =ROUND($I42*O42,4) -> 0 | R42: =ROUND($I42*P42,4) -> 0
A43: 11100501086 | B43: 31 | C43: PREDPREMAZ VEZNI 1 kg | D43: PRIMER G | G43: 13217 | H43: kg | I43: 4 | K43: 1 | O43: =ROUND(ROUND(L43,4)*(1-M43),4) -> 0 | P43: =ROUND(ROUND(O43,4)*(1+N43),4) -> 0 | Q43: =ROUND($I43*O43,4) -> 0 | R43: =ROUND($I43*P43,4) -> 0
A44: 11100501087 | B44: 32 | C44: PREDPREMAZ VEZNI 1 kg_ECO | D44: ECO PRIM. GRIP_ za KERAMIKO | G44: 13493 | H44: kg | I44: 4 | K44: 1 | O44: =ROUND(ROUND(L44,4)*(1-M44),4) -> 0 | P44: =ROUND(ROUND(O44,4)*(1+N44),4) -> 0 | Q44: =ROUND($I44*O44,4) -> 0 | R44: =ROUND($I44*P44,4) -> 0
A45: 11100501041 | B45: 33 | C45: POLIURETANSKA PENA 0,75l | G45: 3768 | H45: KOS | I45: 40 | K45: 1 | O45: =ROUND(ROUND(L45,4)*(1-M45),4) -> 0 | P45: =ROUND(ROUND(O45,4)*(1+N45),4) -> 0 | Q45: =ROUND($I45*O45,4) -> 0 | R45: =ROUND($I45*P45,4) -> 0
A46: 11100501049 | B46: 34 | C46: SVINČNIK ZIDARSKI | G46: 11502 | H46: KOS | I46: 4 | K46: 1 | O46: =ROUND(ROUND(L46,4)*(1-M46),4) -> 0 | P46: =ROUND(ROUND(O46,4)*(1+N46),4) -> 0 | Q46: =ROUND($I46*O46,4) -> 0 | R46: =ROUND($I46*P46,4) -> 0
A47: 11100501050 | B47: 35 | C47: TEHTNICA VODNA 1M | G47: 4920 | H47: KOS | I47: 2 | K47: 1 | O47: =ROUND(ROUND(L47,4)*(1-M47),4) -> 0 | P47: =ROUND(ROUND(O47,4)*(1+N47),4) -> 0 | Q47: =ROUND($I47*O47,4) -> 0 | R47: =ROUND($I47*P47,4) -> 0
A48: 11100501068 | B48: 36 | C48: TEHTNICA VODNA 600 MM | G48: 9107 | H48: KOS | I48: 2 | K48: 1 | O48: =ROUND(ROUND(L48,4)*(1-M48),4) -> 0 | P48: =ROUND(ROUND(O48,4)*(1+N48),4) -> 0 | Q48: =ROUND($I48*O48,4) -> 0 | R48: =ROUND($I48*P48,4) -> 0
A49: 11100501052 | B49: 37 | C49: VEDRO PVC ZIDARSKO | G49: 4918 | H49: KOS | I49: 2 | K49: 1 | O49: =ROUND(ROUND(L49,4)*(1-M49),4) -> 0 | P49: =ROUND(ROUND(O49,4)*(1+N49),4) -> 0 | Q49: =ROUND($I49*O49,4) -> 0 | R49: =ROUND($I49*P49,4) -> 0
A50: 11100501089 | B50: 38 | C50: VIJAK + VLOŽEK TSS 6X50 | D50: Element, predmonitrani | G50: 13731 | H50: KOS | I50: 80 | K50: 1 | O50: =ROUND(ROUND(L50,4)*(1-M50),4) -> 0 | P50: =ROUND(ROUND(O50,4)*(1+N50),4) -> 0 | Q50: =ROUND($I50*O50,4) -> 0 | R50: =ROUND($I50*P50,4) -> 0
A51: 11100501054 | B51: 39 | C51: VIJAK ZA PRITRDITEV MAVČNE PLOŠČE 25 | G51: 11504 | H51: KOS | I51: 2000 | K51: 1 | O51: =ROUND(ROUND(L51,4)*(1-M51),4) -> 0 | P51: =ROUND(ROUND(O51,4)*(1+N51),4) -> 0 | Q51: =ROUND($I51*O51,4) -> 0 | R51: =ROUND($I51*P51,4) -> 0
A52: 11100501055 | B52: 40 | C52: VIJAK ZA PRITRDITEV MAVČNE PLOŠČE 35 | G52: 11505 | H52: KOS | I52: 2000 | K52: 1 | O52: =ROUND(ROUND(L52,4)*(1-M52),4) -> 0 | P52: =ROUND(ROUND(O52,4)*(1+N52),4) -> 0 | Q52: =ROUND($I52*O52,4) -> 0 | R52: =ROUND($I52*P52,4) -> 0
A53: 11100501091 | B53: 41 | C53: ŽICA ZA OGRAJO NAPENJALNA 2,9 mm_100m | D53: PLASTIFICIRANA | G53: 14533 | H53: KOS | I53: 2 | K53: 1 | O53: =ROUND(ROUND(L53,4)*(1-M53),4) -> 0 | P53: =ROUND(ROUND(O53,4)*(1+N53),4) -> 0 | Q53: =ROUND($I53*O53,4) -> 0 | R53: =ROUND($I53*P53,4) -> 0
A54: 11100501092 | B54: 42 | C54: ŽICA ZA OGRAJO NAPENJALNA 2,9 mm_50m | D54: PLASTIFICIRANA | G54: 14534 | H54: KOS | I54: 2 | K54: 1 | O54: =ROUND(ROUND(L54,4)*(1-M54),4) -> 0 | P54: =ROUND(ROUND(O54,4)*(1+N54),4) -> 0 | Q54: =ROUND($I54*O54,4) -> 0 | R54: =ROUND($I54*P54,4) -> 0
P55: Skupaj: | Q55: =SUM(Q13:Q54) -> 0 | R55: =SUM(R13:R54) -> 0

Sheet Sklop III.
C4: Seznam razpisanega blaga za sklop:
B5: III. | C5: MIZARSKI MATERIAL
C7: =IF('2. Podatki o ponudniku'!C5<>"","Naziv ponudnika: " & '2. Podatki o ponudniku'!C5,"")
C8: =IF('2. Podatki o ponudniku'!C7<>"","Identifikacijska številka za DDV: " & '2. Podatki o ponudniku'!C7,"")
A11: * | B11: 1. | C11: podsklop: podsklop: MIZARSKI MATERIAL | H11: ODPRT | L11: podsklop: MIZARSKI MATERIAL
A12: EOB | B12: Zap. št. | C12: Naziv blaga | D12: Lastnost 1 | E12: Lastnost 2 | F12: Lastnost 3 | G12: Informativna šifra PIS | H12: EM | I12: Količina | J12: Št. vzorcev | K12: Var. | L12: Veljavna cena brez DDV | M12: Popust | N12: Stopnja DDV | O12: Cena brez DDV | P12: Cena z DDV | Q12: Vrednost brez DDV | R12: Vrednost z DDV | S12: Proizvajalec | T12: Ponudnikov naziv blaga | U12: EAN | V12: Kataloška številka | W12: Opomba
A13: 11100628006 | B13: 1 | C13: CEV POHIŠTVENA-OVALNA 15*30mm. | G13: 3990 | H13: M | I13: 30 | K13: 1 | O13: =ROUND(ROUND(L13,4)*(1-M13),4) -> 0 | P13: =ROUND(ROUND(O13,4)*(1+N13),4) -> 0 | Q13: =ROUND($I13*O13,4) -> 0 | R13: =ROUND($I13*P13,4) -> 0
A14: 11100610037 | B14: 2 | C14: CILINDER ZA POH.KLJUČAVNICO HAFELE | G14: 3855 | H14: KOS | I14: 400 | K14: 1 | O14: =ROUND(ROUND(L14,4)*(1-M14),4) -> 0 | P14: =ROUND(ROUND(O14,4)*(1+N14),4) -> 0 | Q14: =ROUND($I14*O14,4) -> 0 | R14: =ROUND($I14*P14,4) -> 0
A15: 11100652002 | B15: 3 | C15: ČEP ZA UŠESA - EAR CLASIC | G15: 4209 | H15: KOS | I15: 150 | K15: 1 | O15: =ROUND(ROUND(L15,4)*(1-M15),4) -> 0 | P15: =ROUND(ROUND(O15,4)*(1+N15),4) -> 0 | Q15: =ROUND($I15*O15,4) -> 0 | R15: =ROUND($I15*P15,4) -> 0
A16: 11100652089 | B16: 4 | C16: ČISTILO ZA ABS TRAK | G16: 10058 | H16: l | I16: 40 | K16: 1 | O16: =ROUND(ROUND(L16,4)*(1-M16),4) -> 0 | P16: =ROUND(ROUND(O16,4)*(1+N16),4) -> 0 | Q16: =ROUND($I16*O16,4) -> 0 | R16: =ROUND($I16*P16,4) -> 0
A17: 11100602002 | B17: 5 | C17: ČOPIČ 2 cm.-vodni lak | G17: 11507 | H17: KOS | I17: 16 | K17: 1 | O17: =ROUND(ROUND(L17,4)*(1-M17),4) -> 0 | P17: =ROUND(ROUND(O17,4)*(1+N17),4) -> 0 | Q17: =ROUND($I17*O17,4) -> 0 | R17: =ROUND($I17*P17,4) -> 0
A18: 11100607001 | B18: 6 | C18: DESKA SMREKA 30 MM - 1. KVALITETA | G18: 3809 | H18: DM3 | I18: 5000 | K18: 1 | O18: =ROUND(ROUND(L18,4)*(1-M18),4) -> 0 | P18: =ROUND(ROUND(O18,4)*(1+N18),4) -> 0 | Q18: =ROUND($I18*O18,4) -> 0 | R18: =ROUND($I18*P18,4) -> 0
A19: 11100607006 | B19: 7 | C19: DESKE PLOHI SMREKA 50 MM - 1. KVALITETA | G19: 3810 | H19: DM3 | I19: 5000 | K19: 1 | O19: =ROUND(ROUND(L19,4)*(1-M19),4) -> 0 | P19: =ROUND(ROUND(O19,4)*(1+N19),4) -> 0 | Q19: =ROUND($I19*O19,4) -> 0 | R19: =ROUND($I19*P19,4) -> 0
A20: 11100608003 | B20: 8 | C20: DRSNIKI POHIŠTVENI Z ŽEBLJEM fi 40 | G20: 4013 | H20: KOS | I20: 800 | K20: 1 | O20: =ROUND(ROUND(L20,4)*(1-M20),4) -> 0 | P20: =ROUND(ROUND(O20,4)*(1+N20),4) -> 0 | Q20: =ROUND($I20*O20,4) -> 0 | R20: =ROUND($I20*P20,4) -> 0
A21: 11100608007 | B21: 9 | C21: DRSNIK SAMOLEP.40x40 filc | G21: 4500 | H21: KOS | I21: 100 | K21: 1 | O21: =ROUND(ROUND(L21,4)*(1-M21),4) -> 0 | P21: =ROUND(ROUND(O21,4)*(1+N21),4) -> 0 | Q21: =ROUND($I21*O21,4) -> 0 | R21: =ROUND($I21*P21,4) -> 0
A22: 11100652006 | B22: 10 | C22: GUMB ALUM.FIXNI HOPPE | G22: 3917 | H22: KOS | I22: 10 | K22: 1 | O22: =ROUND(ROUND(L22,4)*(1-M22),4) -> 0 | P22: =ROUND(ROUND(O22,4)*(1+N22),4) -> 0 | Q22: =ROUND($I22*O22,4) -> 0 | R22: =ROUND($I22*P22,4) -> 0
A23: 11100652073 | B23: 11 | C23: GUMB GIBLJIVI-53/h-HOPPE | G23: 3915 | H23: KOS | I23: 4 | K23: 1 | O23: =ROUND(ROUND(L23,4)*(1-M23),4) -> 0 | P23: =ROUND(ROUND(O23,4)*(1+N23),4) -> 0 | Q23: =ROUND($I23*O23,4) -> 0 | R23: =ROUND($I23*P23,4) -> 0
A24: 11100652013 | B24: 12 | C24: KAPICA VIJAKOV SAMOLEPILNA fi 14 | G24: 4154 | H24: KOS | I24: 1000 | K24: 1 | O24: =ROUND(ROUND(L24,4)*(1-M24),4) -> 0 | P24: =ROUND(ROUND(O24,4)*(1+N24),4) -> 0 | Q24: =ROUND($I24*O24,4) -> 0 | R24: =ROUND($I24*P24,4) -> 0
... A27: 11100601007 | B27: 15 | C27: KIT SILIKONSKI - TERMOSIL N-6 BELI | G27: 12705 | H27: KOS | I27: 4 | K27: 1 | O27: =ROUND(ROUND(L27,4)*(1-M27),4) -> 0 | P27: =ROUND(ROUND(O27,4)*(1+N27),4) -> 0 | Q27: =ROUND($I27*O27,4) -> 0 | R27: =ROUND($I27*P27,4) -> 0
A28: 11100601029 | B28: 16 | C28: SILIKONSKI KIT NEUTR. BELI-PROF.--tekasil | D28: PROF - tekasil | G28: 12706 | H28: KOS | I28: 10 | K28: 1 | O28: =ROUND(ROUND(L28,4)*(1-M28),4) -> 0 | P28: =ROUND(ROUND(O28,4)*(1+N28),4) -> 0 | Q28: =ROUND($I28*O28,4) -> 0 | R28: =ROUND($I28*P28,4) -> 0
A29: 11100601028 | B29: 17 | C29: SILIKONSKI KIT NEUTR BREZB.-PROF.---tekasil | G29: 4171 | H29: KOS | I29: 24 | K29: 1 | O29: =ROUND(ROUND(L29,4)*(1-M29),4) -> 0 | P29: =ROUND(ROUND(O29,4)*(1+N29),4) -> 0 | Q29: =ROUND($I29*O29,4) -> 0 | R29: =ROUND($I29*P29,4) -> 0
A30: 11100601008 | B30: 18 | C30: KIT SILIKONSKI - TERMOSIL N-6 TRANSPARENT | D30: TRANSPARENT | G30: 4169 | H30: KOS | I30: 26 | K30: 1 | O30: =ROUND(ROUND(L30,4)*(1-M30),4) -> 0 | P30: =ROUND(ROUND(O30,4)*(1+N30),4) -> 0 | Q30: =ROUND($I30*O30,4) -> 0 | R30: =ROUND($I30*P30,4) -> 0
A31: 11100610060 | B31: 19 | C31: KLJUČ IMBUS-DOLGI | G31: 4218 | H31: KOS | I31: 2 | K31: 1 | O31: =ROUND(ROUND(L31,4)*(1-M31),4) -> 0 | P31: =ROUND(ROUND(O31,4)*(1+N31),4) -> 0 | Q31: =ROUND($I31*O31,4) -> 0 | R31: =ROUND($I31*P31,4) -> 0
A32: 11100610009 | B32: 20 | C32: KLJUČAVNICA OBEŠANKA MALA | G32: 3858 | H32: KOS | I32: 10 | K32: 1 | O32: =ROUND(ROUND(L32,4)*(1-M32),4) -> 0 | P32: =ROUND(ROUND(O32,4)*(1+N32),4) -> 0 | Q32: =ROUND($I32*O32,4) -> 0 | R32: =ROUND($I32*P32,4) -> 0
A33: 11100610041 | B33: 21 | C33: KLJUČAVNICA POH.CIL.HAEFELE-ČELNA | G33: 3841 | H33: KOS | I33: 30 | K33: 1 | O33: =ROUND(ROUND(L33,4)*(1-M33),4) -> 0 | P33: =ROUND(ROUND(O33,4)*(1+N33),4) -> 0 | Q33: =ROUND($I33*O33,4) -> 0 | R33: =ROUND($I33*P33,4) -> 0
A34: 11100610062 | B34: 22 | C34: KLJUČ. POH.CIL.HAFELE 15-40 | G34: 3842 | H34: KOS | I34: 50 | K34: 1 | O34: =ROUND(ROUND(L34,4)*(1-M34),4) -> 0 | P34: =ROUND(ROUND(O34,4)*(1+N34),4) -> 0 | Q34: =ROUND($I34*O34,4) -> 0 | R34: =ROUND($I34*P34,4) -> 0
A35: 11100610010 | B35: 23 | C35: KLJUČAVNICA OBEŠANKA VELIKA | G35: 3857 | H35: KOS | I35: 4 | K35: 1 | O35: =ROUND(ROUND(L35,4)*(1-M35),4) -> 0 | P35: =ROUND(ROUND(O35,4)*(1+N35),4) -> 0 | Q35: =ROUND($I35*O35,4) -> 0 | R35: =ROUND($I35*P35,4) -> 0
A36: 11100610002 | B36: 24 | C36: KLJUČAVNICA POH.STRANSKA-HAFELE 600 MM | G36: 3850 | H36: KOS | I36: 20 | K36: 1 | O36: =ROUND(ROUND(L36,4)*(1-M36),4) -> 0 | P36: =ROUND(ROUND(O36,4)*(1+N36),4) -> 0 | Q36: =ROUND($I36*O36,4) -> 0 | R36: =ROUND($I36*P36,4) -> 0
A37: 11100610006 | B37: 25 | C37: KLJUČAVNICA CILIND 421/65-92 D+L TITAN | G37: 3834 | H37: KOS | I37: 6 | K37: 1 | O37: =ROUND(ROUND(L37,4)*(1-M37),4) -> 0 | P37: =ROUND(ROUND(O37,4)*(1+N37),4) -> 0 | Q37: =ROUND($I37*O37,4) -> 0 | R37: =ROUND($I37*P37,4) -> 0
A38: 11100610004 | B38: 26 | C38: KLJUČAVNICA ZA VRATA - CIL.GLOB. Z VZVODOM | G38: 3833 | H38: KOS | I38: 20 | K38: 1 | O38: =ROUND(ROUND(L38,4)*(1-M38),4) -> 0 | P38: =ROUND(ROUND(O38,4)*(1+N38),4) -> 0 | Q38: =ROUND($I38*O38,4) -> 0 | R38: =ROUND($I38*P38,4) -> 0
A39: 11100610005 | B39: 27 | C39: KLJUČAVNICA CIL. Z VZV. PLITVA | G39: 3832 | H39: KOS | I39: 16 | K39: 1 | O39: =ROUND(ROUND(L39,4)*(1-M39),4) -> 0 | P39: =ROUND(ROUND(O39,4)*(1+N39),4) -> 0 | Q39: =ROUND($I39*O39,4) -> 0 | R39: =ROUND($I39*P39,4) -> 0
A40: 11100610007 | B40: 28 | C40: KLJUČAVNICA CILIND.805/8 blist.-čel 22mm. | G40: 3830 | H40: KOS | I40: 34 | K40: 1 | O40: =ROUND(ROUND(L40,4)*(1-M40),4) -> 0 | P40: =ROUND(ROUND(O40,4)*(1+N40),4) -> 0 | Q40: =ROUND($I40*O40,4) -> 0 | R40: =ROUND($I40*P40,4) -> 0
A41: 11100610008 | B41: 29 | C41: KLJUČAVNICA CILIND.807/8 blist.-čel.18 mm. | G41: 3831 | H41: KOS | I41: 20 | K41: 1 | O41: =ROUND(ROUND(L41,4)*(1-M41),4) -> 0 | P41: =ROUND(ROUND(O41,4)*(1+N41),4) -> 0 | Q41: =ROUND($I41*O41,4) -> 0 | R41: =ROUND($I41*P41,4) -> 0
A42: 11100610012 | B42: 30 | C42: KLJUČAVNICA POH.HAEFELE 25mm. | G42: 3847 | H42: KOS | I42: 70 | K42: 1 | O42: =ROUND(ROUND(L42,4)*(1-M42),4) -> 0 | P42: =ROUND(ROUND(O42,4)*(1+N42),4) -> 0 | Q42: =ROUND($I42*O42,4) -> 0 | R42: =ROUND($I42*P42,4) -> 0
A43: 11100610042 | B43: 31 | C43: KLJUČAVNICA POH.HAFELE TROZ.15 mm | D43: TROZAPORNA 15mm. | G43: 4600 | H43: KOS | I43: 10 | K43: 1 | O43: =ROUND(ROUND(L43,4)*(1-M43),4) -> 0 | P43: =ROUND(ROUND(O43,4)*(1+N43),4) -> 0 | Q43: =ROUND($I43*O43,4) -> 0 | R43: =ROUND($I43*P43,4) -> 0
A44: 11100610043 | B44: 32 | C44: KLJUČAVNICA POH.HAFELE TROZ.25 mm | D44: 25mm. | G44: 4551 | H44: KOS | I44: 30 | K44: 1 | O44: =ROUND(ROUND(L44,4)*(1-M44),4) -> 0 | P44: =ROUND(ROUND(O44,4)*(1+N44),4) -> 0 | Q44: =ROUND($I44*O44,4) -> 0 | R44: =ROUND($I44*P44,4) -> 0
A45: 11100610016 | B45: 33 | C45: KLJUČAVNICA POHIŠTVENA KO-10 | G45: 3843 | H45: KOS | I45: 20 | K45: 1 | O45: =ROUND(ROUND(L45,4)*(1-M45),4) -> 0 | P45: =ROUND(ROUND(O45,4)*(1+N45),4) -> 0 | Q45: =ROUND($I45*O45,4) -> 0 | R45: =ROUND($I45*P45,4) -> 0
A46: 11100610017 | B46: 34 | C46: KLJUČAVNICA POHIŠTVENA KO-12 | G46: 3851 | H46: KOS | I46: 70 | K46: 1 | O46: =ROUND(ROUND(L46,4)*(1-M46),4) -> 0 | P46: =ROUND(ROUND(O46,4)*(1+N46),4) -> 0 | Q46: =ROUND($I46*O46,4) -> 0 | R46: =ROUND($I46*P46,4) -> 0
A47: 11100610018 | B47: 35 | C47: KLJUČAVNICA POHIŠTVENA PKR-103 | G47: 3844 | H47: KOS | I47: 30 | K47: 1 | O47: =ROUND(ROUND(L47,4)*(1-M47),4) -> 0 | P47: =ROUND(ROUND(O47,4)*(1+N47),4) -> 0 | Q47: =ROUND($I47*O47,4) -> 0 | R47: =ROUND($I47*P47,4) -> 0
A48: 11100610022 | B48: 36 | C48: KLJUČAVNICA WC GLOBOKA – čelnica čel.18mm | G48: 3837 | H48: KOS | I48: 4 | K48: 1 | O48: =ROUND(ROUND(L48,4)*(1-M48),4) -> 0 | P48: =ROUND(ROUND(O48,4)*(1+N48),4) -> 0 | Q48: =ROUND($I48*O48,4) -> 0 | R48: =ROUND($I48*P48,4) -> 0
A49: 11100610046 | B49: 37 | C49: KLJUČAVNICA ZA KOV.OMARICO-18m | G49: 3846 | H49: KOS | I49: 2 | K49: 1 | O49: =ROUND(ROUND(L49,4)*(1-M49),4) -> 0 | P49: =ROUND(ROUND(O49,4)*(1+N49),4) -> 0 | Q49: =ROUND($I49*O49,4) -> 0 | R49: =ROUND($I49*P49,4) -> 0
A50: 11100610024 | B50: 38 | C50: KLJUČAVNICA ZA VRATA - CILINDR.GLOB. | G50: 3826 | H50: KOS | I50: 4 | K50: 1 | O50: =ROUND(ROUND(L50,4)*(1-M50),4) -> 0 | P50: =ROUND(ROUND(O50,4)*(1+N50),4) -> 0 | Q50: =ROUND($I50*O50,4) -> 0 | R50: =ROUND($I50*P50,4) -> 0
A51: 11100610029 | B51: 39 | C51: KLJUČAVNICA ZA WC VRATA PLITVA | G51: 3835 | H51: KOS | I51: 4 | K51: 1 | O51: =ROUND(ROUND(L51,4)*(1-M51),4) -> 0 | P51: =ROUND(ROUND(O51,4)*(1+N51),4) -> 0 | Q51: =ROUND($I51*O51,4) -> 0 | R51: =ROUND($I51*P51,4) -> 0
A52: 11100611001 | B52: 40 | C52: KLJUKA ALUM.HOPPE FI 138n. | D52: KPL=KLJUKA + ROZETA | G52: 3916 | H52: KOS | I52: 110 | K52: 1 | O52: =ROUND(ROUND(L52,4)*(1-M52),4) -> 0 | P52: =ROUND(ROUND(O52,4)*(1+N52),4) -> 0 | Q52: =ROUND($I52*O52,4) -> 0 | R52: =ROUND($I52*P52,4) -> 0
A53: 11100611024 | B53: 41 | C53: KLJUKA ALUM.-HOPPE VERONA | D53: VERONA art.1510-f1 | G53: 4589 | H53: KOS | I53: 20 | K53: 1 | O53: =ROUND(ROUND(L53,4)*(1-M53),4) -> 0 | P53: =ROUND(ROUND(O53,4)*(1+N53),4) -> 0 | Q53: =ROUND($I53*O53,4) -> 0 | R53: =ROUND($I53*P53,4) -> 0
A54: 11100611025 | B54: 42 | C54: KLJUKA GUMB FIX.HOPPE F-2+ščit | G54: 4886 | H54: KOS | I54: 10 | K54: 1 | O54: =ROUND(ROUND(L54,4)*(1-M54),4) -> 0 | P54: =ROUND(ROUND(O54,4)*(1+N54),4) -> 0 | Q54: =ROUND($I54*O54,4) -> 0 | R54: =ROUND($I54*P54,4) -> 0
A55: 11100611019 | B55: 43 | C55: OBEŠALNA KLJUKA VELIKA KROM | D55: DVOJNA OBEŠALNA KLJUKA | G55: 13058 | H55: KOS | I55: 30 | K55: 1 | O55: =ROUND(ROUND(L55,4)*(1-M55),4) -> 0 | P55: =ROUND(ROUND(O55,4)*(1+N55),4) -> 0 | Q55: =ROUND($I55*O55,4) -> 0 | R55: =ROUND($I55*P55,4) -> 0
A56: 11100611015 | B56: 44 | C56: KLJUKE OBEŠALNE KUHAR MALA | G56: 3986 | H56: KOS | I56: 110 | K56: 1 | O56: =ROUND(ROUND(L56,4)*(1-M56),4) -> 0 | P56: =ROUND(ROUND(O56,4)*(1+N56),4) -> 0 | Q56: =ROUND($I56*O56,4) -> 0 | R56: =ROUND($I56*P56,4) -> 0
A57: 11100611018 | B57: 45 | C57: OBEŠALNA KLJUKA KUHAR SREDNJA | G57: 3987 | H57: KOS | I57: 20 | K57: 1 | O57: =ROUND(ROUND(L57,4)*(1-M57),4) -> 0 | P57: =ROUND(ROUND(O57,4)*(1+N57),4) -> 0 | Q57: =ROUND($I57*O57,4) -> 0 | R57: =ROUND($I57*P57,4) -> 0
A58: 11100611026 | B58: 46 | C58: KLJUKA S ŠČITOM ALU EUROPA-F2 | G58: 3911 | H58: KOS | I58: 40 | K58: 1 | O58: =ROUND(ROUND(L58,4)*(1-M58),4) -> 0 | P58: =ROUND(ROUND(O58,4)*(1+N58),4) -> 0 | Q58: =ROUND($I58*O58,4) -> 0 | R58: =ROUND($I58*P58,4) -> 0
A59: 11100611027 | B59: 47 | C59: KLJUKA ZA VRATA ROSSETI art-77 | G59: 3921 | H59: KOS | I59: 2 | K59: 1 | O59: =ROUND(ROUND(L59,4)*(1-M59),4) -> 0 | P59: =ROUND(ROUND(O59,4)*(1+N59),4) -> 0 | Q59: =ROUND($I59*O59,4) -> 0 | R59: =ROUND($I59*P59,4) -> 0
A60: 11100612002 | B60: 48 | C60: KOLO POH.50.S Z PLOŠČICO MED.GUMA | G60: 3992 | H60: KOS | I60: 100 | K60: 1 | O60: =ROUND(ROUND(L60,4)*(1-M60),4) -> 0 | P60: =ROUND(ROUND(O60,4)*(1+N60),4) -> 0 | Q60: =ROUND($I60*O60,4) -> 0 | R60: =ROUND($I60*P60,4) -> 0
A61: 11100613016 | B61: 49 | C61: KONZOLA - H 4-20 M.C.R. | G61: 3863 | H61: KOS | I61: 30 | K61: 1 | O61: =ROUND(ROUND(L61,4)*(1-M61),4) -> 0 | P61: =ROUND(ROUND(O61,4)*(1+N61),4) -> 0 | Q61: =ROUND($I61*O61,4) -> 0 | R61: =ROUND($I61*P61,4) -> 0
A62: 11100613003 | B62: 50 | C62: KONZOLA KOVINSKA 15 X 15 | G62: 3864 | H62: KOS | I62: 10 | K62: 1 | O62: =ROUND(ROUND(L62,4)*(1-M62),4) -> 0 | P62: =ROUND(ROUND(O62,4)*(1+N62),4) -> 0 | Q62: =ROUND($I62*O62,4) -> 0 | R62: =ROUND($I62*P62,4) -> 0
A63: 11100613004 | B63: 51 | C63: KONZOLA KOVINSKA 20x15 | G63: 3860 | H63: KOS | I63: 30 | K63: 1 | O63: =ROUND(ROUND(L63,4)*(1-M63),4) -> 0 | P63: =ROUND(ROUND(O63,4)*(1+N63),4) -> 0 | Q63: =ROUND($I63*O63,4) -> 0 | R63: =ROUND($I63*P63,4) -> 0
A64: 11100613018 | B64: 52 | C64: KONZOLA AU BELA_ 25 cm | D64: NOSILEC POLIC | G64: 12156 | H64: KOS | I64: 20 | K64: 1 | O64: =ROUND(ROUND(L64,4)*(1-M64),4) -> 0 | P64: =ROUND(ROUND(O64,4)*(1+N64),4) -> 0 | Q64: =ROUND($I64*O64,4) -> 0 | R64: =ROUND($I64*P64,4) -> 0
A65: 11100613019 | B65: 53 | C65: KONZOLA AU BELA_ 30 cm | D65: NOSILEC POLIC | G65: 12157 | H65: KOS | I65: 60 | K65: 1 | O65: =ROUND(ROUND(L65,4)*(1-M65),4) -> 0 | P65: =ROUND(ROUND(O65,4)*(1+N65),4) -> 0 | Q65: =ROUND($I65*O65,4) -> 0 | R65: =ROUND($I65*P65,4) -> 0
A66: 11100613020 | B66: 54 | C66: KONZOLA AU BELA_ 35 cm | D66: NOSILEC POLICE | G66: 12158 | H66: KOS | I66: 10 | K66: 1 | O66: =ROUND(ROUND(L66,4)*(1-M66),4) -> 0 | P66: =ROUND(ROUND(O66,4)*(1+N66),4) -> 0 | Q66: =ROUND($I66*O66,4) -> 0 | R66: =ROUND($I66*P66,4) -> 0
A67: 11100614006 | B67: 55 | C67: KORITO POM.550x300x200 INOX | G67: 13391 | H67: KOS | I67: 2 | K67: 1 | O67: =ROUND(ROUND(L67,4)*(1-M67),4) -> 0 | P67: =ROUND(ROUND(O67,4)*(1+N67),4) -> 0 | Q67: =ROUND($I67*O67,4) -> 0 | R67: =ROUND($I67*P67,4) -> 0
A68: 11100614001 | B68: 56 | C68: KORITO POM.610X500-enoj.+ocej. | G68: 4227 | H68: KOS | I68: 2 | K68: 1 | O68: =ROUND(ROUND(L68,4)*(1-M68),4) -> 0 | P68: =ROUND(ROUND(O68,4)*(1+N68),4) -> 0 | Q68: =ROUND($I68*O68,4) -> 0 | R68: =ROUND($I68*P68,4) -> 0
A69: 11100614007 | B69: 57 | C69: KORITO POM.720x300x200 INOX | G69: 13390 | H69: KOS | I69: 1 | K69: 1 | O69: =ROUND(ROUND(L69,4)*(1-M69),4) -> 0 | P69: =ROUND(ROUND(O69,4)*(1+N69),4) -> 0 | Q69: =ROUND($I69*O69,4) -> 0 | R69: =ROUND($I69*P69,4) -> 0
A70: 11100615002 | B70: 58 | C70: KOTNIK LAŽJI 20 X 20 X 15_pocinkani | G70: 3872 | H70: KOS | I70: 200 | K70: 1 | O70: =ROUND(ROUND(L70,4)*(1-M70),4) -> 0 | P70: =ROUND(ROUND(O70,4)*(1+N70),4) -> 0 | Q70: =ROUND($I70*O70,4) -> 0 | R70: =ROUND($I70*P70,4) -> 0
A71: 11100615001 | B71: 59 | C71: KOTNIK 50/50/55 – POCINKANI | G71: 3873 | H71: KOS | I71: 100 | K71: 1 | O71: =ROUND(ROUND(L71,4)*(1-M71),4) -> 0 | P71: =ROUND(ROUND(O71,4)*(1+N71),4) -> 0 | Q71: =ROUND($I71*O71,4) -> 0 | R71: =ROUND($I71*P71,4) -> 0
A72: 11100615006 | B72: 60 | C72: KOTNIK POH.30*30*30 kgn. | G72: 3875 | H72: KOS | I72: 100 | K72: 1 | O72: =ROUND(ROUND(L72,4)*(1-M72),4) -> 0 | P72: =ROUND(ROUND(O72,4)*(1+N72),4) -> 0 | Q72: =ROUND($I72*O72,4) -> 0 | R72: =ROUND($I72*P72,4) -> 0
A73: 11100615007 | B73: 61 | C73: KOTNIK POH.70x70x50-pocinkani | G73: 3877 | H73: KOS | I73: 30 | K73: 1 | O73: =ROUND(ROUND(L73,4)*(1-M73),4) -> 0 | P73: =ROUND(ROUND(O73,4)*(1+N73),4) -> 0 | Q73: =ROUND($I73*O73,4) -> 0 | R73: =ROUND($I73*P73,4) -> 0
A74: 11100615011 | B74: 62 | C74: KOTNIK TEŽJI 90 X 90 X 50 | G74: 3878 | H74: KOS | I74: 60 | K74: 1 | O74: =ROUND(ROUND(L74,4)*(1-M74),4) -> 0 | P74: =ROUND(ROUND(O74,4)*(1+N74),4) -> 0 | Q74: =ROUND($I74*O74,4) -> 0 | R74: =ROUND($I74*P74,4) -> 0
A75: 11100619007 | B75: 63 | C75: LAMELCA 20 - LESENA | G75: 13070 | H75: KOS | I75: 1200 | K75: 1 | O75: =ROUND(ROUND(L75,4)*(1-M75),4) -> 0 | P75: =ROUND(ROUND(O75,4)*(1+N75),4) -> 0 | Q75: =ROUND($I75*O75,4) -> 0 | R75: =ROUND($I75*P75,4) -> 0
A76: 11100601037 | B76: 64 | C76: LEPILO MONTAŽNO TEKAFIX HT 290 | D76: ML BEL | G76: 8651 | H76: KOS | I76: 30 | K76: 1 | O76: =ROUND(ROUND(L76,4)*(1-M76),4) -> 0 | P76: =ROUND(ROUND(O76,4)*(1+N76),4) -> 0 | Q76: =ROUND($I76*O76,4) -> 0 | R76: =ROUND($I76*P76,4) -> 0
A77: 11100601018 | B77: 65 | C77: LEPILO NEOSTIK | G77: 4184 | H77: KG | I77: 20 | K77: 1 | O77: =ROUND(ROUND(L77,4)*(1-M77),4) -> 0 | P77: =ROUND(ROUND(O77,4)*(1+N77),4) -> 0 | Q77: =ROUND($I77*O77,4) -> 0 | R77: =ROUND($I77*P77,4) -> 0
A78: 11100601019 | B78: 66 | C78: LEPILO PATEX SUPER FIX 250 gr | G78: 4187 | H78: KOS | I78: 20 | K78: 1 | O78: =ROUND(ROUND(L78,4)*(1-M78),4) -> 0 | P78: =ROUND(ROUND(O78,4)*(1+N78),4) -> 0 | Q78: =ROUND($I78*O78,4) -> 0 | R78: =ROUND($I78*P78,4) -> 0
A79: 11100601021 | B79: 67 | C79: LEPILO ZA LES - VODOODPORNO D3 | G79: 13024 | H79: KOS | I79: 2 | K79: 1 | O79: =ROUND(ROUND(L79,4)*(1-M79),4) -> 0 | P79: =ROUND(ROUND(O79,4)*(1+N79),4) -> 0 | Q79: =ROUND($I79*O79,4) -> 0 | R79: =ROUND($I79*P79,4) -> 0
A80: 11100601020 | B80: 68 | C80: LEPILO ZA ABS TRAK RAKOLIT 77 | G80: 4186 | H80: KG | I80: 2 | K80: 1 | O80: =ROUND(ROUND(L80,4)*(1-M80),4) -> 0 | P80: =ROUND(ROUND(O80,4)*(1+N80),4) -> 0 | Q80: =ROUND($I80*O80,4) -> 0 | R80: =ROUND($I80*P80,4) -> 0
A81: 11100601041 | B81: 69 | C81: LEPILO ZA ABS TRAK-JOVAT 280.30 | G81: 8381 | H81: kg | I81: 30 | K81: 1 | O81: =ROUND(ROUND(L81,4)*(1-M81),4) -> 0 | P81: =ROUND(ROUND(O81,4)*(1+N81),4) -> 0 | Q81: =ROUND($I81*O81,4) -> 0 | R81: =ROUND($I81*P81,4) -> 0
A82: 11100601021 | B82: 70 | C82: LEPILO ZA LES - VODOODPORNO D3 | G82: 4185 | H82: KOS | I82: 6 | K82: 1 | O82: =ROUND(ROUND(L82,4)*(1-M82),4) -> 0 | P82: =ROUND(ROUND(O82,4)*(1+N82),4) -> 0 | Q82: =ROUND($I82*O82,4) -> 0 | R82: =ROUND($I82*P82,4) -> 0
A83: 11100616017 | B83: 71 | C83: LETEV H-PRIPIRNA-NEH | G83: 8406 | H83: m | I83: 24 | K83: 1 | O83: =ROUND(ROUND(L83,4)*(1-M83),4) -> 0 | P83: =ROUND(ROUND(O83,4)*(1+N83),4) -> 0 | Q83: =ROUND($I83*O83,4) -> 0 | R83: =ROUND($I83*P83,4) -> 0
A84: 11100616014 | B84: 72 | C84: LETVE NOSILNE-KAPLJA 200cm.-bele | G84: 3871 | H84: KOS | I84: 4 | K84: 1 | O84: =ROUND(ROUND(L84,4)*(1-M84),4) -> 0 | P84: =ROUND(ROUND(O84,4)*(1+N84),4) -> 0 | Q84: =ROUND($I84*O84,4) -> 0 | R84: =ROUND($I84*P84,4) -> 0
A85: 11100616019 | B85: 73 | C85: LETEV STENSKA AU 5/200 | G85: 12173 | H85: KOS | I85: 10 | K85: 1 | O85: =ROUND(ROUND(L85,4)*(1-M85),4) -> 0 | P85: =ROUND(ROUND(O85,4)*(1+N85),4) -> 0 | Q85: =ROUND($I85*O85,4) -> 0 | R85: =ROUND($I85*P85,4) -> 0
A86: 11100616007 | B86: 74 | C86: LETEV Z ROBOM 30 MM – 300 CM ALU | G86: 4049 | H86: KOS | I86: 2 | K86: 1 | O86: =ROUND(ROUND(L86,4)*(1-M86),4) -> 0 | P86: =ROUND(ROUND(O86,4)*(1+N86),4) -> 0 | Q86: =ROUND($I86*O86,4) -> 0 | R86: =ROUND($I86*P86,4) -> 0
A87: 11100616008 | B87: 75 | C87: LETEV ZAKLJUČNA ALU. 65.100 30x30 PULTNA | G87: 4043 | H87: M | I87: 40 | K87: 1 | O87: =ROUND(ROUND(L87,4)*(1-M87),4) -> 0 | P87: =ROUND(ROUND(O87,4)*(1+N87),4) -> 0 | Q87: =ROUND($I87*O87,4) -> 0 | R87: =ROUND($I87*P87,4) -> 0
A88: 11100616010 | B88: 76 | C88: LETEV ZRAČNA ALU 200*10 CM | G88: 4057 | H88: KOS | I88: 2 | K88: 1 | O88: =ROUND(ROUND(L88,4)*(1-M88),4) -> 0 | P88: =ROUND(ROUND(O88,4)*(1+N88),4) -> 0 | Q88: =ROUND($I88*O88,4) -> 0 | R88: =ROUND($I88*P88,4) -> 0
... A97: 11100652018 | B97: 85 | C97: MREŽA PVC - PROTIKOMARNA | G97: 4040 | H97: M2 | I97: 8 | K97: 1 | O97: =ROUND(ROUND(L97,4)*(1-M97),4) -> 0 | P97: =ROUND(ROUND(O97,4)*(1+N97),4) -> 0 | Q97: =ROUND($I97*O97,4) -> 0 | R97: =ROUND($I97*P97,4) -> 0
A98: 11100621003 | B98: 86 | C98: NASLONJALO ZA STOL SX 120 | D98: brez blaga in pene | G98: 13286 | H98: KOS | I98: 10 | K98: 1 | O98: =ROUND(ROUND(L98,4)*(1-M98),4) -> 0 | P98: =ROUND(ROUND(O98,4)*(1+N98),4) -> 0 | Q98: =ROUND($I98*O98,4) -> 0 | R98: =ROUND($I98*P98,4) -> 0
A99: 11100621007 | B99: 87 | C99: NASTAVEK KRIŽNI PZ 1-3*25 | G99: 4196 | H99: KOS | I99: 16 | K99: 1 | O99: =ROUND(ROUND(L99,4)*(1-M99),4) -> 0 | P99: =ROUND(ROUND(O99,4)*(1+N99),4) -> 0 | Q99: =ROUND($I99*O99,4) -> 0 | R99: =ROUND($I99*P99,4) -> 0
A100: 11100621004 | B100: 88 | C100: NASTAVEK VIJAČNI KRIŽNI PH, C 6,3 | D100: PH 2 25 MM | G100: 13919 | H100: KOS | I100: 20 | K100: 1 | O100: =ROUND(ROUND(L100,4)*(1-M100),4) -> 0 | P100: =ROUND(ROUND(O100,4)*(1+N100),4) -> 0 | Q100: =ROUND($I100*O100,4) -> 0 | R100: =ROUND($I100*P100,4) -> 0
A101: 11100621005 | B101: 89 | C101: NASTAVEK VIJAČNI KRIŽNI PZ, C 6,3 | D101: PZ 2 25 MM | G101: 13920 | H101: KOS | I101: 4 | K101: 1 | O101: =ROUND(ROUND(L101,4)*(1-M101),4) -> 0 | P101: =ROUND(ROUND(O101,4)*(1+N101),4) -> 0 | Q101: =ROUND($I101*O101,4) -> 0 | R101: =ROUND($I101*P101,4) -> 0
A102: 11100621008 | B102: 90 | C102: NASTAVEK VIJAČNI TX 10-35-wiha | G102: 8726 | H102: KOS | I102: 10 | K102: 1 | O102: =ROUND(ROUND(L102,4)*(1-M102),4) -> 0 | P102: =ROUND(ROUND(O102,4)*(1+N102),4) -> 0 | Q102: =ROUND($I102*O102,4) -> 0 | R102: =ROUND($I102*P102,4) -> 0
A103: 11100652059 | B103: 91 | C103: VIJAČNI NASTAVEK-DRŽALO MAGNETNO | G103: 4197 | H103: KOS | I103: 4 | K103: 1 | O103: =ROUND(ROUND(L103,4)*(1-M103),4) -> 0 | P103: =ROUND(ROUND(O103,4)*(1+N103),4) -> 0 | Q103: =ROUND($I103*O103,4) -> 0 | R103: =ROUND($I103*P103,4) -> 0
A104: 11100622018 | B104: 92 | C104: NOGA POHIŠTVENA STAR t-600mm siva | G104: 4231 | H104: KOS | I104: 30 | K104: 1 | O104: =ROUND(ROUND(L104,4)*(1-M104),4) -> 0 | P104: =ROUND(ROUND(O104,4)*(1+N104),4) -> 0 | Q104: =ROUND($I104*O104,4) -> 0 | R104: =ROUND($I104*P104,4) -> 0
A105: 11100622021 | B105: 93 | C105: NOGA POHIŠTV.M.CROM FI 40-20cm | G105: 10102 | H105: KOS | I105: 80 | K105: 1 | O105: =ROUND(ROUND(L105,4)*(1-M105),4) -> 0 | P105: =ROUND(ROUND(O105,4)*(1+N105),4) -> 0 | Q105: =ROUND($I105*O105,4) -> 0 | R105: =ROUND($I105*P105,4) -> 0
A106: 11100622006 | B106: 94 | C106: NOGA POHIŠTVENA – PVC 10 CM | G106: 3818 | H106: KOS | I106: 40 | K106: 1 | O106: =ROUND(ROUND(L106,4)*(1-M106),4) -> 0 | P106: =ROUND(ROUND(O106,4)*(1+N106),4) -> 0 | Q106: =ROUND($I106*O106,4) -> 0 | R106: =ROUND($I106*P106,4) -> 0
A107: 11100622028 | B107: 95 | C107: NOGA POHIŠTVENA 100cm.fi 80-siva | G107: 3817 | H107: KOS | I107: 16 | K107: 1 | O107: =ROUND(ROUND(L107,4)*(1-M107),4) -> 0 | P107: =ROUND(ROUND(O107,4)*(1+N107),4) -> 0 | Q107: =ROUND($I107*O107,4) -> 0 | R107: =ROUND($I107*P107,4) -> 0
A108: 11100622029 | B108: 96 | C108: NOGA POHIŠTVENA 100cm.Q 60-siv | G108: 3816 | H108: KOS | I108: 10 | K108: 1 | O108: =ROUND(ROUND(L108,4)*(1-M108),4) -> 0 | P108: =ROUND(ROUND(O108,4)*(1+N108),4) -> 0 | Q108: =ROUND($I108*O108,4) -> 0 | R108: =ROUND($I108*P108,4) -> 0
A109: 11100622015 | B109: 97 | C109: NOGA POHIŠTVENA M.CROM fi 40-10 CM | G109: 3820 | H109: KOS | I109: 340 | K109: 1 | O109: =ROUND(ROUND(L109,4)*(1-M109),4) -> 0 | P109: =ROUND(ROUND(O109,4)*(1+N109),4) -> 0 | Q109: =ROUND($I109*O109,4) -> 0 | R109: =ROUND($I109*P109,4) -> 0
A110: 11100622016 | B110: 98 | C110: NOGA POHIŠTVENA M.CROM fi 40-15 CM | G110: 3821 | H110: KOS | I110: 40 | K110: 1 | O110: =ROUND(ROUND(L110,4)*(1-M110),4) -> 0 | P110: =ROUND(ROUND(O110,4)*(1+N110),4) -> 0 | Q110: =ROUND($I110*O110,4) -> 0 | R110: =ROUND($I110*P110,4) -> 0
A111: 11100622009 | B111: 99 | C111: NOGA POHIŠTVENA M.CROM fi 60-71CM | G111: 3815 | H111: KOS | I111: 140 | K111: 1 | O111: =ROUND(ROUND(L111,4)*(1-M111),4) -> 0 | P111: =ROUND(ROUND(O111,4)*(1+N111),4) -> 0 | Q111: =ROUND($I111*O111,4) -> 0 | R111: =ROUND($I111*P111,4) -> 0
A112: 11100622010 | B112: 100 | C112: NOGA POHIŠTVENA M.CROM fi 80-71CM | G112: 3814 | H112: KOS | I112: 140 | K112: 1 | O112: =ROUND(ROUND(L112,4)*(1-M112),4) -> 0 | P112: =ROUND(ROUND(O112,4)*(1+N112),4) -> 0 | Q112: =ROUND($I112*O112,4) -> 0 | R112: =ROUND($I112*P112,4) -> 0
A113: 11100623014 | B113: 101 | C113: NOSILEC PALICE OVAL STROPNI | G113: 13233 | H113: KOS | I113: 40 | K113: 1 | O113: =ROUND(ROUND(L113,4)*(1-M113),4) -> 0 | P113: =ROUND(ROUND(O113,4)*(1+N113),4) -> 0 | Q113: =ROUND($I113*O113,4) -> 0 | R113: =ROUND($I113*P113,4) -> 0
... A126: 11100604005 | B126: 114 | C126: PAPIR BRUSNI PLATNO 60 CM – 80-150 gr. | G126: 4178 | H126: M | I126: 16 | K126: 1 | O126: =ROUND(ROUND(L126,4)*(1-M126),4) -> 0 | P126: =ROUND(ROUND(O126,4)*(1+N126),4) -> 0 | Q126: =ROUND($I126*O126,4) -> 0 | R126: =ROUND($I126*P126,4) -> 0
A127: 11100606039 | B127: 115 | C127: LESONIT PLOŠČA BELA -3 mm b.l. KAINDL | D127: 2720 mm x 2070 mm | G127: 3804 | H127: M2 | I127: 140 | K127: 1 | O127: =ROUND(ROUND(L127,4)*(1-M127),4) -> 0 | P127: =ROUND(ROUND(O127,4)*(1+N127),4) -> 0 | Q127: =ROUND($I127*O127,4) -> 0 | R127: =ROUND($I127*P127,4) -> 0
A128: 11100606005 | B128: 116 | C128: IVERAL PLOŠČA - 19 MM b.l. KAINDL | D128: 2720 mm x 2070 mm | G128: 10475 | H128: m2 | I128: 560 | K128: 1 | O128: =ROUND(ROUND(L128,4)*(1-M128),4) -> 0 | P128: =ROUND(ROUND(O128,4)*(1+N128),4) -> 0 | Q128: =ROUND($I128*O128,4) -> 0 | R128: =ROUND($I128*P128,4) -> 0
...

Sheet Sklop IV.
C4: Seznam razpisanega blaga za sklop:
B5: IV. | C5: PLESKARSKI MATERIAL
C7: =IF('2. Podatki o ponudniku'!C5<>"","Naziv ponudnika: " & '2. Podatki o ponudniku'!C5,"")
C8: =IF('2. Podatki o ponudniku'!C7<>"","Identifikacijska številka za DDV: " & '2. Podatki o ponudniku'!C7,"")
A11: * | B11: 1. | C11: podsklop: podsklop: PLESKARSKI MATERIAL | H11: ODPRT | L11: podsklop: PLESKARSKI MATERIAL
A12: EOB | B12: Zap. št. | C12: Naziv blaga | D12: Lastnost 1 | E12: Lastnost 2 | F12: Lastnost 3 | G12: Informativna šifra PIS | H12: EM | I12: Količina | J12: Št. vzorcev | K12: Var. | L12: Veljavna cena brez DDV | M12: Popust | N12: Stopnja DDV | O12: Cena brez DDV | P12: Cena z DDV | Q12: Vrednost brez DDV | R12: Vrednost z DDV | S12: Proizvajalec | T12: Ponudnikov naziv blaga | U12: EAN | V12: Kataloška številka | W12: Opomba
A13: 11100401047 | B13: 1 | C13: BARVA ANTIMIKROBNA BELA 20l | G13: 13258 | H13: KOS | I13: 20 | K13: 1 | O13: =ROUND(ROUND(L13,4)*(1-M13),4) -> 0 | P13: =ROUND(ROUND(O13,4)*(1+N13),4) -> 0 | Q13: =ROUND($I13*O13,4) -> 0 | R13: =ROUND($I13*P13,4) -> 0
A14: 11100401046 | B14: 2 | C14: BARVA ANTINIKOTINSKA BELA 20l | G14: 13257 | H14: KOS | I14: 20 | K14: 1 | O14: =ROUND(ROUND(L14,4)*(1-M14),4) -> 0 | P14: =ROUND(ROUND(O14,4)*(1+N14),4) -> 0 | Q14: =ROUND($I14*O14,4) -> 0 | R14: =ROUND($I14*P14,4) -> 0
A15: 11100401003 | B15: 3 | C15: BARVA POLMAT SPEKTRA LATEKS 10l | D15: RUMENA 10/1 | G15: 3772 | H15: KOS | I15: 40 | K15: 1 | O15: =ROUND(ROUND(L15,4)*(1-M15),4) -> 0 | P15: =ROUND(ROUND(O15,4)*(1+N15),4) -> 0 | Q15: =ROUND($I15*O15,4) -> 0 | R15: =ROUND($I15*P15,4) -> 0
A16: 11100401014 | B16: 4 | C16: BARVA JUPOL BELA 15l | G16: 3776 | H16: KOS | I16: 40 | K16: 1 | O16: =ROUND(ROUND(L16,4)*(1-M16),4) -> 0 | P16: =ROUND(ROUND(O16,4)*(1+N16),4) -> 0 | Q16: =ROUND($I16*O16,4) -> 0 | R16: =ROUND($I16*P16,4) -> 0
A17: 11100401048 | B17: 5 | C17: BARVA JUPOL GOLD 15 L | D17: BALI ADVANCED | G17: 12140 | H17: KOS | I17: 10 | K17: 1 | O17: =ROUND(ROUND(L17,4)*(1-M17),4) -> 0 | P17: =ROUND(ROUND(O17,4)*(1+N17),4) -> 0 | Q17: =ROUND($I17*O17,4) -> 0 | R17: =ROUND($I17*P17,4) -> 0
A18: 11100401049 | B18: 6 | C18: BARVA STENSKA IZOLIR. 400 ml | G18: 13308 | H18: KOS | I18: 20 | K18: 1 | O18: =ROUND(ROUND(L18,4)*(1-M18),4) -> 0 | P18: =ROUND(ROUND(O18,4)*(1+N18),4) -> 0 | Q18: =ROUND($I18*O18,4) -> 0 | R18: =ROUND($I18*P18,4) -> 0
A19: 11100401050 | B19: 7 | C19: BARVA ZA ŽELEZO na nitro osnovi_SVETLO SIVA | G19: 13993 | H19: L | I19: 20 | K19: 1 | O19: =ROUND(ROUND(L19,4)*(1-M19),4) -> 0 | P19: =ROUND(ROUND(O19,4)*(1+N19),4) -> 0 | Q19: =ROUND($I19*O19,4) -> 0 | R19: =ROUND($I19*P19,4) -> 0
A20: 11100401051 | B20: 8 | C20: ČOPIČ PLOŠČAT _ 22 mm | D20: PINSEL 22 | G20: 14486 | H20: KOS | I20: 2 | K20: 1 | O20: =ROUND(ROUND(L20,4)*(1-M20),4) -> 0 | P20: =ROUND(ROUND(O20,4)*(1+N20),4) -> 0 | Q20: =ROUND($I20*O20,4) -> 0 | R20: =ROUND($I20*P20,4) -> 0
A21: 11100401009 | B21: 9 | C21: ČOPIČ PLOŠČATI 4cm | G21: 12766 | H21: KOS | I21: 40 | K21: 1 | O21: =ROUND(ROUND(L21,4)*(1-M21),4) -> 0 | P21: =ROUND(ROUND(O21,4)*(1+N21),4) -> 0 | Q21: =ROUND($I21*O21,4) -> 0 | R21: =ROUND($I21*P21,4) -> 0
A22: 11100401010 | B22: 10 | C22: ČOPIČ PLOŠČATI 6cm | G22: 4206 | H22: KOS | I22: 80 | K22: 1 | O22: =ROUND(ROUND(L22,4)*(1-M22),4) -> 0 | P22: =ROUND(ROUND(O22,4)*(1+N22),4) -> 0 | Q22: =ROUND($I22*O22,4) -> 0 | R22: =ROUND($I22*P22,4) -> 0
A23: 11100401052 | B23: 11 | C23: DRŽALO Al ZM-V-4 220-400 cm | D23: s PVC ROČAJEM_ WOLF GARTEN | G23: 13261 | H23: KOS | I23: 2 | K23: 1 | O23: =ROUND(ROUND(L23,4)*(1-M23),4) -> 0 | P23: =ROUND(ROUND(O23,4)*(1+N23),4) -> 0 | Q23: =ROUND($I23*O23,4) -> 0 | R23: =ROUND($I23*P23,4) -> 0
A24: 11100401013 | B24: 12 | C24: KIT JUBOLIN (1KG) | G24: 8428 | H24: kg | I24: 200 | K24: 1 | O24: =ROUND(ROUND(L24,4)*(1-M24),4) -> 0 | P24: =ROUND(ROUND(O24,4)*(1+N24),4) -> 0 | Q24: =ROUND($I24*O24,4) -> 0 | R24: =ROUND($I24*P24,4) -> 0
A25: 11100401045 | B25: 13 | C25: KIT ZA AVTOMOBILE | D25: avtokit poly+trdilec f4 | G25: 13210 | H25: kg | I25: 2 | K25: 1 | O25: =ROUND(ROUND(L25,4)*(1-M25),4) -> 0 | P25: =ROUND(ROUND(O25,4)*(1+N25),4) -> 0 | Q25: =ROUND($I25*O25,4) -> 0 | R25: =ROUND($I25*P25,4) -> 0
A26: 11100401053 | B26: 14 | C26: LOPATICA PLESKARSKA 50 mm | G26: 12841 | H26: KOS | I26: 30 | K26: 1 | O26: =ROUND(ROUND(L26,4)*(1-M26),4) -> 0 | P26: =ROUND(ROUND(O26,4)*(1+N26),4) -> 0 | Q26: =ROUND($I26*O26,4) -> 0 | R26: =ROUND($I26*P26,4) -> 0
A27: 11100401054 | B27: 15 | C27: LOPATICA PLESKARSKA 70 mm | G27: 12840 | H27: KOS | I27: 30 | K27: 1 | O27: =ROUND(ROUND(L27,4)*(1-M27),4) -> 0 | P27: =ROUND(ROUND(O27,4)*(1+N27),4) -> 0 | Q27: =ROUND($I27*O27,4) -> 0 | R27: =ROUND($I27*P27,4) -> 0
A28: 11100401020 | B28: 16 | C28: PALICA TELESKOPSKA 2m | G28: 12771 | H28: KOS | I28: 2 | K28: 1 | O28: =ROUND(ROUND(L28,4)*(1-M28),4) -> 0 | P28: =ROUND(ROUND(O28,4)*(1+N28),4) -> 0 | Q28: =ROUND($I28*O28,4) -> 0 | R28: =ROUND($I28*P28,4) -> 0
A29: 11100401055 | B29: 17 | C29: PREMAZ ANTIKOR. FEROSAN (1L) | G29: 3666 | H29: KOS | I29: 6 | K29: 1 | O29: =ROUND(ROUND(L29,4)*(1-M29),4) -> 0 | P29: =ROUND(ROUND(O29,4)*(1+N29),4) -> 0 | Q29: =ROUND($I29*O29,4) -> 0 | R29: =ROUND($I29*P29,4) -> 0
A30: 11100401061 | B30: 18 | C30: PREMAZ BELTOP (0,75l) | G30: 8433 | H30: KOS | I30: 10 | K30: 1 | O30: =ROUND(ROUND(L30,4)*(1-M30),4) -> 0 | P30: =ROUND(ROUND(O30,4)*(1+N30),4) -> 0 | Q30: =ROUND($I30*O30,4) -> 0 | R30: =ROUND($I30*P30,4) -> 0
A31: 11100401005 | B31: 19 | C31: PREMAZ BELTOP BORI lak lazura (0,75L) | G31: 4168 | H31: KOS | I31: 2 | K31: 1 | O31: =ROUND(ROUND(L31,4)*(1-M31),4) -> 0 | P31: =ROUND(ROUND(O31,4)*(1+N31),4) -> 0 | Q31: =ROUND($I31*O31,4) -> 0 | R31: =ROUND($I31*P31,4) -> 0
A32: 11100401056 | B32: 20 | C32: PREMAZ POKRIVNI AGROHEL ES TEM. SIVI _1 L | G32: 11284 | H32: KOS | I32: 20 | K32: 1 | O32: =ROUND(ROUND(L32,4)*(1-M32),4) -> 0 | P32: =ROUND(ROUND(O32,4)*(1+N32),4) -> 0 | Q32: =ROUND($I32*O32,4) -> 0 | R32: =ROUND($I32*P32,4) -> 0
A33: 11100401057 | B33: 21 | C33: PREMAZ POKRIVNI RAL 2010 ORANŽNA - 0.75l | D33: ZA KOVINO IN LES EMAJL TESSAROL | G33: 14627 | H33: KOS | I33: 2 | K33: 1 | O33: =ROUND(ROUND(L33,4)*(1-M33),4) -> 0 | P33: =ROUND(ROUND(O33,4)*(1+N33),4) -> 0 | Q33: =ROUND($I33*O33,4) -> 0 | R33: =ROUND($I33*P33,4) -> 0
A34: 11100401058 | B34: 22 | C34: PREMAZ POKRIVNI REZISTOL EMAJL AV 1-A 10 L | D34: RAL 7016 | G34: 11283 | H34: KOS | I34: 4 | K34: 1 | O34: =ROUND(ROUND(L34,4)*(1-M34),4) -> 0 | P34: =ROUND(ROUND(O34,4)*(1+N34),4) -> 0 | Q34: =ROUND($I34*O34,4) -> 0 | R34: =ROUND($I34*P34,4) -> 0
A35: 11100401059 | B35: 23 | C35: PREMAZ TALNI EPOKSIDNI 114 SIV | D35: HERPELIN 114 RAL 7040 | G35: 13228 | H35: KOS | I35: 2 | K35: 1 | O35: =ROUND(ROUND(L35,4)*(1-M35),4) -> 0 | P35: =ROUND(ROUND(O35,4)*(1+N35),4) -> 0 | Q35: =ROUND($I35*O35,4) -> 0 | R35: =ROUND($I35*P35,4) -> 0
A36: 11100401023 | B36: 24 | C36: RAZREDČILO NITRO (1L) | G36: 4166 | H36: L | I36: 50 | K36: 1 | O36: =ROUND(ROUND(L36,4)*(1-M36),4) -> 0 | P36: =ROUND(ROUND(O36,4)*(1+N36),4) -> 0 | Q36: =ROUND($I36*O36,4) -> 0 | R36: =ROUND($I36*P36,4) -> 0
A37: 11100401024 | B37: 25 | C37: RAZREDČILO SINTETIČNO TESAROL (1L) | G37: 3771 | H37: L | I37: 8 | K37: 1 | O37: =ROUND(ROUND(L37,4)*(1-M37),4) -> 0 | P37: =ROUND(ROUND(O37,4)*(1+N37),4) -> 0 | Q37: =ROUND($I37*O37,4) -> 0 | R37: =ROUND($I37*P37,4) -> 0
A38: 11100401034 | B38: 26 | C38: TRAK ZA ZAŠČITO 5cm | G38: 3779 | H38: KOS | I38: 200 | K38: 1 | O38: =ROUND(ROUND(L38,4)*(1-M38),4) -> 0 | P38: =ROUND(ROUND(O38,4)*(1+N38),4) -> 0 | Q38: =ROUND($I38*O38,4) -> 0 | R38: =ROUND($I38*P38,4) -> 0
A39: 11100401033 | B39: 27 | C39: TRAK ZA ZAŠČITO 3cm | G39: 12775 | H39: KOS | I39: 50 | K39: 1 | O39: =ROUND(ROUND(L39,4)*(1-M39),4) -> 0 | P39: =ROUND(ROUND(O39,4)*(1+N39),4) -> 0 | Q39: =ROUND($I39*O39,4) -> 0 | R39: =ROUND($I39*P39,4) -> 0
A40: 11100401038 | B40: 28 | C40: VALJ 10 SOLO | G40: 8574 | H40: KOS | I40: 20 | K40: 1 | O40: =ROUND(ROUND(L40,4)*(1-M40),4) -> 0 | P40: =ROUND(ROUND(O40,4)*(1+N40),4) -> 0 | Q40: =ROUND($I40*O40,4) -> 0 | R40: =ROUND($I40*P40,4) -> 0
A41: 11100401041 | B41: 29 | C41: VALJ KOMPLET POLYAMID MIDI | G41: 9302 | H41: KOS | I41: 20 | K41: 1 | O41: =ROUND(ROUND(L41,4)*(1-M41),4) -> 0 | P41: =ROUND(ROUND(O41,4)*(1+N41),4) -> 0 | Q41: =ROUND($I41*O41,4) -> 0 | R41: =ROUND($I41*P41,4) -> 0
A42: 11100401042 | B42: 30 | C42: VALJ KOMPLETNI POLAYMID | G42: 9160 | H42: KOS | I42: 2 | K42: 1 | O42: =ROUND(ROUND(L42,4)*(1-M42),4) -> 0 | P42: =ROUND(ROUND(O42,4)*(1+N42),4) -> 0 | Q42: =ROUND($I42*O42,4) -> 0 | R42: =ROUND($I42*P42,4) -> 0
A43: 11100401043 | B43: 31 | C43: VALJ PENA ZAOBLJEN | G43: 9414 | H43: KOS | I43: 12 | K43: 1 | O43: =ROUND(ROUND(L43,4)*(1-M43),4) -> 0 | P43: =ROUND(ROUND(O43,4)*(1+N43),4) -> 0 | Q43: =ROUND($I43*O43,4) -> 0 | R43: =ROUND($I43*P43,4) -> 0
A44: 11100401035 | B44: 32 | C44: VALJ PVC MALI Z ROČKO | G44: 8689 | H44: KOS | I44: 10 | K44: 1 | O44: =ROUND(ROUND(L44,4)*(1-M44),4) -> 0 | P44: =ROUND(ROUND(O44,4)*(1+N44),4) -> 0 | Q44: =ROUND($I44*O44,4) -> 0 | R44: =ROUND($I44*P44,4) -> 0
A45: 11100401060 | B45: 33 | C45: VALJČEK FI 12 x 22 mm | G45: 13777 | H45: KOS | I45: 30 | K45: 1 | O45: =ROUND(ROUND(L45,4)*(1-M45),4) -> 0 | P45: =ROUND(ROUND(O45,4)*(1+N45),4) -> 0 | Q45: =ROUND($I45*O45,4) -> 0 | R45: =ROUND($I45*P45,4) -> 0
A46: 11100401040 | B46: 34 | C46: VALJČEK GOBA MALI | G46: 8735 | H46: KOS | I46: 60 | K46: 1 | O46: =ROUND(ROUND(L46,4)*(1-M46),4) -> 0 | P46: =ROUND(ROUND(O46,4)*(1+N46),4) -> 0 | Q46: =ROUND($I46*O46,4) -> 0 | R46: =ROUND($I46*P46,4) -> 0
P47: Skupaj: | Q47: =SUM(Q13:Q46) -> 0 | R47: =SUM(R13:R46) -> 0

Sheet Sklop V.
C4: Seznam razpisanega blaga za sklop:
B5: V. | C5: VODOINŠTALATERSKI MATERIAL
C7: =IF('2. Podatki o ponudniku'!C5<>"","Naziv ponudnika: " & '2. Podatki o ponudniku'!C5,"")
C8: =IF('2. Podatki o ponudniku'!C7<>"","Identifikacijska številka za DDV: " & '2. Podatki o ponudniku'!C7,"")
A11: * | B11: 1. | C11: podsklop: podsklop: VODOINŠTALATERSKI MATERIAL | H11: ODPRT | L11: podsklop: VODOINŠTALATERSKI MATERIAL
A12: EOB | B12: Zap. št. | C12: Naziv blaga | D12: Lastnost 1 | E12: Lastnost 2 | F12: Lastnost 3 | G12: Informativna šifra PIS | H12: EM | I12: Količina | J12: Št. vzorcev | K12: Var. | L12: Veljavna cena brez DDV | M12: Popust | N12: Stopnja DDV | O12: Cena brez DDV | P12: Cena z DDV | Q12: Vrednost brez DDV | R12: Vrednost z DDV | S12: Proizvajalec | T12: Ponudnikov naziv blaga | U12: EAN | V12: Kataloška številka | W12: Opomba
A13: 11100102002 | B13: 1 | C13: CEV ALUPLAST 16 IZOLIRANA V KOLUTU UNIPIPE | G13: 12778 | H13: m | I13: 240 | K13: 1 | O13: =ROUND(ROUND(L13,4)*(1-M13),4) -> 0 | P13: =ROUND(ROUND(O13,4)*(1+N13),4) -> 0 | Q13: =ROUND($I13*O13,4) -> 0 | R13: =ROUND($I13*P13,4) -> 0
A14: 11100102003 | B14: 2 | C14: CEV ALUPLAST 20 IZOLIRANA V KOLUTU UNIPIPE | G14: 12779 | H14: m | I14: 190 | K14: 1 | O14: =ROUND(ROUND(L14,4)*(1-M14),4) -> 0 | P14: =ROUND(ROUND(O14,4)*(1+N14),4) -> 0 | Q14: =ROUND($I14*O14,4) -> 0 | R14: =ROUND($I14*P14,4) -> 0
A15: 11100102004 | B15: 3 | C15: CEV ALUPLAST 25 IZOLIRANA V KOLUTU UNIPIPE | G15: 12780 | H15: m | I15: 100 | K15: 1 | O15: =ROUND(ROUND(L15,4)*(1-M15),4) -> 0 | P15: =ROUND(ROUND(O15,4)*(1+N15),4) -> 0 | Q15: =ROUND($I15*O15,4) -> 0 | R15: =ROUND($I15*P15,4) -> 0
A16: 11100102016 | B16: 4 | C16: CEV ČRNA 25x25 | G16: 3541 | H16: KG | I16: 500 | K16: 1 | O16: =ROUND(ROUND(L16,4)*(1-M16),4) -> 0 | P16: =ROUND(ROUND(O16,4)*(1+N16),4) -> 0 | Q16: =ROUND($I16*O16,4) -> 0 | R16: =ROUND($I16*P16,4) -> 0
A17: 11100102017 | B17: 5 | C17: CEV ČRNA 3/4" | G17: 3537 | H17: KG | I17: 20 | K17: 1 | O17: =ROUND(ROUND(L17,4)*(1-M17),4) -> 0 | P17: =ROUND(ROUND(O17,4)*(1+N17),4) -> 0 | Q17: =ROUND($I17*O17,4) -> 0 | R17: =ROUND($I17*P17,4) -> 0
A18: 11100102021 | B18: 6 | C18: CEV ČRNA 40x40 | G18: 4232 | H18: kg | I18: 20 | K18: 1 | O18: =ROUND(ROUND(L18,4)*(1-M18),4) -> 0 | P18: =ROUND(ROUND(O18,4)*(1+N18),4) -> 0 | Q18: =ROUND($I18*O18,4) -> 0 | R18: =ROUND($I18*P18,4) -> 0
A19: 11100102022 | B19: 7 | C19: CEV ČRNA 40x60 | G19: 3543 | H19: KG | I19: 60 | K19: 1 | O19: =ROUND(ROUND(L19,4)*(1-M19),4) -> 0 | P19: =ROUND(ROUND(O19,4)*(1+N19),4) -> 0 | Q19: =ROUND($I19*O19,4) -> 0 | R19: =ROUND($I19*P19,4) -> 0
A20: 11100102100 | B20: 8 | C20: CEV ČRNA OKROGLA FI 60 | G20: 14536 | H20: kg | I20: 80 | K20: 1 | O20: =ROUND(ROUND(L20,4)*(1-M20),4) -> 0 | P20: =ROUND(ROUND(O20,4)*(1+N20),4) -> 0 | Q20: =ROUND($I20*O20,4) -> 0 | R20: =ROUND($I20*P20,4) -> 0
A21: 11100102101 | B21: 9 | C21: CEV INŠTALACIJSKA PN23 mm | D21: MAP-CEV-PN23 | G21: 12119 | H21: m | I21: 10 | K21: 1 | O21: =ROUND(ROUND(L21,4)*(1-M21),4) -> 0 | P21: =ROUND(ROUND(O21,4)*(1+N21),4) -> 0 | Q21: =ROUND($I21*O21,4) -> 0 | R21: =ROUND($I21*P21,4) -> 0
A22: 11100102102 | B22: 10 | C22: CEV OKROGLA ČRNA 6/4" | D22: 48.30x3.00x6000 | G22: 13959 | H22: KOS | I22: 2 | K22: 1 | O22: =ROUND(ROUND(L22,4)*(1-M22),4) -> 0 | P22: =ROUND(ROUND(O22,4)*(1+N22),4) -> 0 | Q22: =ROUND($I22*O22,4) -> 0 | R22: =ROUND($I22*P22,4) -> 0
A23: 11100102032 | B23: 11 | C23: CEV OREBRENA RF DN 16 3/4" | G23: 3556 | H23: M | I23: 20 | K23: 1 | O23: =ROUND(ROUND(L23,4)*(1-M23),4) -> 0 | P23: =ROUND(ROUND(O23,4)*(1+N23),4) -> 0 | Q23: =ROUND($I23*O23,4) -> 0 | R23: =ROUND($I23*P23,4) -> 0
A24: 11100102035 | B24: 12 | C24: CEV POCINKANA 1" | G24: 3550 | H24: KG | I24: 6 | K24: 1 | O24: =ROUND(ROUND(L24,4)*(1-M24),4) -> 0 | P24: =ROUND(ROUND(O24,4)*(1+N24),4) -> 0 | Q24: =ROUND($I24*O24,4) -> 0 | R24: =ROUND($I24*P24,4) -> 0
A25: 11100102105 | B25: 13 | C25: CEV PRIKLJUČNA L=450 mm | G25: 13686 | H25: KOS | I25: 2 | K25: 1 | O25: =ROUND(ROUND(L25,4)*(1-M25),4) -> 0 | P25: =ROUND(ROUND(O25,4)*(1+N25),4) -> 0 | Q25: =ROUND($I25*O25,4) -> 0 | R25: =ROUND($I25*P25,4) -> 0
A26: 11100102103 | B26: 14 | C26: CEV PRIKLJUČNA L=600 mm | G26: 13683 | H26: KOS | I26: 2 | K26: 1 | O26: =ROUND(ROUND(L26,4)*(1-M26),4) -> 0 | P26: =ROUND(ROUND(O26,4)*(1+N26),4) -> 0 | Q26: =ROUND($I26*O26,4) -> 0 | R26: =ROUND($I26*P26,4) -> 0
A27: 11100102104 | B27: 15 | C27: CEV PRIKLJUČNA M10-3/8" 450mm_DOLGI VRAT | D27: dolgi vrat | G27: 13693 | H27: KOS | I27: 2 | K27: 1 | O27: =ROUND(ROUND(L27,4)*(1-M27),4) -> 0 | P27: =ROUND(ROUND(O27,4)*(1+N27),4) -> 0 | Q27: =ROUND($I27*O27,4) -> 0 | R27: =ROUND($I27*P27,4) -> 0
A28: 11100102106 | B28: 16 | C28: CEV PRIKLJUČNA WC F1 110 | D28: GIBLJIVA CEV Z MANŠETO | G28: 12103 | H28: KOS | I28: 6 | K28: 1 | O28: =ROUND(ROUND(L28,4)*(1-M28),4) -> 0 | P28: =ROUND(ROUND(O28,4)*(1+N28),4) -> 0 | Q28: =ROUND($I28*O28,4) -> 0 | R28: =ROUND($I28*P28,4) -> 0
A29: 11100102041 | B29: 17 | C29: CEV PVC 110x1000 | G29: 3561 | H29: KOS | I29: 20 | K29: 1 | O29: =ROUND(ROUND(L29,4)*(1-M29),4) -> 0 | P29: =ROUND(ROUND(O29,4)*(1+N29),4) -> 0 | Q29: =ROUND($I29*O29,4) -> 0 | R29: =ROUND($I29*P29,4) -> 0
A30: 11100102042 | B30: 18 | C30: CEV PVC 110x2000 | G30: 3562 | H30: KOS | I30: 10 | K30: 1 | O30: =ROUND(ROUND(L30,4)*(1-M30),4) -> 0 | P30: =ROUND(ROUND(O30,4)*(1+N30),4) -> 0 | Q30: =ROUND($I30*O30,4) -> 0 | R30: =ROUND($I30*P30,4) -> 0
A31: 11100102043 | B31: 19 | C31: CEV PVC 110x250 | G31: 12790 | H31: KOS | I31: 20 | K31: 1 | O31: =ROUND(ROUND(L31,4)*(1-M31),4) -> 0 | P31: =ROUND(ROUND(O31,4)*(1+N31),4) -> 0 | Q31: =ROUND($I31*O31,4) -> 0 | R31: =ROUND($I31*P31,4) -> 0
A32: 11100102045 | B32: 20 | C32: CEV PVC 110x500 | G32: 3563 | H32: KOS | I32: 20 | K32: 1 | O32: =ROUND(ROUND(L32,4)*(1-M32),4) -> 0 | P32: =ROUND(ROUND(O32,4)*(1+N32),4) -> 0 | Q32: =ROUND($I32*O32,4) -> 0 | R32: =ROUND($I32*P32,4) -> 0
A33: 11100102048 | B33: 21 | C33: CEV PVC 32/500 | G33: 3518 | H33: KOS | I33: 10 | K33: 1 | O33: =ROUND(ROUND(L33,4)*(1-M33),4) -> 0 | P33: =ROUND(ROUND(O33,4)*(1+N33),4) -> 0 | Q33: =ROUND($I33*O33,4) -> 0 | R33: =ROUND($I33*P33,4) -> 0
A34: 11100102051 | B34: 22 | C34: CEV PVC 50*250 | G34: 3568 | H34: KOS | I34: 40 | K34: 1 | O34: =ROUND(ROUND(L34,4)*(1-M34),4) -> 0 | P34: =ROUND(ROUND(O34,4)*(1+N34),4) -> 0 | Q34: =ROUND($I34*O34,4) -> 0 | R34: =ROUND($I34*P34,4) -> 0
A35: 11100102052 | B35: 23 | C35: CEV PVC 50*500 | G35: 3567 | H35: KOS | I35: 40 | K35: 1 | O35: =ROUND(ROUND(L35,4)*(1-M35),4) -> 0 | P35: =ROUND(ROUND(O35,4)*(1+N35),4) -> 0 | Q35: =ROUND($I35*O35,4) -> 0 | R35: =ROUND($I35*P35,4) -> 0
A36: 11100102053 | B36: 24 | C36: CEV PVC 50x1000 | G36: 3558 | H36: KOS | I36: 60 | K36: 1 | O36: =ROUND(ROUND(L36,4)*(1-M36),4) -> 0 | P36: =ROUND(ROUND(O36,4)*(1+N36),4) -> 0 | Q36: =ROUND($I36*O36,4) -> 0 | R36: =ROUND($I36*P36,4) -> 0
A37: 11100102054 | B37: 25 | C37: CEV PVC 50x1500 | G37: 3559 | H37: KOS | I37: 10 | K37: 1 | O37: =ROUND(ROUND(L37,4)*(1-M37),4) -> 0 | P37: =ROUND(ROUND(O37,4)*(1+N37),4) -> 0 | Q37: =ROUND($I37*O37,4) -> 0 | R37: =ROUND($I37*P37,4) -> 0
A38: 11100102107 | B38: 26 | C38: CEV PVC PROZORNA 19x24 _ NON TOXIC | G38: 13549 | H38: m | I38: 20 | K38: 1 | O38: =ROUND(ROUND(L38,4)*(1-M38),4) -> 0 | P38: =ROUND(ROUND(O38,4)*(1+N38),4) -> 0 | Q38: =ROUND($I38*O38,4) -> 0 | R38: =ROUND($I38*P38,4) -> 0
A39: 11100102108 | B39: 27 | C39: CEV PVC ZA ZRAK FI 6 mm | G39: 13537 | H39: m | I39: 20 | K39: 1 | O39: =ROUND(ROUND(L39,4)*(1-M39),4) -> 0 | P39: =ROUND(ROUND(O39,4)*(1+N39),4) -> 0 | Q39: =ROUND($I39*O39,4) -> 0 | R39: =ROUND($I39*P39,4) -> 0
A40: 11100102109 | B40: 28 | C40: CEV PVC ZA ZRAK FI 8 mm | G40: 13538 | H40: m | I40: 20 | K40: 1 | O40: =ROUND(ROUND(L40,4)*(1-M40),4) -> 0 | P40: =ROUND(ROUND(O40,4)*(1+N40),4) -> 0 | Q40: =ROUND($I40*O40,4) -> 0 | R40: =ROUND($I40*P40,4) -> 0
... A49: 11100102099 | B49: 37 | C49: CEV VEZNA 3/8" 250MM | G49: 8675 | H49: KOS | I49: 4 | K49: 1 | O49: =ROUND(ROUND(L49,4)*(1-M49),4) -> 0 | P49: =ROUND(ROUND(O49,4)*(1+N49),4) -> 0 | Q49: =ROUND($I49*O49,4) -> 0 | R49: =ROUND($I49*P49,4) -> 0
A50: 11100102115 | B50: 38 | C50: CEV VODNA OBLIKA-U z navojnim priklj. 1/2" | D50: WSRUH 1212 ST (LA3DC08) | G50: 13986 | H50: KOS | I50: 4 | K50: 1 | O50: =ROUND(ROUND(L50,4)*(1-M50),4) -> 0 | P50: =ROUND(ROUND(O50,4)*(1+N50),4) -> 0 | Q50: =ROUND($I50*O50,4) -> 0 | R50: =ROUND($I50*P50,4) -> 0
A51: 11100102116 | B51: 39 | C51: CEV ZA BOJLER FI 10 X 1000 | G51: 13700 | H51: KOS | I51: 2 | K51: 1 | O51: =ROUND(ROUND(L51,4)*(1-M51),4) -> 0 | P51: =ROUND(ROUND(O51,4)*(1+N51),4) -> 0 | Q51: =ROUND($I51*O51,4) -> 0 | R51: =ROUND($I51*P51,4) -> 0
A52: 11100102117 | B52: 40 | C52: CEV ZA IZPUST UMAZANE VODE | D52: IVEC RA431B/E/IBC | G52: 13119 | H52: KOS | I52: 2 | K52: 1 | O52: =ROUND(ROUND(L52,4)*(1-M52),4) -> 0 | P52: =ROUND(ROUND(O52,4)*(1+N52),4) -> 0 | Q52: =ROUND($I52*O52,4) -> 0 | R52: =ROUND($I52*P52,4) -> 0
A53: 11100102118 | B53: 41 | C53: CEV ZA NIZKO MONTAŽO SPLAKOVALNIKA | D53: LIV 195774 | G53: 13961 | H53: KOS | I53: 4 | K53: 1 | O53: =ROUND(ROUND(L53,4)*(1-M53),4) -> 0 | P53: =ROUND(ROUND(O53,4)*(1+N53),4) -> 0 | Q53: =ROUND($I53*O53,4) -> 0 | R53: =ROUND($I53*P53,4) -> 0
A54: 11100102119 | B54: 42 | C54: CEV ZA PNEVMAT 4 x 2 mm CIPNEU | G54: 12431 | H54: m | I54: 20 | K54: 1 | O54: =ROUND(ROUND(L54,4)*(1-M54),4) -> 0 | P54: =ROUND(ROUND(O54,4)*(1+N54),4) -> 0 | Q54: =ROUND($I54*O54,4) -> 0 | R54: =ROUND($I54*P54,4) -> 0
A55: 11100102095 | B55: 43 | C55: CEV ZA TUŠ 1500 | G55: 4388 | H55: KOS | I55: 60 | K55: 1 | O55: =ROUND(ROUND(L55,4)*(1-M55),4) -> 0 | P55: =ROUND(ROUND(O55,4)*(1+N55),4) -> 0 | Q55: =ROUND($I55*O55,4) -> 0 | R55: =ROUND($I55*P55,4) -> 0
A56: 11100102081 | B56: 44 | C56: CEV ZA TUŠ 2000 CROM | G56: 3312 | H56: KOS | I56: 60 | K56: 1 | O56: =ROUND(ROUND(L56,4)*(1-M56),4) -> 0 | P56: =ROUND(ROUND(O56,4)*(1+N56),4) -> 0 | Q56: =ROUND($I56*O56,4) -> 0 | R56: =ROUND($I56*P56,4) -> 0
A57: 11100102120 | B57: 45 | C57: CEV ZA TUŠ WINTERHAL-1/2 COLE | G57: 8648 | H57: KOS | I57: 2 | K57: 1 | O57: =ROUND(ROUND(L57,4)*(1-M57),4) -> 0 | P57: =ROUND(ROUND(O57,4)*(1+N57),4) -> 0 | Q57: =ROUND($I57*O57,4) -> 0 | R57: =ROUND($I57*P57,4) -> 0
A58: 11100102121 | B58: 46 | C58: CEV ZA VOD 8X14 | G58: 8918 | H58: m | I58: 40 | K58: 1 | O58: =ROUND(ROUND(L58,4)*(1-M58),4) -> 0 | P58: =ROUND(ROUND(O58,4)*(1+N58),4) -> 0 | Q58: =ROUND($I58*O58,4) -> 0 | R58: =ROUND($I58*P58,4) -> 0
A59: 11100102122 | B59: 47 | C59: CEV ZA ZRAK 19 _ 20 bar CIZ | G59: 13938 | H59: m | I59: 2 | K59: 1 | O59: =ROUND(ROUND(L59,4)*(1-M59),4) -> 0 | P59: =ROUND(ROUND(O59,4)*(1+N59),4) -> 0 | Q59: =ROUND($I59*O59,4) -> 0 | R59: =ROUND($I59*P59,4) -> 0
A60: 11100103005 | B60: 48 | C60: ČEP POCINKANI 1/2" | G60: 3205 | H60: KOS | I60: 40 | K60: 1 | O60: =ROUND(ROUND(L60,4)*(1-M60),4) -> 0 | P60: =ROUND(ROUND(O60,4)*(1+N60),4) -> 0 | Q60: =ROUND($I60*O60,4) -> 0 | R60: =ROUND($I60*P60,4) -> 0
A61: 11100103007 | B61: 49 | C61: ČEP POCINKANI 3/4" | G61: 3206 | H61: KOS | I61: 30 | K61: 1 | O61: =ROUND(ROUND(L61,4)*(1-M61),4) -> 0 | P61: =ROUND(ROUND(O61,4)*(1+N61),4) -> 0 | Q61: =ROUND($I61*O61,4) -> 0 | R61: =ROUND($I61*P61,4) -> 0
A62: 11100103011 | B62: 50 | C62: ČEP PVC 50 | G62: 3216 | H62: KOS | I62: 20 | K62: 1 | O62: =ROUND(ROUND(L62,4)*(1-M62),4) -> 0 | P62: =ROUND(ROUND(O62,4)*(1+N62),4) -> 0 | Q62: =ROUND($I62*O62,4) -> 0 | R62: =ROUND($I62*P62,4) -> 0
A63: 11100103019 | B63: 51 | C63: ČEP PVC ZAPORNI 6/4" | G63: 12808 | H63: KOS | I63: 20 | K63: 1 | O63: =ROUND(ROUND(L63,4)*(1-M63),4) -> 0 | P63: =ROUND(ROUND(O63,4)*(1+N63),4) -> 0 | Q63: =ROUND($I63*O63,4) -> 0 | R63: =ROUND($I63*P63,4) -> 0
A64: 11100103022 | B64: 52 | C64: ČEP RADIATORSKI 1/2" Z PIPICO | G64: 4634 | H64: KOS | I64: 40 | K64: 1 | O64: =ROUND(ROUND(L64,4)*(1-M64),4) -> 0 | P64: =ROUND(ROUND(O64,4)*(1+N64),4) -> 0 | Q64: =ROUND($I64*O64,4) -> 0 | R64: =ROUND($I64*P64,4) -> 0
A65: 11100103023 | B65: 53 | C65: ČEP SLEPI ZA BIDE 5/4" | G65: 3214 | H65: KOS | I65: 20 | K65: 1 | O65: =ROUND(ROUND(L65,4)*(1-M65),4) -> 0 | P65: =ROUND(ROUND(O65,4)*(1+N65),4) -> 0 | Q65: =ROUND($I65*O65,4) -> 0 | R65: =ROUND($I65*P65,4) -> 0
... A72: 11100107033 | B72: 60 | C72: DESKA WC OTROŠKA PLASTIFICIRANA | G72: 3308 | H72: KOS | I72: 4 | K72: 1 | O72: =ROUND(ROUND(L72,4)*(1-M72),4) -> 0 | P72: =ROUND(ROUND(O72,4)*(1+N72),4) -> 0 | Q72: =ROUND($I72*O72,4) -> 0 | R72: =ROUND($I72*P72,4) -> 0
A73: 111001033006 | B73: 61 | C73: DODATEK ZA MEŠAN 2-TAKTOL HVA | D73: KRPANJE KOLESARSKIH PNEVMATIK | G73: 11813 | H73: KOS | I73: 4 | K73: 1 | O73: =ROUND(ROUND(L73,4)*(1-M73),4) -> 0 | P73: =ROUND(ROUND(O73,4)*(1+N73),4) -> 0 | Q73: =ROUND($I73*O73,4) -> 0 | R73: =ROUND($I73*P73,4) -> 0
A74: 11100161083 | B74: 62 | C74: VLEČNI DROG ZA OMARE PREDNJI | G74: 3738 | H74: KOS | I74: 20 | K74: 1 | O74: =ROUND(ROUND(L74,4)*(1-M74),4) -> 0 | P74: =ROUND(ROUND(O74,4)*(1+N74),4) -> 0 | Q74: =ROUND($I74*O74,4) -> 0 | R74: =ROUND($I74*P74,4) -> 0
A75: 11100106008 | B75: 63 | C75: DRŽALO CEVNO PVC ENOJNO _ FI 18 mm _(1/1) | D75: ZA BAKER | G75: 14469 | H75: KOS | I75: 40 | K75: 1 | O75: =ROUND(ROUND(L75,4)*(1-M75),4) -> 0 | P75: =ROUND(ROUND(O75,4)*(1+N75),4) -> 0 | Q75: =ROUND($I75*O75,4) -> 0 | R75: =ROUND($I75*P75,4) -> 0
A76: 11100106009 | B76: 64 | C76: DRŽALO CEVNO PVC ENOJNO _ FI 28 mm_ (1/1) | D76: ZA BAKER | G76: 14470 | H76: KOS | I76: 50 | K76: 1 | O76: =ROUND(ROUND(L76,4)*(1-M76),4) -> 0 | P76: =ROUND(ROUND(O76,4)*(1+N76),4) -> 0 | Q76: =ROUND($I76*O76,4) -> 0 | R76: =ROUND($I76*P76,4) -> 0
A77: 11100106001 | B77: 65 | C77: DRŽALO CEVNO 1/2" DVOJNE (FI 15 mm) | D77: RADIAT. | G77: 3600 | H77: KOS | I77: 50 | K77: 1 | O77: =ROUND(ROUND(L77,4)*(1-M77),4) -> 0 | P77: =ROUND(ROUND(O77,4)*(1+N77),4) -> 0 | Q77: =ROUND($I77*O77,4) -> 0 | R77: =ROUND($I77*P77,4) -> 0
A78: 11100106002 | B78: 66 | C78: DRŽALO CEVNO 1/2" ENOJNE (FI 15 mm) | G78: 3156 | H78: KOS | I78: 50 | K78: 1 | O78: =ROUND(ROUND(L78,4)*(1-M78),4) -> 0 | P78: =ROUND(ROUND(O78,4)*(1+N78),4) -> 0 | Q78: =ROUND($I78*O78,4) -> 0 | R78: =ROUND($I78*P78,4) -> 0
A79: 11100106004 | B79: 67 | C79: DRŽALO CEVNO 3/4“ ENOJNO (FI 20 mm) | G79: 12587 | H79: KOS | I79: 30 | K79: 1 | O79: =ROUND(ROUND(L79,4)*(1-M79),4) -> 0 | P79: =ROUND(ROUND(O79,4)*(1+N79),4) -> 0 | Q79: =ROUND($I79*O79,4) -> 0 | R79: =ROUND($I79*P79,4) -> 0
A80: 11100106010 | B80: 68 | C80: DRŽALO CEVNO Z GUMO FI 110 cm | G80: 14732 | H80: KOS | I80: 20 | K80: 1 | O80: =ROUND(ROUND(L80,4)*(1-M80),4) -> 0 | P80: =ROUND(ROUND(O80,4)*(1+N80),4) -> 0 | Q80: =ROUND($I80*O80,4) -> 0 | R80: =ROUND($I80*P80,4) -> 0
A81: 11100161136 | B81: 69 | C81: DVIŽNIK ZA STOL SD 4015 | G81: 9149 | H81: KOS | I81: 20 | K81: 1 | O81: =ROUND(ROUND(L81,4)*(1-M81),4) -> 0 | P81: =ROUND(ROUND(O81,4)*(1+N81),4) -> 0 | Q81: =ROUND($I81*O81,4) -> 0 | R81: =ROUND($I81*P81,4) -> 0
A82: 11100142032 | B82: 70 | C82: EKSCENTER RAD 1/2"-40 mm | G82: 13669 | H82: KOS | I82: 6 | K82: 1 | O82: =ROUND(ROUND(L82,4)*(1-M82),4) -> 0 | P82: =ROUND(ROUND(O82,4)*(1+N82),4) -> 0 | Q82: =ROUND($I82*O82,4) -> 0 | R82: =ROUND($I82*P82,4) -> 0
A83: 11100142038 | B83: 71 | C83: EKSCENTER RAD 1/2"-50 mm | G83: 13670 | H83: KOS | I83: 6 | K83: 1 | O83: =ROUND(ROUND(L83,4)*(1-M83),4) -> 0 | P83: =ROUND(ROUND(O83,4)*(1+N83),4) -> 0 | Q83: =ROUND($I83*O83,4) -> 0 | R83: =ROUND($I83*P83,4) -> 0
A84: 11100142039 | B84: 72 | C84: EKSCENTER RAD 1/2"-60 mm | G84: 13671 | H84: KOS | I84: 4 | K84: 1 | O84: =ROUND(ROUND(L84,4)*(1-M84),4) -> 0 | P84: =ROUND(ROUND(O84,4)*(1+N84),4) -> 0 | Q84: =ROUND($I84*O84,4) -> 0 | R84: =ROUND($I84*P84,4) -> 0
A85: 11100142031 | B85: 73 | C85: EKSCENTER RAD 1/2"-20 mm | G85: 3233 | H85: KOS | I85: 10 | K85: 1 | O85: =ROUND(ROUND(L85,4)*(1-M85),4) -> 0 | P85: =ROUND(ROUND(O85,4)*(1+N85),4) -> 0 | Q85: =ROUND($I85*O85,4) -> 0 | R85: =ROUND($I85*P85,4) -> 0
A86: 11100108003 | B86: 74 | C86: ELEKTRODE VISOKO LEGIRANE 2,5 INOX | G86: 3645 | H86: KG | I86: 10 | K86: 1 | O86: =ROUND(ROUND(L86,4)*(1-M86),4) -> 0 | P86: =ROUND(ROUND(O86,4)*(1+N86),4) -> 0 | Q86: =ROUND($I86*O86,4) -> 0 | R86: =ROUND($I86*P86,4) -> 0
A87: 11100161137 | B87: 75 | C87: GLAVA KOSILNA HUSQVAR-T35X/M12 | D87: POLNJENJE KOSILNE NITKE_POLAVTOMATSKO | G87: 11919 | H87: KOS | I87: 2 | K87: 1 | O87: =ROUND(ROUND(L87,4)*(1-M87),4) -> 0 | P87: =ROUND(ROUND(O87,4)*(1+N87),4) -> 0 | Q87: =ROUND($I87*O87,4) -> 0 | R87: =ROUND($I87*P87,4) -> 0
A88: 11100142042 | B88: 76 | C88: GLAVA TERMOSTATSKA DANFOSS | G88: 3271 | H88: KOS | I88: 10 | K88: 1 | O88: =ROUND(ROUND(L88,4)*(1-M88),4) -> 0 | P88: =ROUND(ROUND(O88,4)*(1+N88),4) -> 0 | Q88: =ROUND($I88*O88,4) -> 0 | R88: =ROUND($I88*P88,4) -> 0
A89: 11100161090 | B89: 77 | C89: GUMA VAKUM 100MM | G89: 3641 | H89: KOS | I89: 4 | K89: 1 | O89: =ROUND(ROUND(L89,4)*(1-M89),4) -> 0 | P89: =ROUND(ROUND(O89,4)*(1+N89),4) -> 0 | Q89: =ROUND($I89*O89,4) -> 0 | R89: =ROUND($I89*P89,4) -> 0
A90: 11100161138 | B90: 78 | C90: JAŠEK 500 x500 mm | G90: 3758 | H90: KOS | I90: 4 | K90: 1 | O90: =ROUND(ROUND(L90,4)*(1-M90),4) -> 0 | P90: =ROUND(ROUND(O90,4)*(1+N90),4) -> 0 | Q90: =ROUND($I90*O90,4) -> 0 | R90: =ROUND($I90*P90,4) -> 0
A91: 11100161139 | B91: 79 | C91: JAŠEK OO 300x300 mm | G91: 13930 | H91: KOS | I91: 4 | K91: 1 | O91: =ROUND(ROUND(L91,4)*(1-M91),4) -> 0 | P91: =ROUND(ROUND(O91,4)*(1+N91),4) -> 0 | Q91: =ROUND($I91*O91,4) -> 0 | R91: =ROUND($I91*P91,4) -> 0
A92: 11100161140 | B92: 80 | C92: JAŠEK PP OKVIR Z REŠET.400x400 mm | G92: 12167 | H92: KOS | I92: 2 | K92: 1 | O92: =ROUND(ROUND(L92,4)*(1-M92),4) -> 0 | P92: =ROUND(ROUND(O92,4)*(1+N92),4) -> 0 | Q92: =ROUND($I92*O92,4) -> 0 | R92: =ROUND($I92*P92,4) -> 0
A93: 11100112018 | B93: 81 | C93: JEKLO PLOŠČATO 100 x 5 | D93: VALJANO KONSTRUKCIJSKO | G93: 14419 | H93: kg | I93: 20 | K93: 1 | O93: =ROUND(ROUND(L93,4)*(1-M93),4) -> 0 | P93: =ROUND(ROUND(O93,4)*(1+N93),4) -> 0 | Q93: =ROUND($I93*O93,4) -> 0 | R93: =ROUND($I93*P93,4) -> 0
A94: 11100112011 | B94: 82 | C94: JEKLO PLOŠČATO 25x5 | G94: 3422 | H94: kg | I94: 20 | K94: 1 | O94: =ROUND(ROUND(L94,4)*(1-M94),4) -> 0 | P94: =ROUND(ROUND(O94,4)*(1+N94),4) -> 0 | Q94: =ROUND($I94*O94,4) -> 0 | R94: =ROUND($I94*P94,4) -> 0
A95: 11100112019 | B95: 83 | C95: JEKLO PLOŠČATO 40X5 | D95: VALJANO KONSTRUKCIJSKO | G95: 14542 | H95: kg | I95: 10 | K95: 1 | O95: =ROUND(ROUND(L95,4)*(1-M95),4) -> 0 | P95: =ROUND(ROUND(O95,4)*(1+N95),4) -> 0 | Q95: =ROUND($I95*O95,4) -> 0 | R95: =ROUND($I95*P95,4) -> 0
A96: 11100112020 | B96: 84 | C96: JEKLO PLOŠČATO 50X5 | D96: VALJANO KONSTRUKCIJSKO | G96: 9126 | H96: kg | I96: 10 | K96: 1 | O96: =ROUND(ROUND(L96,4)*(1-M96),4) -> 0 | P96: =ROUND(ROUND(O96,4)*(1+N96),4) -> 0 | Q96: =ROUND($I96*O96,4) -> 0 | R96: =ROUND($I96*P96,4) -> 0
A97: 11100113016 | B97: 85 | C97: JERMEN KLINASTI 10X1500 | G97: 12593 | H97: KOS | I97: 2 | K97: 1 | O97: =ROUND(ROUND(L97,4)*(1-M97),4) -> 0 | P97: =ROUND(ROUND(O97,4)*(1+N97),4) -> 0 | Q97: =ROUND($I97*O97,4) -> 0 | R97: =ROUND($I97*P97,4) -> 0
A98: 11100114008 | B98: 86 | C98: KIT SILIKON TERMOSIL N-6 BELI | G98: 11511 | H98: KOS | I98: 10 | K98: 1 | O98: =ROUND(ROUND(L98,4)*(1-M98),4) -> 0 | P98: =ROUND(ROUND(O98,4)*(1+N98),4) -> 0 | Q98: =ROUND($I98*O98,4) -> 0 | R98: =ROUND($I98*P98,4) -> 0
A99: 11100114009 | B99: 87 | C99: KIT SILIKONSKI JUBOFLEKX AKRIL | G99: 8449 | H99: KOS | I99: 4 | K99: 1 | O99: =ROUND(ROUND(L99,4)*(1-M99),4) -> 0 | P99: =ROUND(ROUND(O99,4)*(1+N99),4) -> 0 | Q99: =ROUND($I99*O99,4) -> 0 | R99: =ROUND($I99*P99,4) -> 0
A100: 11100114007 | B100: 88 | C100: KIT SILIKONSKI NEUTR.-BREZB.PR | G100: 4170 | H100: KOS | I100: 10 | K100: 1 | O100: =ROUND(ROUND(L100,4)*(1-M100),4) -> 0 | P100: =ROUND(ROUND(O100,4)*(1+N100),4) -> 0 | Q100: =ROUND($I100*O100,4) -> 0 | R100: =ROUND($I100*P100,4) -> 0
A101: 11100161142 | B101: 89 | C101: KLEŠČE ZA MASO TOLEDO 600 A | G101: 13495 | H101: KOS | I101: 2 | K101: 1 | O101: =ROUND(ROUND(L101,4)*(1-M101),4) -> 0 | P101: =ROUND(ROUND(O101,4)*(1+N101),4) -> 0 | Q101: =ROUND($I101*O101,4) -> 0 | R101: =ROUND($I101*P101,4) -> 0
A102: 11100161096 | B102: 90 | C102: KLJUČ NASADNI 13 | G102: 3652 | H102: KOS | I102: 2 | K102: 1 | O102: =ROUND(ROUND(L102,4)*(1-M102),4) -> 0 | P102: =ROUND(ROUND(O102,4)*(1+N102),4) -> 0 | Q102: =ROUND($I102*O102,4) -> 0 | R102: =ROUND($I102*P102,4) -> 0
A103: 11100161031 | B103: 91 | C103: KLJUČ ODZRAČEVALNI RADIATORSKI | G103: 3622 | H103: KOS | I103: 10 | K103: 1 | O103: =ROUND(ROUND(L103,4)*(1-M103),4) -> 0 | P103: =ROUND(ROUND(O103,4)*(1+N103),4) -> 0 | Q103: =ROUND($I103*O103,4) -> 0 | R103: =ROUND($I103*P103,4) -> 0
A104: 11100115037 | B104: 92 | C104: KOLENO LRNC 16 mm | G104: 12104 | H104: KOS | I104: 10 | K104: 1 | O104: =ROUND(ROUND(L104,4)*(1-M104),4) -> 0 | P104: =ROUND(ROUND(O104,4)*(1+N104),4) -> 0 | Q104: =ROUND($I104*O104,4) -> 0 | R104: =ROUND($I104*P104,4) -> 0
A105: 11100115038 | B105: 93 | C105: KOLENO MAP LOK LPN 23 | D105: MAPI PIPE LOK LRNC 23MM | G105: 12122 | H105: KOS | I105: 10 | K105: 1 | O105: =ROUND(ROUND(L105,4)*(1-M105),4) -> 0 | P105: =ROUND(ROUND(O105,4)*(1+N105),4) -> 0 | Q105: =ROUND($I105*O105,4) -> 0 | R105: =ROUND($I105*P105,4) -> 0
A106: 11100128001 | B106: 94 | C106: NIPEL KOLENO POCINKANO 3/4" | G106: 9096 | H106: KOS | I106: 20 | K106: 1 | O106: =ROUND(ROUND(L106,4)*(1-M106),4) -> 0 | P106: =ROUND(ROUND(O106,4)*(1+N106),4) -> 0 | Q106: =ROUND($I106*O106,4) -> 0 | R106: =ROUND($I106*P106,4) -> 0
A107: 11100128003 | B107: 95 | C107: NIPEL KOLENO POCINKANO 1/2" | G107: 9095 | H107: KOS | I107: 40 | K107: 1 | O107: =ROUND(ROUND(L107,4)*(1-M107),4) -> 0 | P107: =ROUND(ROUND(O107,4)*(1+N107),4) -> 0 | Q107: =ROUND($I107*O107,4) -> 0 | R107: =ROUND($I107*P107,4) -> 0
A108: 11100128005 | B108: 96 | C108: KOLENO NIPELJ POCINKANO 6/4" | G108: 14393 | H108: KOS | I108: 2 | K108: 1 | O108: =ROUND(ROUND(L108,4)*(1-M108),4) -> 0 | P108: =ROUND(ROUND(O108,4)*(1+N108),4) -> 0 | Q108: =ROUND($I108*O108,4) -> 0 | R108: =ROUND($I108*P108,4) -> 0
A109: 11100115039 | B109: 97 | C109: KOLENO PF 25-25 Uponor | G109: 13602 | H109: KOS | I109: 10 | K109: 1 | O109: =ROUND(ROUND(L109,4)*(1-M109),4) -> 0 | P109: =ROUND(ROUND(O109,4)*(1+N109),4) -> 0 | Q109: =ROUND($I109*O109,4) -> 0 | R109: =ROUND($I109*P109,4) -> 0
A110: 11100115005 | B110: 98 | C110: KOLENO POC 6/4" | G110: 13960 | H110: KOS | I110: 14 | K110: 1 | O110: =ROUND(ROUND(L110,4)*(1-M110),4) -> 0 | P110: =ROUND(ROUND(O110,4)*(1+N110),4) -> 0 | Q110: =ROUND($I110*O110,4) -> 0 | R110: =ROUND($I110*P110,4) -> 0
A111: 11100115002 | B111: 99 | C111: KOLENO POC 1" | G111: 3497 | H111: KOS | I111: 10 | K111: 1 | O111: =ROUND(ROUND(L111,4)*(1-M111),4) -> 0 | P111: =ROUND(ROUND(O111,4)*(1+N111),4) -> 0 | Q111: =ROUND($I111*O111,4) -> 0 | R111: =ROUND($I111*P111,4) -> 0
A112: 11100115006 | B112: 100 | C112: KOLENO POC. 1/2" | G112: 3495 | H112: KOS | I112: 20 | K112: 1 | O112: =ROUND(ROUND(L112,4)*(1-M112),4) -> 0 | P112: =ROUND(ROUND(O112,4)*(1+N112),4) -> 0 | Q112: =ROUND($I112*O112,4) -> 0 | R112: =ROUND($I112*P112,4) -> 0
A113: 11100115032 | B113: 101 | C113: KOLENO PVC 110 x 15 | G113: 8957 | H113: KOS | I113: 4 | K113: 1 | O113: =ROUND(ROUND(L113,4)*(1-M113),4) -> 0 | P113: =ROUND(ROUND(O113,4)*(1+N113),4) -> 0 | Q113: =ROUND($I113*O113,4) -> 0 | R113: =ROUND($I113*P113,4) -> 0
A114: 11100115008 | B114: 102 | C114: KOLENO PVC 110 x 30 | G114: 8958 | H114: KOS | I114: 4 | K114: 1 | O114: =ROUND(ROUND(L114,4)*(1-M114),4) -> 0 | P114: =ROUND(ROUND(O114,4)*(1+N114),4) -> 0 | Q114: =ROUND($I114*O114,4) -> 0 | R114: =ROUND($I114*P114,4) -> 0
A115: 11100115009 | B115: 103 | C115: KOLENO PVC 110 x 45 | G115: 3502 | H115: KOS | I115: 20 | K115: 1 | O115: =ROUND(ROUND(L115,4)*(1-M115),4) -> 0 | P115: =ROUND(ROUND(O115,4)*(1+N115),4) -> 0 | Q115: =ROUND($I115*O115,4) -> 0 | R115: =ROUND($I115*P115,4) -> 0
A116: 11100115010 | B116: 104 | C116: KOLENO PVC 110 x 90 | G116: 3501 | H116: KOS | I116: 10 | K116: 1 | O116: =ROUND(ROUND(L116,4)*(1-M116),4) -> 0 | P116: =ROUND(ROUND(O116,4)*(1+N116),4) -> 0 | Q116: =ROUND($I116*O116,4) -> 0 | R116: =ROUND($I116*P116,4) -> 0
A117: 11100115035 | B117: 105 | C117: KOLENO PVC 32 x 45 | G117: 12827 | H117: KOS | I117: 10 | K117: 1 | O117: =ROUND(ROUND(L117,4)*(1-M117),4) -> 0 | P117: =ROUND(ROUND(O117,4)*(1+N117),4) -> 0 | Q117: =ROUND($I117*O117,4) -> 0 | R117: =ROUND($I117*P117,4) -> 0
... A133: 11100116026 | B133: 121 | C133: KOLO GIBLJIVO 75 | G133: 3435 | H133: KOS | I133: 50 | K133: 1 | O133: =ROUND(ROUND(L133,4)*(1-M133),4) -> 0 | P133: =ROUND(ROUND(O133,4)*(1+N133),4) -> 0 | Q133: =ROUND($I133*O133,4) -> 0 | R133: =ROUND($I133*P133,4) -> 0
A134: 11100116034 | B134: 122 | C134: KOLO GIBLJIVO FI 50 SIVA GUMA | D134: 2-823 H10 | G134: 8780 | H134: KOS | I134: 20 | K134: 1 | O134: =ROUND(ROUND(L134,4)*(1-M134),4) -> 0 | P134: =ROUND(ROUND(O134,4)*(1+N134),4) -> 0 | Q134: =ROUND($I134*O134,4) -> 0 | R134: =ROUND($I134*P134,4) -> 0
A135: 11100117002 | B135: 123 | C135: KONZOLA POMIČNA ZA TUŠ | G135: 3455 | H135: KOS | I135: 20 | K135: 1 | O135: =ROUND(ROUND(L135,4)*(1-M135),4) -> 0 | P135: =ROUND(ROUND(O135,4)*(1+N135),4) -> 0 | Q135: =ROUND($I135*O135,4) -> 0 | R135: =ROUND($I135*P135,4) -> 0
...
