Workbook

Sheet NAVODILA
B4: NAVODILA ZA IZPOLNITEV PREDRAČUNA – SEZNAMA RAZPISANEGA BLAGA (OBR-8a)
B6: 1. Ponudnik mora Predračun - Seznama razpisanega blaga (OBR – 8a) izpolniti, natisniti in natisnjeni izvod podpisati in žigosati.
B8: 2. Ponudnik k ponudbi predloži Predračun - Seznam razpisanega blaga (lastni natis izpolnjenega predračuna iz OBR-8a) v pisni in obvezno tudi v elektronski obliki - na CD-ju ali USB ključku (v primeru enostavnega postopka ob elektronski oddaji ponudbe ponudniki dajo xls. datoteko in scan natisnjene verzije - pdf datoteko kot priponko k elektronski ponudbi).
B10: 3. Ponudnik mora v »Predračun - Seznam razpisanega blaga« (exelova datoteka) pri vrstah blaga, ki jih ponuja (v polja obarvana z rumeno barvo) obvezno vpisati naslednje podatke:
B12: Opcija 1:
B13: o veljavna cena brez DDV/EM
B14: o popust (stopnja fiksnega popusta)
B15: o stopnjo DDV
B16: o proizvajalca ponujenega blaga / izvajalca storitve
B17: o ponudnikov naziv blaga / storitve
B18: o EAN kodo ponujenega blaga / storitve (če jo ima)
B19: o kataloško številko ponujenega blaga / storitve (če jo ima)
... B46: o cena brez DDV mora vsebovati vse stroške, popuste, rabate.

Sheet 1. Podatki naročnika
B4: Podatki naročnika
B5: Naročnik: | C5: Splošna bolnišnica Novo mesto
B6: JN št.: | C6: 16-07/20
B7: Predmet JN: | C7: MATERIAL ZA POPRAVILA IN VZDRŽEVANJE
B8: Obdobje priznane sposobnosti in usposobljenosti:
B9: Obdobje JN:
B10: Vrsta postopka JN: | C10: odprti postopek
B11: Okvirni sporazumi: | C11: Ne
B12: Vrsta predmeta JN: | C12: BLAGO
B13: Status:
B15: Aplikacija Javna naročila, različica 2.3.5

Sheet 2. Podatki o ponudniku
B4: Podatki o ponudniku
B5: Naziv:
B6: Naslov:
B7: Identifikacijska številka za DDV:
B8: Telefon:
B9: Faks:
B10: Kontaktna oseba:
B11: Elektronski naslov:

Sheet 3. Strokovne zahteve naročnika
B4: Strokovne zahteve naročnika

Sheet Sklop I.
C4: Seznam razpisanega blaga za sklop:
B5: I. | C5: ELEKTRO MATERIAL
C7: =IF('2. Podatki o ponudniku'!C5<>"","Naziv ponudnika: " & '2. Podatki o ponudniku'!C5,"")
C8: =IF('2. Podatki o ponudniku'!C7<>"","Identifikacijska številka za DDV: " & '2. Podatki o ponudniku'!C7,"")
A11: * | B11: 1. | C11: podsklop: podsklop: ELEKTRO MATERIAL | H11: ODPRT | L11: podsklop: ELEKTRO MATERIAL
A12: EOB | B12: Zap. št. | C12: Naziv blaga | D12: Lastnost 1 | E12: Lastnost 2 | F12: Lastnost 3 | G12: Informativna šifra PIS | H12: EM | I12: Količina | J12: Št. vzorcev | K12: Var. | L12: Veljavna cena brez DDV | M12: Popust | N12: Stopnja DDV | O12: Cena brez DDV | P12: Cena z DDV | Q12: Vrednost brez DDV | R12: Vrednost z DDV | S12: Proizvajalec | T12: Ponudnikov naziv blaga | U12: EAN | V12: Kataloška številka | W12: Opomba
A13: 11100257105 | B13: 1 | C13: ANTENA SOBNA | G13: 4664 | H13: KOS | I13: 2 | K13: 1 | O13: =ROUND(ROUND(L13,4)*(1-M13),4) -> 0 | P13: =ROUND(ROUND(O13,4)*(1+N13),4) -> 0 | Q13: =ROUND($I13*O13,4) -> 0 | R13: =ROUND($I13*P13,4) -> 0
A14: 11100201006 | B14: 2 | C14: AVTOMATSKA VAROV. C 3x20A | G14: 12678 | H14: KOS | I14: 30 | K14: 1 | O14: =ROUND(ROUND(L14,4)*(1-M14),4) -> 0 | P14: =ROUND(ROUND(O14,4)*(1+N14),4) -> 0 | Q14: =ROUND($I14*O14,4) -> 0 | R14: =ROUND($I14*P14,4) -> 0
A15: 11100201007 | B15: 3 | C15: AVTOMATSKA VAROV. C 3X25A | G15: 12679 | H15: KOS | I15: 10 | K15: 1 | O15: =ROUND(ROUND(L15,4)*(1-M15),4) -> 0 | P15: =ROUND(ROUND(O15,4)*(1+N15),4) -> 0 | Q15: =ROUND($I15*O15,4) -> 0 | R15: =ROUND($I15*P15,4) -> 0
B16: 4 | C16: AKUMULATOR MAKITA BL1860B 18V 6.0Ah | D16: LITHIUM | H16: KOS | I16: 20 | K16: 1 | O16: =ROUND(ROUND(L16,4)*(1-M16),4) -> 0 | P16: =ROUND(ROUND(O16,4)*(1+N16),4) -> 0 | Q16: =ROUND($I16*O16,4) -> 0 | R16: =ROUND($I16*P16,4) -> 0
A17: 11100202027 | B17: 5 | C17: BATERIJA LR 03 | G17: 8470 | H17: KOS | I17: 10 | K17: 1 | O17: =ROUND(ROUND(L17,4)*(1-M17),4) -> 0 | P17: =ROUND(ROUND(O17,4)*(1+N17),4) -> 0 | Q17: =ROUND($I17*O17,4) -> 0 | R17: =ROUND($I17*P17,4) -> 0
A18: 11100202014 | B18: 6 | C18: BATERIJA 12V 9Ah | G18: 3092 | H18: KOS | I18: 30 | K18: 1 | O18: =ROUND(ROUND(L18,4)*(1-M18),4) -> 0 | P18: =ROUND(ROUND(O18,4)*(1+N18),4) -> 0 | Q18: =ROUND($I18*O18,4) -> 0 | R18: =ROUND($I18*P18,4) -> 0
A19: 11100202017 | B19: 7 | C19: BATERIJA 23GA | G19: 3079 | H19: KOS | I19: 30 | K19: 1 | O19: =ROUND(ROUND(L19,4)*(1-M19),4) -> 0 | P19: =ROUND(ROUND(O19,4)*(1+N19),4) -> 0 | Q19: =ROUND($I19*O19,4) -> 0 | R19: =ROUND($I19*P19,4) -> 0
A20: 11100202036 | B20: 8 | C20: BATERIJA 377 | G20: 8465 | H20: KOS | I20: 20 | K20: 1 | O20: =ROUND(ROUND(L20,4)*(1-M20),4) -> 0 | P20: =ROUND(ROUND(O20,4)*(1+N20),4) -> 0 | Q20: =ROUND($I20*O20,4) -> 0 | R20: =ROUND($I20*P20,4) -> 0
A21: 11100202009 | B21: 9 | C21: BATERIJA GLR1 9V | G21: 3068 | H21: KOS | I21: 60 | K21: 1 | O21: =ROUND(ROUND(L21,4)*(1-M21),4) -> 0 | P21: =ROUND(ROUND(O21,4)*(1+N21),4) -> 0 | Q21: =ROUND($I21*O21,4) -> 0 | R21: =ROUND($I21*P21,4) -> 0
A22: 11100202057 | B22: 10 | C22: BATERIJA A27 20mAH 12V | G22: 13138 | H22: KOS | I22: 10 | K22: 1 | O22: =ROUND(ROUND(L22,4)*(1-M22),4) -> 0 | P22: =ROUND(ROUND(O22,4)*(1+N22),4) -> 0 | Q22: =ROUND($I22*O22,4) -> 0 | R22: =ROUND($I22*P22,4) -> 0
A23: 11100202063 | B23: 11 | C23: BATERIJA AKU 7,2V 1800mAh | G23: 3083 | H23: KOS | I23: 10 | K23: 1 | O23: =ROUND(ROUND(L23,4)*(1-M23),4) -> 0 | P23: =ROUND(ROUND(O23,4)*(1+N23),4) -> 0 | Q23: =ROUND($I23*O23,4) -> 0 | R23: =ROUND($I23*P23,4) -> 0
A24: 11100202058 | B24: 12 | C24: BATERIJA AKU 7.2V/1.5Ah | G24: 4460 | H24: KOS | I24: 6 | K24: 1 | O24: =ROUND(ROUND(L24,4)*(1-M24),4) -> 0 | P24: =ROUND(ROUND(O24,4)*(1+N24),4) -> 0 | Q24: =ROUND($I24*O24,4) -> 0 | R24: =ROUND($I24*P24,4) -> 0
A25: 11100202021 | B25: 13 | C25: BATERIJA AKU AAA R03 | G25: 3059 | H25: KOS | I25: 200 | K25: 1 | O25: =ROUND(ROUND(L25,4)*(1-M25),4) -> 0 | P25: =ROUND(ROUND(O25,4)*(1+N25),4) -> 0 | Q25: =ROUND($I25*O25,4) -> 0 | R25: =ROUND($I25*P25,4) -> 0
A26: 11100202022 | B26: 14 | C26: BATERIJA CR 2016 | G26: 3074 | H26: KOS | I26: 6 | K26: 1 | O26: =ROUND(ROUND(L26,4)*(1-M26),4) -> 0 | P26: =ROUND(ROUND(O26,4)*(1+N26),4) -> 0 | Q26: =ROUND($I26*O26,4) -> 0 | R26: =ROUND($I26*P26,4) -> 0
A27: 11100202023 | B27: 15 | C27: BATERIJA CR 2025 3V | G27: 3076 | H27: KOS | I27: 20 | K27: 1 | O27: =ROUND(ROUND(L27,4)*(1-M27),4) -> 0 | P27: =ROUND(ROUND(O27,4)*(1+N27),4) -> 0 | Q27: =ROUND($I27*O27,4) -> 0 | R27: =ROUND($I27*P27,4) -> 0
A28: 11100202006 | B28: 16 | C28: BATERIJA CR 2032 3V | G28: 3075 | H28: KOS | I28: 300 | K28: 1 | O28: =ROUND(ROUND(L28,4)*(1-M28),4) -> 0 | P28: =ROUND(ROUND(O28,4)*(1+N28),4) -> 0 | Q28: =ROUND($I28*O28,4) -> 0 | R28: =ROUND($I28*P28,4) -> 0
... A30: 11100202034 | B30: 18 | C30: BATERIJA Li 1/2AA | G30: 12395 | H30: KOS | I30: 4 | K30: 1 | O30: =ROUND(ROUND(L30,4)*(1-M30),4) -> 0 | P30: =ROUND(ROUND(O30,4)*(1+N30),4) -> 0 | Q30: =ROUND($I30*O30,4) -> 0 | R30: =ROUND($I30*P30,4) -> 0
A31: 11100202059 | B31: 19 | C31: BATERIJA Li Ion 16,5V, 1,1Ah | D31: 18,15Wh -tip 89-8510-440-20 ZIMMER | G31: 11119 | H31: KOS | I31: 2 | K31: 1 | O31: =ROUND(ROUND(L31,4)*(1-M31),4) -> 0 | P31: =ROUND(ROUND(O31,4)*(1+N31),4) -> 0 | Q31: =ROUND($I31*O31,4) -> 0 | R31: =ROUND($I31*P31,4) -> 0
A32: 11100202027 | B32: 20 | C32: BATERIJA LR 03 | G32: 3062 | H32: KOS | I32: 400 | K32: 1 | O32: =ROUND(ROUND(L32,4)*(1-M32),4) -> 0 | P32: =ROUND(ROUND(O32,4)*(1+N32),4) -> 0 | Q32: =ROUND($I32*O32,4) -> 0 | R32: =ROUND($I32*P32,4) -> 0
A33: 11100202065 | B33: 21 | C33: BATERIJA LR 03_ 1,5V | G33: 8880 | H33: KOS | I33: 3000 | K33: 1 | O33: =ROUND(ROUND(L33,4)*(1-M33),4) -> 0 | P33: =ROUND(ROUND(O33,4)*(1+N33),4) -> 0 | Q33: =ROUND($I33*O33,4) -> 0 | R33: =ROUND($I33*P33,4) -> 0
A34: 11100202028 | B34: 22 | C34: BATERIJA LR 44 | G34: 3073 | H34: KOS | I34: 80 | K34: 1 | O34: =ROUND(ROUND(L34,4)*(1-M34),4) -> 0 | P34: =ROUND(ROUND(O34,4)*(1+N34),4) -> 0 | Q34: =ROUND($I34*O34,4) -> 0 | R34: =ROUND($I34*P34,4) -> 0
A35: 11100202046 | B35: 23 | C35: BATERIJA LR 54 | G35: 4430 | H35: KOS | I35: 30 | K35: 1 | O35: =ROUND(ROUND(L35,4)*(1-M35),4) -> 0 | P35: =ROUND(ROUND(O35,4)*(1+N35),4) -> 0 | Q35: =ROUND($I35*O35,4) -> 0 | R35: =ROUND($I35*P35,4) -> 0
A36: 11100202050 | B36: 24 | C36: BATERIJA LR 6 AA 1,5V | G36: 12616 | H36: KOS | I36: 4000 | K36: 1 | O36: =ROUND(ROUND(L36,4)*(1-M36),4) -> 0 | P36: =ROUND(ROUND(O36,4)*(1+N36),4) -> 0 | Q36: =ROUND($I36*O36,4) -> 0 | R36: =ROUND($I36*P36,4) -> 0
A37: 11100202047 | B37: 25 | C37: BATERIJA LR 14 | D37: baterija za laringoskop C LR14 1.5V 2X | G37: 3069 | H37: KOS | I37: 400 | K37: 1 | O37: =ROUND(ROUND(L37,4)*(1-M37),4) -> 0 | P37: =ROUND(ROUND(O37,4)*(1+N37),4) -> 0 | Q37: =ROUND($I37*O37,4) -> 0 | R37: =ROUND($I37*P37,4) -> 0
A38: 11100202029 | B38: 26 | C38: BATERIJA LR41 | G38: 3071 | H38: KOS | I38: 20 | K38: 1 | O38: =ROUND(ROUND(L38,4)*(1-M38),4) -> 0 | P38: =ROUND(ROUND(O38,4)*(1+N38),4) -> 0 | Q38: =ROUND($I38*O38,4) -> 0 | R38: =ROUND($I38*P38,4) -> 0
A39: 11100202049 | B39: 27 | C39: BATERIJA LR 6 1,5 V | G39: 11351 | H39: KOS | I39: 500 | K39: 1 | O39: =ROUND(ROUND(L39,4)*(1-M39),4) -> 0 | P39: =ROUND(ROUND(O39,4)*(1+N39),4) -> 0 | Q39: =ROUND($I39*O39,4) -> 0 | R39: =ROUND($I39*P39,4) -> 0
A40: 11100202011 | B40: 28 | C40: BATERIJA NC 3,6V/260 | G40: 11352 | H40: KOS | I40: 10 | K40: 1 | O40: =ROUND(ROUND(L40,4)*(1-M40),4) -> 0 | P40: =ROUND(ROUND(O40,4)*(1+N40),4) -> 0 | Q40: =ROUND($I40*O40,4) -> 0 | R40: =ROUND($I40*P40,4) -> 0
A41: 11100202060 | B41: 29 | C41: BATERIJA POLNILNA 12 V, 3,4 Ah | D41: AKU VRLA LC-R | G41: 11699 | H41: KOS | I41: 2 | K41: 1 | O41: =ROUND(ROUND(L41,4)*(1-M41),4) -> 0 | P41: =ROUND(ROUND(O41,4)*(1+N41),4) -> 0 | Q41: =ROUND($I41*O41,4) -> 0 | R41: =ROUND($I41*P41,4) -> 0
A42: 11100202061 | B42: 30 | C42: BATERIJA POLNILNA AA 1,4 V | D42: GP BATERIJA AKU GP2700AAHC | G42: 11039 | H42: KOS | I42: 50 | K42: 1 | O42: =ROUND(ROUND(L42,4)*(1-M42),4) -> 0 | P42: =ROUND(ROUND(O42,4)*(1+N42),4) -> 0 | Q42: =ROUND($I42*O42,4) -> 0 | R42: =ROUND($I42*P42,4) -> 0
A43: 11100204001 | B43: 31 | C43: CEV PN fi 13,5 | D43: MAP-CEV PN 13,5 | G43: 11064 | H43: KOS | I43: 2 | K43: 1 | O43: =ROUND(ROUND(L43,4)*(1-M43),4) -> 0 | P43: =ROUND(ROUND(O43,4)*(1+N43),4) -> 0 | Q43: =ROUND($I43*O43,4) -> 0 | R43: =ROUND($I43*P43,4) -> 0
A44: 11100204002 | B44: 32 | C44: CEV PN FI 16 | D44: MAP-CEV PN 16 | G44: 11065 | H44: KOS | I44: 10 | K44: 1 | O44: =ROUND(ROUND(L44,4)*(1-M44),4) -> 0 | P44: =ROUND(ROUND(O44,4)*(1+N44),4) -> 0 | Q44: =ROUND($I44*O44,4) -> 0 | R44: =ROUND($I44*P44,4) -> 0
A45: 11100204007 | B45: 33 | C45: CEV PVC ZA BETON 32 DIN | D45: RBC PISKAR | G45: 2402 | H45: M | I45: 200 | K45: 1 | O45: =ROUND(ROUND(L45,4)*(1-M45),4) -> 0 | P45: =ROUND(ROUND(O45,4)*(1+N45),4) -> 0 | Q45: =ROUND($I45*O45,4) -> 0 | R45: =ROUND($I45*P45,4) -> 0
A46: 11100204031 | B46: 34 | C46: CEV RFS DIN 16mm ZIDNA | D46: OPTOPLAST | G46: 10448 | H46: m | I46: 200 | K46: 1 | O46: =ROUND(ROUND(L46,4)*(1-M46),4) -> 0 | P46: =ROUND(ROUND(O46,4)*(1+N46),4) -> 0 | Q46: =ROUND($I46*O46,4) -> 0 | R46: =ROUND($I46*P46,4) -> 0
A47: 11100204008 | B47: 35 | C47: CEV RFS fi 11 | G47: 2398 | H47: M | I47: 200 | K47: 1 | O47: =ROUND(ROUND(L47,4)*(1-M47),4) -> 0 | P47: =ROUND(ROUND(O47,4)*(1+N47),4) -> 0 | Q47: =ROUND($I47*O47,4) -> 0 | R47: =ROUND($I47*P47,4) -> 0
...

Sheet Sklop II.
C4: Seznam razpisanega blaga za sklop:
B5: II. | C5: GRADBENI MATERIAL
C7: =IF('2. Podatki o ponudniku'!C5<>"","Naziv ponudnika: " & '2. Podatki o ponudniku'!C5,"")
C8: =IF('2. Podatki o ponudniku'!C7<>"","Identifikacijska številka za DDV: " & '2. Podatki o ponudniku'!C7,"")
A11: * | B11: 1. | C11: podsklop: podsklop: GRADBENI MATERIAL | H11: ODPRT | L11: podsklop: GRADBENI MATERIAL
A12: EOB | B12: Zap. št. | C12: Naziv blaga | D12: Lastnost 1 | E12: Lastnost 2 | F12: Lastnost 3 | G12: Informativna šifra PIS | H12: EM | I12: Količina | J12: Št. vzorcev | K12: Var. | L12: Veljavna cena brez DDV | M12: Popust | N12: Stopnja DDV | O12: Cena brez DDV | P12: Cena z DDV | Q12: Vrednost brez DDV | R12: Vrednost z DDV | S12: Proizvajalec | T12: Ponudnikov naziv blaga | U12: EAN | V12: Kataloška številka | W12: Opomba
A13: 11100501002 | B13: 1 | C13: CEMENT VREČA (25KG) | G13: 4911 | H13: kg | I13: 700 | K13: 1 | O13: =ROUND(ROUND(L13,4)*(1-M13),4) -> 0 | P13: =ROUND(ROUND(O13,4)*(1+N13),4) -> 0 | Q13: =ROUND($I13*O13,4) -> 0 | R13: =ROUND($I13*P13,4) -> 0
A14: 11100501073 | B14: 2 | C14: ČISTILO PU PENE 500 ML | D14: ZA PURPEN PIŠTOLO | G14: 12120 | H14: KOS | I14: 6 | K14: 1 | O14: =ROUND(ROUND(L14,4)*(1-M14),4) -> 0 | P14: =ROUND(ROUND(O14,4)*(1+N14),4) -> 0 | Q14: =ROUND($I14*O14,4) -> 0 | R14: =ROUND($I14*P14,4) -> 0
A15: 11100501074 | B15: 3 | C15: DISTANČNIK KRIŽEC PVC 2,5 mm | D15: ZA PLOŠČICE KERAMIČNE | G15: 13500 | H15: KOS | I15: 5000 | K15: 1 | O15: =ROUND(ROUND(L15,4)*(1-M15),4) -> 0 | P15: =ROUND(ROUND(O15,4)*(1+N15),4) -> 0 | Q15: =ROUND($I15*O15,4) -> 0 | R15: =ROUND($I15*P15,4) -> 0
A16: 11100501004 | B16: 4 | C16: EMULZIJA (1LITER) | G16: 4910 | H16: KOS | I16: 30 | K16: 1 | O16: =ROUND(ROUND(L16,4)*(1-M16),4) -> 0 | P16: =ROUND(ROUND(O16,4)*(1+N16),4) -> 0 | Q16: =ROUND($I16*O16,4) -> 0 | R16: =ROUND($I16*P16,4) -> 0
A17: 11100501006 | B17: 5 | C17: FOLIJA EMBALAŽNA 500MM | G17: 11487 | H17: KOS | I17: 10 | K17: 1 | O17: =ROUND(ROUND(L17,4)*(1-M17),4) -> 0 | P17: =ROUND(ROUND(O17,4)*(1+N17),4) -> 0 | Q17: =ROUND($I17*O17,4) -> 0 | R17: =ROUND($I17*P17,4) -> 0
A18: 11100501062 | B18: 6 | C18: FOLIJA LEP. STRETCH-250mm. | G18: 4193 | H18: KOS | I18: 2 | K18: 1 | O18: =ROUND(ROUND(L18,4)*(1-M18),4) -> 0 | P18: =ROUND(ROUND(O18,4)*(1+N18),4) -> 0 | Q18: =ROUND($I18*O18,4) -> 0 | R18: =ROUND($I18*P18,4) -> 0
A19: 11100501093 | B19: 7 | C19: FOLIJA ZAŠČITNA PE PROZORNA 4m | G19: 3784 | H19: KG | I19: 200 | K19: 1 | O19: =ROUND(ROUND(L19,4)*(1-M19),4) -> 0 | P19: =ROUND(ROUND(O19,4)*(1+N19),4) -> 0 | Q19: =ROUND($I19*O19,4) -> 0 | R19: =ROUND($I19*P19,4) -> 0
A20: 11100501075 | B20: 8 | C20: GLADILKA KOV. ZA LEPILO Z ZOB. | G20: 11488 | H20: KOS | I20: 2 | K20: 1 | O20: =ROUND(ROUND(L20,4)*(1-M20),4) -> 0 | P20: =ROUND(ROUND(O20,4)*(1+N20),4) -> 0 | Q20: =ROUND($I20*O20,4) -> 0 | R20: =ROUND($I20*P20,4) -> 0
A21: 11100501094 | B21: 9 | C21: GLADILKA PLASTIČNA 30x15 | G21: 3787 | H21: KOS | I21: 2 | K21: 1 | O21: =ROUND(ROUND(L21,4)*(1-M21),4) -> 0 | P21: =ROUND(ROUND(O21,4)*(1+N21),4) -> 0 | Q21: =ROUND($I21*O21,4) -> 0 | R21: =ROUND($I21*P21,4) -> 0
A22: 11100501076 | B22: 10 | C22: GLAVA t35 UNIVERZALNA | G22: 13701 | H22: KOS | I22: 2 | K22: 1 | O22: =ROUND(ROUND(L22,4)*(1-M22),4) -> 0 | P22: =ROUND(ROUND(O22,4)*(1+N22),4) -> 0 | Q22: =ROUND($I22*O22,4) -> 0 | R22: =ROUND($I22*P22,4) -> 0
A23: 11100501021 | B23: 11 | C23: LEPILO NOTRANJI (VREČA 25KG) | G23: 3766 | H23: KG | I23: 1200 | K23: 1 | O23: =ROUND(ROUND(L23,4)*(1-M23),4) -> 0 | P23: =ROUND(ROUND(O23,4)*(1+N23),4) -> 0 | Q23: =ROUND($I23*O23,4) -> 0 | R23: =ROUND($I23*P23,4) -> 0
A24: 11100501022 | B24: 12 | C24: LEPILO ZUNANJE (VREČA 25KG) | G24: 11493 | H24: kg | I24: 30 | K24: 1 | O24: =ROUND(ROUND(L24,4)*(1-M24),4) -> 0 | P24: =ROUND(ROUND(O24,4)*(1+N24),4) -> 0 | Q24: =ROUND($I24*O24,4) -> 0 | R24: =ROUND($I24*P24,4) -> 0
A25: 11100501077 | B25: 13 | C25: LETEV POLKROŽNA L=2,7 m, 8 mm | D25: PVC P PROFIL BEL_ ZA KERAMIČ. PLOŠČICE | G25: 13501 | H25: KOS | I25: 10 | K25: 1 | O25: =ROUND(ROUND(L25,4)*(1-M25),4) -> 0 | P25: =ROUND(ROUND(O25,4)*(1+N25),4) -> 0 | Q25: =ROUND($I25*O25,4) -> 0 | R25: =ROUND($I25*P25,4) -> 0
A26: 11100501064 | B26: 14 | C26: MALTA APNENA | G26: 8778 | H26: kg | I26: 300 | K26: 1 | O26: =ROUND(ROUND(L26,4)*(1-M26),4) -> 0 | P26: =ROUND(ROUND(O26,4)*(1+N26),4) -> 0 | Q26: =ROUND($I26*O26,4) -> 0 | R26: =ROUND($I26*P26,4) -> 0
A27: 11100501065 | B27: 15 | C27: MALTA BETONSKA | G27: 8777 | H27: kg | I27: 2000 | K27: 1 | O27: =ROUND(ROUND(L27,4)*(1-M27),4) -> 0 | P27: =ROUND(ROUND(O27,4)*(1+N27),4) -> 0 | Q27: =ROUND($I27*O27,4) -> 0 | R27: =ROUND($I27*P27,4) -> 0
A28: 11100501078 | B28: 16 | C28: MALTA HITROVZENA HIDROZAT 5 KG | G28: 13653 | H28: KOS | I28: 2 | K28: 1 | O28: =ROUND(ROUND(L28,4)*(1-M28),4) -> 0 | P28: =ROUND(ROUND(O28,4)*(1+N28),4) -> 0 | Q28: =ROUND($I28*O28,4) -> 0 | R28: =ROUND($I28*P28,4) -> 0
A29: 11100501008 | B29: 17 | C29: MASA FUGIRNA (VREČA 1KG) | G29: 3775 | H29: KOS | I29: 20 | K29: 1 | O29: =ROUND(ROUND(L29,4)*(1-M29),4) -> 0 | P29: =ROUND(ROUND(O29,4)*(1+N29),4) -> 0 | Q29: =ROUND($I29*O29,4) -> 0 | R29: =ROUND($I29*P29,4) -> 0
A30: 11100501079 | B30: 18 | C30: MASA IZRAVNALNA _ STENSKA | D30: JUBOLIN | G30: 4339 | H30: kg | I30: 50 | K30: 1 | O30: =ROUND(ROUND(L30,4)*(1-M30),4) -> 0 | P30: =ROUND(ROUND(O30,4)*(1+N30),4) -> 0 | Q30: =ROUND($I30*O30,4) -> 0 | R30: =ROUND($I30*P30,4) -> 0
A31: 11100501080 | B31: 19 | C31: MASA IZRAVNALNA _ TALNA | G31: 13178 | H31: kg | I31: 240 | K31: 1 | O31: =ROUND(ROUND(L31,4)*(1-M31),4) -> 0 | P31: =ROUND(ROUND(O31,4)*(1+N31),4) -> 0 | Q31: =ROUND($I31*O31,4) -> 0 | R31: =ROUND($I31*P31,4) -> 0
A32: 11100501081 | B32: 20 | C32: MASA TESNILNA AKRILNA 300 ml | D32: ACRYFLEX BEL | G32: 11940 | H32: KOS | I32: 4 | K32: 1 | O32: =ROUND(ROUND(L32,4)*(1-M32),4) -> 0 | P32: =ROUND(ROUND(O32,4)*(1+N32),4) -> 0 | Q32: =ROUND($I32*O32,4) -> 0 | R32: =ROUND($I32*P32,4) -> 0
A33: 11100501082 | B33: 21 | C33: MASA TESNILNA SILIKON. 300 ml | D33: CERESIT CS 25_ CEMENT GRAY | G33: 13496 | H33: KOS | I33: 4 | K33: 1 | O33: =ROUND(ROUND(L33,4)*(1-M33),4) -> 0 | P33: =ROUND(ROUND(O33,4)*(1+N33),4) -> 0 | Q33: =ROUND($I33*O33,4) -> 0 | R33: =ROUND($I33*P33,4) -> 0
A34: 11100501029 | B34: 22 | C34: MIVKA VREČA 20kg | G34: 3765 | H34: KG | I34: 120 | K34: 1 | O34: =ROUND(ROUND(L34,4)*(1-M34),4) -> 0 | P34: =ROUND(ROUND(O34,4)*(1+N34),4) -> 0 | Q34: =ROUND($I34*O34,4) -> 0 | R34: =ROUND($I34*P34,4) -> 0
A35: 11100501058 | B35: 23 | C35: PAPIR BRUSNI K150 | G35: 4337 | H35: m | I35: 30 | K35: 1 | O35: =ROUND(ROUND(L35,4)*(1-M35),4) -> 0 | P35: =ROUND(ROUND(O35,4)*(1+N35),4) -> 0 | Q35: =ROUND($I35*O35,4) -> 0 | R35: =ROUND($I35*P35,4) -> 0
A36: 11100501083 | B36: 24 | C36: PLATNO BRUSNO_ K 150 | G36: 13324 | H36: m | I36: 10 | K36: 1 | O36: =ROUND(ROUND(L36,4)*(1-M36),4) -> 0 | P36: =ROUND(ROUND(O36,4)*(1+N36),4) -> 0 | Q36: =ROUND($I36*O36,4) -> 0 | R36: =ROUND($I36*P36,4) -> 0
A37: 11100501095 | B37: 25 | C37: PLOŠČA ARMSTRONG BOARD | G37: 4595 | H37: m2 | I37: 60 | K37: 1 | O37: =ROUND(ROUND(L37,4)*(1-M37),4) -> 0 | P37: =ROUND(ROUND(O37,4)*(1+N37),4) -> 0 | Q37: =ROUND($I37*O37,4) -> 0 | R37: =ROUND($I37*P37,4) -> 0
A38: 11100501096 | B38: 26 | C38: PLOŠČA MAVČNA 2,5 | G38: 3762 | H38: M2 | I38: 40 | K38: 1 | O38: =ROUND(ROUND(L38,4)*(1-M38),4) -> 0 | P38: =ROUND(ROUND(O38,4)*(1+N38),4) -> 0 | Q38: =ROUND($I38*O38,4) -> 0 | R38: =ROUND($I38*P38,4) -> 0
A39: 11100501084 | B39: 27 | C39: PLOŠČA REZALNA 115x22x5,5 mm | D39: DIAMANTNA _keramika | G39: 13498 | H39: KOS | I39: 2 | K39: 1 | O39: =ROUND(ROUND(L39,4)*(1-M39),4) -> 0 | P39: =ROUND(ROUND(O39,4)*(1+N39),4) -> 0 | Q39: =ROUND($I39*O39,4) -> 0 | R39: =ROUND($I39*P39,4) -> 0
A40: 11100501085 | B40: 28 | C40: PLOŠČA REZALNA 125 x1 x22,23 mm | D40: X-LOCK | G40: 14524 | H40: KOS | I40: 60 | K40: 1 | O40: =ROUND(ROUND(L40,4)*(1-M40),4) -> 0 | P40: =ROUND(ROUND(O40,4)*(1+N40),4) -> 0 | Q40: =ROUND($I40*O40,4) -> 0 | R40: =ROUND($I40*P40,4) -> 0
A41: 11100501037 | B41: 29 | C41: PLOŠČA REZALNA ZA BETON 115 DIAMANTNA | D41: DIAMANTNA | G41: 11495 | H41: KOS | I41: 2 | K41: 1 | O41: =ROUND(ROUND(L41,4)*(1-M41),4) -> 0 | P41: =ROUND(ROUND(O41,4)*(1+N41),4) -> 0 | Q41: =ROUND($I41*O41,4) -> 0 | R41: =ROUND($I41*P41,4) -> 0
A42: 11100501040 | B42: 30 | C42: PLOŠČICE KERAMIČNE stenske 20X25cm | G42: 3759 | H42: M2 | I42: 40 | K42: 1 | O42: =ROUND(ROUND(L42,4)*(1-M42),4) -> 0 | P42: =ROUND(ROUND(O42,4)*(1+N42),4) -> 0 | Q42: =ROUND($I42*O42,4) -> 0 | R42: =ROUND($I42*P42,4) -> 0
A43: 11100501086 | B43: 31 | C43: PREDPREMAZ VEZNI 1 kg | D43: PRIMER G | G43: 13217 | H43: kg | I43: 4 | K43: 1 | O43: =ROUND(ROUND(L43,4)*(1-M43),4) -> 0 | P43: =ROUND(ROUND(O43,4)*(1+N43),4) -> 0 | Q43: =ROUND($I43*O43,4) -> 0 | R43: =ROUND($I43*P43,4) -> 0
A44: 11100501087 | B44: 32 | C44: PREDPREMAZ VEZNI 1 kg_ECO | D44: ECO PRIM. GRIP_ za KERAMIKO | G44: 13493 | H44: kg | I44: 4 | K44: 1 | O44: =ROUND(ROUND(L44,4)*(1-M44),4) -> 0 | P44: =ROUND(ROUND(O44,4)*(1+N44),4) -> 0 | Q44: =ROUND($I44*O44,4) -> 0 | R44: =ROUND($I44*P44,4) -> 0
A45: 11100501041 | B45: 33 | C45: POLIURETANSKA PENA 0,75l | G45: 3768 | H45: KOS | I45: 40 | K45: 1 | O45: =ROUND(ROUND(L45,4)*(1-M45),4) -> 0 | P45: =ROUND(ROUND(O45,4)*(1+N45),4) -> 0 | Q45: =ROUND($I45*O45,4) -> 0 | R45: =ROUND($I45*P45,4) -> 0
A46: 11100501049 | B46: 34 | C46: SVINČNIK ZIDARSKI | G46: 11502 | H46: KOS | I46: 4 | K46: 1 | O46: =ROUND(ROUND(L46,4)*(1-M46),4) -> 0 | P46: =ROUND(ROUND(O46,4)*(1+N46),4) -> 0 | Q46: =ROUND($I46*O46,4) -> 0 | R46: =ROUND($I46*P46,4) -> 0
...

Sheet Sklop III.
C4: Seznam razpisanega blaga za sklop:
B5: III. | C5: MIZARSKI MATERIAL
C7: =IF('2. Podatki o ponudniku'!C5<>"","Naziv ponudnika: " & '2. Podatki o ponudniku'!C5,"")
C8: =IF('2. Podatki o ponudniku'!C7<>"","Identifikacijska številka za DDV: " & '2. Podatki o ponudniku'!C7,"")
A11: * | B11: 1. | C11: podsklop: podsklop: MIZARSKI MATERIAL | H11: ODPRT | L11: podsklop: MIZARSKI MATERIAL
A12: EOB | B12: Zap. št. | C12: Naziv blaga | D12: Lastnost 1 | E12: Lastnost 2 | F12: Lastnost 3 | G12: Informativna šifra PIS | H12: EM | I12: Količina | J12: Št. vzorcev | K12: Var. | L12: Veljavna cena brez DDV | M12: Popust | N12: Stopnja DDV | O12: Cena brez DDV | P12: Cena z DDV | Q12: Vrednost brez DDV | R12: Vrednost z DDV | S12: Proizvajalec | T12: Ponudnikov naziv blaga | U12: EAN | V12: Kataloška številka | W12: Opomba
A13: 11100628006 | B13: 1 | C13: CEV POHIŠTVENA-OVALNA 15*30mm. | G13: 3990 | H13: M | I13: 30 | K13: 1 | O13: =ROUND(ROUND(L13,4)*(1-M13),4) -> 0 | P13: =ROUND(ROUND(O13,4)*(1+N13),4) -> 0 | Q13: =ROUND($I13*O13,4) -> 0 | R13: =ROUND($I13*P13,4) -> 0
A14: 11100610037 | B14: 2 | C14: CILINDER ZA POH.KLJUČAVNICO HAFELE | G14: 3855 | H14: KOS | I14: 400 | K14: 1 | O14: =ROUND(ROUND(L14,4)*(1-M14),4) -> 0 | P14: =ROUND(ROUND(O14,4)*(1+N14),4) -> 0 | Q14: =ROUND($I14*O14,4) -> 0 | R14: =ROUND($I14*P14,4) -> 0
A15: 11100652002 | B15: 3 | C15: ČEP ZA UŠESA - EAR CLASIC | G15: 4209 | H15: KOS | I15: 150 | K15: 1 | O15: =ROUND(ROUND(L15,4)*(1-M15),4) -> 0 | P15: =ROUND(ROUND(O15,4)*(1+N15),4) -> 0 | Q15: =ROUND($I15*O15,4) -> 0 | R15: =ROUND($I15*P15,4) -> 0
A16: 11100652089 | B16: 4 | C16: ČISTILO ZA ABS TRAK | G16: 10058 | H16: l | I16: 40 | K16: 1 | O16: =ROUND(ROUND(L16,4)*(1-M16),4) -> 0 | P16: =ROUND(ROUND(O16,4)*(1+N16),4) -> 0 | Q16: =ROUND($I16*O16,4) -> 0 | R16: =ROUND($I16*P16,4) -> 0
A17: 11100602002 | B17: 5 | C17: ČOPIČ 2 cm.-vodni lak | G17: 11507 | H17: KOS | I17: 16 | K17: 1 | O17: =ROUND(ROUND(L17,4)*(1-M17),4) -> 0 | P17: =ROUND(ROUND(O17,4)*(1+N17),4) -> 0 | Q17: =ROUND($I17*O17,4) -> 0 | R17: =ROUND($I17*P17,4) -> 0
A18: 11100607001 | B18: 6 | C18: DESKA SMREKA 30 MM - 1. KVALITETA | G18: 3809 | H18: DM3 | I18: 5000 | K18: 1 | O18: =ROUND(ROUND(L18,4)*(1-M18),4) -> 0 | P18: =ROUND(ROUND(O18,4)*(1+N18),4) -> 0 | Q18: =ROUND($I18*O18,4) -> 0 | R18: =ROUND($I18*P18,4) -> 0
A19: 11100607006 | B19: 7 | C19: DESKE PLOHI SMREKA 50 MM - 1. KVALITETA | G19: 3810 | H19: DM3 | I19: 5000 | K19: 1 | O19: =ROUND(ROUND(L19,4)*(1-M19),4) -> 0 | P19: =ROUND(ROUND(O19,4)*(1+N19),4) -> 0 | Q19: =ROUND($I19*O19,4) -> 0 | R19: =ROUND($I19*P19,4) -> 0
A20: 11100608003 | B20: 8 | C20: DRSNIKI POHIŠTVENI Z ŽEBLJEM fi 40 | G20: 4013 | H20: KOS | I20: 800 | K20: 1 | O20: =ROUND(ROUND(L20,4)*(1-M20),4) -> 0 | P20: =ROUND(ROUND(O20,4)*(1+N20),4) -> 0 | Q20: =ROUND($I20*O20,4) -> 0 | R20: =ROUND($I20*P20,4) -> 0
A21: 11100608007 | B21: 9 | C21: DRSNIK SAMOLEP.40x40 filc | G21: 4500 | H21: KOS | I21: 100 | K21: 1 | O21: =ROUND(ROUND(L21,4)*(1-M21),4) -> 0 | P21: =ROUND(ROUND(O21,4)*(1+N21),4) -> 0 | Q21: =ROUND($I21*O21,4) -> 0 | R21: =ROUND($I21*P21,4) -> 0
A22: 11100652006 | B22: 10 | C22: GUMB ALUM.FIXNI HOPPE | G22: 3917 | H22: KOS | I22: 10 | K22: 1 | O22: =ROUND(ROUND(L22,4)*(1-M22),4) -> 0 | P22: =ROUND(ROUND(O22,4)*(1+N22),4) -> 0 | Q22: =ROUND($I22*O22,4) -> 0 | R22: =ROUND($I22*P22,4) -> 0
A23: 11100652073 | B23: 11 | C23: GUMB GIBLJIVI-53/h-HOPPE | G23: 3915 | H23: KOS | I23: 4 | K23: 1 | O23: =ROUND(ROUND(L23,4)*(1-M23),4) -> 0 | P23: =ROUND(ROUND(O23,4)*(1+N23),4) -> 0 | Q23: =ROUND($I23*O23,4) -> 0 | R23: =ROUND($I23*P23,4) -> 0
A24: 11100652013 | B24: 12 | C24: KAPICA VIJAKOV SAMOLEPILNA fi 14 | G24: 4154 | H24: KOS | I24: 1000 | K24: 1 | O24: =ROUND(ROUND(L24,4)*(1-M24),4) -> 0 | P24: =ROUND(ROUND(O24,4)*(1+N24),4) -> 0 | Q24: =ROUND($I24*O24,4) -> 0 | R24: =ROUND($I24*P24,4) -> 0
... A27: 11100601007 | B27: 15 | C27: KIT SILIKONSKI - TERMOSIL N-6 BELI | G27: 12705 | H27: KOS | I27: 4 | K27: 1 | O27: =ROUND(ROUND(L27,4)*(1-M27),4) -> 0 | P27: =ROUND(ROUND(O27,4)*(1+N27),4) -> 0 | Q27: =ROUND($I27*O27,4) -> 0 | R27: =ROUND($I27*P27,4) -> 0
A28: 11100601029 | B28: 16 | C28: SILIKONSKI KIT NEUTR. BELI-PROF.--tekasil | D28: PROF - tekasil | G28: 12706 | H28: KOS | I28: 10 | K28: 1 | O28: =ROUND(ROUND(L28,4)*(1-M28),4) -> 0 | P28: =ROUND(ROUND(O28,4)*(1+N28),4) -> 0 | Q28: =ROUND($I28*O28,4) -> 0 | R28: =ROUND($I28*P28,4) -> 0
A29: 11100601028 | B29: 17 | C29: SILIKONSKI KIT NEUTR BREZB.-PROF.---tekasil | G29: 4171 | H29: KOS | I29: 24 | K29: 1 | O29: =ROUND(ROUND(L29,4)*(1-M29),4) -> 0 | P29: =ROUND(ROUND(O29,4)*(1+N29),4) -> 0 | Q29: =ROUND($I29*O29,4) -> 0 | R29: =ROUND($I29*P29,4) -> 0
A30: 11100601008 | B30: 18 | C30: KIT SILIKONSKI - TERMOSIL N-6 TRANSPARENT | D30: TRANSPARENT | G30: 4169 | H30: KOS | I30: 26 | K30: 1 | O30: =ROUND(ROUND(L30,4)*(1-M30),4) -> 0 | P30: =ROUND(ROUND(O30,4)*(1+N30),4) -> 0 | Q30: =ROUND($I30*O30,4) -> 0 | R30: =ROUND($I30*P30,4) -> 0
A31: 11100610060 | B31: 19 | C31: KLJUČ IMBUS-DOLGI | G31: 4218 | H31: KOS | I31: 2 | K31: 1 | O31: =ROUND(ROUND(L31,4)*(1-M31),4) -> 0 | P31: =ROUND(ROUND(O31,4)*(1+N31),4) -> 0 | Q31: =ROUND($I31*O31,4) -> 0 | R31: =ROUND($I31*P31,4) -> 0
A32: 11100610009 | B32: 20 | C32: KLJUČAVNICA OBEŠANKA MALA | G32: 3858 | H32: KOS | I32: 10 | K32: 1 | O32: =ROUND(ROUND(L32,4)*(1-M32),4) -> 0 | P32: =ROUND(ROUND(O32,4)*(1+N32),4) -> 0 | Q32: =ROUND($I32*O32,4) -> 0 | R32: =ROUND($I32*P32,4) -> 0
A33: 11100610041 | B33: 21 | C33: KLJUČAVNICA POH.CIL.HAEFELE-ČELNA | G33: 3841 | H33: KOS | I33: 30 | K33: 1 | O33: =ROUND(ROUND(L33,4)*(1-M33),4) -> 0 | P33: =ROUND(ROUND(O33,4)*(1+N33),4) -> 0 | Q33: =ROUND($I33*O33,4) -> 0 | R33: =ROUND($I33*P33,4) -> 0
A34: 11100610062 | B34: 22 | C34: KLJUČ. POH.CIL.HAFELE 15-40 | G34: 3842 | H34: KOS | I34: 50 | K34: 1 | O34: =ROUND(ROUND(L34,4)*(1-M34),4) -> 0 | P34: =ROUND(ROUND(O34,4)*(1+N34),4) -> 0 | Q34: =ROUND($I34*O34,4) -> 0 | R34: =ROUND($I34*P34,4) -> 0
A35: 11100610010 | B35: 23 | C35: KLJUČAVNICA OBEŠANKA VELIKA | G35: 3857 | H35: KOS | I35: 4 | K35: 1 | O35: =ROUND(ROUND(L35,4)*(1-M35),4) -> 0 | P35: =ROUND(ROUND(O35,4)*(1+N35),4) -> 0 | Q35: =ROUND($I35*O35,4) -> 0 | R35: =ROUND($I35*P35,4) -> 0
A36: 11100610002 | B36: 24 | C36: KLJUČAVNICA POH.STRANSKA-HAFELE 600 MM | G36: 3850 | H36: KOS | I36: 20 | K36: 1 | O36: =ROUND(ROUND(L36,4)*(1-M36),4) -> 0 | P36: =ROUND(ROUND(O36,4)*(1+N36),4) -> 0 | Q36: =ROUND($I36*O36,4) -> 0 | R36: =ROUND($I36*P36,4) -> 0
A37: 11100610006 | B37: 25 | C37: KLJUČAVNICA CILIND 421/65-92 D+L TITAN | G37: 3834 | H37: KOS | I37: 6 | K37: 1 | O37: =ROUND(ROUND(L37,4)*(1-M37),4) -> 0 | P37: =ROUND(ROUND(O37,4)*(1+N37),4) -> 0 | Q37: =ROUND($I37*O37,4) -> 0 | R37: =ROUND($I37*P37,4) -> 0
A38: 11100610004 | B38: 26 | C38: KLJUČAVNICA ZA VRATA - CIL.GLOB. Z VZVODOM | G38: 3833 | H38: KOS | I38: 20 | K38: 1 | O38: =ROUND(ROUND(L38,4)*(1-M38),4) -> 0 | P38: =ROUND(ROUND(O38,4)*(1+N38),4) -> 0 | Q38: =ROUND($I38*O38,4) -> 0 | R38: =ROUND($I38*P38,4) -> 0
A39: 11100610005 | B39: 27 | C39: KLJUČAVNICA CIL. Z VZV. PLITVA | G39: 3832 | H39: KOS | I39: 16 | K39: 1 | O39: =ROUND(ROUND(L39,4)*(1-M39),4) -> 0 | P39: =ROUND(ROUND(O39,4)*(1+N39),4) -> 0 | Q39: =ROUND($I39*O39,4) -> 0 | R39: =ROUND($I39*P39,4) -> 0
A40: 11100610007 | B40: 28 | C40: KLJUČAVNICA CILIND.805/8 blist.-čel 22mm. | G40: 3830 | H40: KOS | I40: 34 | K40: 1 | O40: =ROUND(ROUND(L40,4)*(1-M40),4) -> 0 | P40: =ROUND(ROUND(O40,4)*(1+N40),4) -> 0 | Q40: =ROUND($I40*O40,4) -> 0 | R40: =ROUND($I40*P40,4) -> 0
A41: 11100610008 | B41: 29 | C41: KLJUČAVNICA CILIND.807/8 blist.-čel.18 mm. | G41: 3831 | H41: KOS | I41: 20 | K41: 1 | O41: =ROUND(ROUND(L41,4)*(1-M41),4) -> 0 | P41: =ROUND(ROUND(O41,4)*(1+N41),4) -> 0 | Q41: =ROUND($I41*O41,4) -> 0 | R41: =ROUND($I41*P41,4) -> 0
A42: 11100610012 | B42: 30 | C42: KLJUČAVNICA POH.HAEFELE 25mm. | G42: 3847 | H42: KOS | I42: 70 | K42: 1 | O42: =ROUND(ROUND(L42,4)*(1-M42),4) -> 0 | P42: =ROUND(ROUND(O42,4)*(1+N42),4) -> 0 | Q42: =ROUND($I42*O42,4) -> 0 | R42: =ROUND($I42*P42,4) -> 0
A43: 11100610042 | B43: 31 | C43: KLJUČAVNICA POH.HAFELE TROZ.15 mm | D43: TROZAPORNA 15mm. | G43: 4600 | H43: KOS | I43: 10 | K43: 1 | O43: =ROUND(ROUND(L43,4)*(1-M43),4) -> 0 | P43: =ROUND(ROUND(O43,4)*(1+N43),4) -> 0 | Q43: =ROUND($I43*O43,4) -> 0 | R43: =ROUND($I43*P43,4) -> 0
A44: 11100610043 | B44: 32 | C44: KLJUČAVNICA POH.HAFELE TROZ.25 mm | D44: 25mm. | G44: 4551 | H44: KOS | I44: 30 | K44: 1 | O44: =ROUND(ROUND(L44,4)*(1-M44),4) -> 0 | P44: =ROUND(ROUND(O44,4)*(1+N44),4) -> 0 | Q44: =ROUND($I44*O44,4) -> 0 | R44: =ROUND($I44*P44,4) -> 0
A45: 11100610016 | B45: 33 | C45: KLJUČAVNICA POHIŠTVENA KO-10 | G45: 3843 | H45: KOS | I45: 20 | K45: 1 | O45: =ROUND(ROUND(L45,4)*(1-M45),4) -> 0 | P45: =ROUND(ROUND(O45,4)*(1+N45),4) -> 0 | Q45: =ROUND($I45*O45,4) -> 0 | R45: =ROUND($I45*P45,4) -> 0
A46: 11100610017 | B46: 34 | C46: KLJUČAVNICA POHIŠTVENA KO-12 | G46: 3851 | H46: KOS | I46: 70 | K46: 1 | O46: =ROUND(ROUND(L46,4)*(1-M46),4) -> 0 | P46: =ROUND(ROUND(O46,4)*(1+N46),4) -> 0 | Q46: =ROUND($I46*O46,4) -> 0 | R46: =ROUND($I46*P46,4) -> 0
A47: 11100610018 | B47: 35 | C47: KLJUČAVNICA POHIŠTVENA PKR-103 | G47: 3844 | H47: KOS | I47: 30 | K47: 1 | O47: =ROUND(ROUND(L47,4)*(1-M47),4) -> 0 | P47: =ROUND(ROUND(O47,4)*(1+N47),4) -> 0 | Q47: =ROUND($I47*O47,4) -> 0 | R47: =ROUND($I47*P47,4) -> 0
A48: 11100610022 | B48: 36 | C48: KLJUČAVNICA WC GLOBOKA – čelnica čel.18mm | G48: 3837 | H48: KOS | I48: 4 | K48: 1 | O48: =ROUND(ROUND(L48,4)*(1-M48),4) -> 0 | P48: =ROUND(ROUND(O48,4)*(1+N48),4) -> 0 | Q48: =ROUND($I48*O48,4) -> 0 | R48: =ROUND($I48*P48,4) -> 0
...

Sheet Sklop IV.
C4: Seznam razpisanega blaga za sklop:
B5: IV. | C5: PLESKARSKI MATERIAL
C7: =IF('2. Podatki o ponudniku'!C5<>"","Naziv ponudnika: " & '2. Podatki o ponudniku'!C5,"")
C8: =IF('2. Podatki o ponudniku'!C7<>"","Identifikacijska številka za DDV: " & '2. Podatki o ponudniku'!C7,"")
A11: * | B11: 1. | C11: podsklop: podsklop: PLESKARSKI MATERIAL | H11: ODPRT | L11: podsklop: PLESKARSKI MATERIAL
A12: EOB | B12: Zap. št. | C12: Naziv blaga | D12: Lastnost 1 | E12: Lastnost 2 | F12: Lastnost 3 | G12: Informativna šifra PIS | H12: EM | I12: Količina | J12: Št. vzorcev | K12: Var. | L12: Veljavna cena brez DDV | M12: Popust | N12: Stopnja DDV | O12: Cena brez DDV | P12: Cena z DDV | Q12: Vrednost brez DDV | R12: Vrednost z DDV | S12: Proizvajalec | T12: Ponudnikov naziv blaga | U12: EAN | V12: Kataloška številka | W12: Opomba
A13: 11100401047 | B13: 1 | C13: BARVA ANTIMIKROBNA BELA 20l | G13: 13258 | H13: KOS | I13: 20 | K13: 1 | O13: =ROUND(ROUND(L13,4)*(1-M13),4) -> 0 | P13: =ROUND(ROUND(O13,4)*(1+N13),4) -> 0 | Q13: =ROUND($I13*O13,4) -> 0 | R13: =ROUND($I13*P13,4) -> 0
A14: 11100401046 | B14: 2 | C14: BARVA ANTINIKOTINSKA BELA 20l | G14: 13257 | H14: KOS | I14: 20 | K14: 1 | O14: =ROUND(ROUND(L14,4)*(1-M14),4) -> 0 | P14: =ROUND(ROUND(O14,4)*(1+N14),4) -> 0 | Q14: =ROUND($I14*O14,4) -> 0 | R14: =ROUND($I14*P14,4) -> 0
A15: 11100401003 | B15: 3 | C15: BARVA POLMAT SPEKTRA LATEKS 10l | D15: RUMENA 10/1 | G15: 3772 | H15: KOS | I15: 40 | K15: 1 | O15: =ROUND(ROUND(L15,4)*(1-M15),4) -> 0 | P15: =ROUND(ROUND(O15,4)*(1+N15),4) -> 0 | Q15: =ROUND($I15*O15,4) -> 0 | R15: =ROUND($I15*P15,4) -> 0
A16: 11100401014 | B16: 4 | C16: BARVA JUPOL BELA 15l | G16: 3776 | H16: KOS | I16: 40 | K16: 1 | O16: =ROUND(ROUND(L16,4)*(1-M16),4) -> 0 | P16: =ROUND(ROUND(O16,4)*(1+N16),4) -> 0 | Q16: =ROUND($I16*O16,4) -> 0 | R16: =ROUND($I16*P16,4) -> 0
A17: 11100401048 | B17: 5 | C17: BARVA JUPOL GOLD 15 L | D17: BALI ADVANCED | G17: 12140 | H17: KOS | I17: 10 | K17: 1 | O17: =ROUND(ROUND(L17,4)*(1-M17),4) -> 0 | P17: =ROUND(ROUND(O17,4)*(1+N17),4) -> 0 | Q17: =ROUND($I17*O17,4) -> 0 | R17: =ROUND($I17*P17,4) -> 0
A18: 11100401049 | B18: 6 | C18: BARVA STENSKA IZOLIR. 400 ml | G18: 13308 | H18: KOS | I18: 20 | K18: 1 | O18: =ROUND(ROUND(L18,4)*(1-M18),4) -> 0 | P18: =ROUND(ROUND(O18,4)*(1+N18),4) -> 0 | Q18: =ROUND($I18*O18,4) -> 0 | R18: =ROUND($I18*P18,4) -> 0
A19: 11100401050 | B19: 7 | C19: BARVA ZA ŽELEZO na nitro osnovi_SVETLO SIVA | G19: 13993 | H19: L | I19: 20 | K19: 1 | O19: =ROUND(ROUND(L19,4)*(1-M19),4) -> 0 | P19: =ROUND(ROUND(O19,4)*(1+N19),4) -> 0 | Q19: =ROUND($I19*O19,4) -> 0 | R19: =ROUND($I19*P19,4) -> 0
A20: 11100401051 | B20: 8 | C20: ČOPIČ PLOŠČAT _ 22 mm | D20: PINSEL 22 | G20: 14486 | H20: KOS | I20: 2 | K20: 1 | O20: =ROUND(ROUND(L20,4)*(1-M20),4) -> 0 | P20: =ROUND(ROUND(O20,4)*(1+N20),4) -> 0 | Q20: =ROUND($I20*O20,4) -> 0 | R20: =ROUND($I20*P20,4) -> 0
A21: 11100401009 | B21: 9 | C21: ČOPIČ PLOŠČATI 4cm | G21: 12766 | H21: KOS | I21: 40 | K21: 1 | O21: =ROUND(ROUND(L21,4)*(1-M21),4) -> 0 | P21: =ROUND(ROUND(O21,4)*(1+N21),4) -> 0 | Q21: =ROUND($I21*O21,4) -> 0 | R21: =ROUND($I21*P21,4) -> 0
A22: 11100401010 | B22: 10 | C22: ČOPIČ PLOŠČATI 6cm | G22: 4206 | H22: KOS | I22: 80 | K22: 1 | O22: =ROUND(ROUND(L22,4)*(1-M22),4) -> 0 | P22: =ROUND(ROUND(O22,4)*(1+N22),4) -> 0 | Q22: =ROUND($I22*O22,4) -> 0 | R22: =ROUND($I22*P22,4) -> 0
A23: 11100401052 | B23: 11 | C23: DRŽALO Al ZM-V-4 220-400 cm | D23: s PVC ROČAJEM_ WOLF GARTEN | G23: 13261 | H23: KOS | I23: 2 | K23: 1 | O23: =ROUND(ROUND(L23,4)*(1-M23),4) -> 0 | P23: =ROUND(ROUND(O23,4)*(1+N23),4) -> 0 | Q23: =ROUND($I23*O23,4) -> 0 | R23: =ROUND($I23*P23,4) -> 0
A24: 11100401013 | B24: 12 | C24: KIT JUBOLIN (1KG) | G24: 8428 | H24: kg | I24: 200 | K24: 1 | O24: =ROUND(ROUND(L24,4)*(1-M24),4) -> 0 | P24: =ROUND(ROUND(O24,4)*(1+N24),4) -> 0 | Q24: =ROUND($I24*O24,4) -> 0 | R24: =ROUND($I24*P24,4) -> 0
A25: 11100401045 | B25: 13 | C25: KIT ZA AVTOMOBILE | D25: avtokit poly+trdilec f4 | G25: 13210 | H25: kg | I25: 2 | K25: 1 | O25: =ROUND(ROUND(L25,4)*(1-M25),4) -> 0 | P25: =ROUND(ROUND(O25,4)*(1+N25),4) -> 0 | Q25: =ROUND($I25*O25,4) -> 0 | R25: =ROUND($I25*P25,4) -> 0
A26: 11100401053 | B26: 14 | C26: LOPATICA PLESKARSKA 50 mm | G26: 12841 | H26: KOS | I26: 30 | K26: 1 | O26: =ROUND(ROUND(L26,4)*(1-M26),4) -> 0 | P26: =ROUND(ROUND(O26,4)*(1+N26),4) -> 0 | Q26: =ROUND($I26*O26,4) -> 0 | R26: =ROUND($I26*P26,4) -> 0
A27: 11100401054 | B27: 15 | C27: LOPATICA PLESKARSKA 70 mm | G27: 12840 | H27: KOS | I27: 30 | K27: 1 | O27: =ROUND(ROUND(L27,4)*(1-M27),4) -> 0 | P27: =ROUND(ROUND(O27,4)*(1+N27),4) -> 0 | Q27: =ROUND($I27*O27,4) -> 0 | R27: =ROUND($I27*P27,4) -> 0
A28: 11100401020 | B28: 16 | C28: PALICA TELESKOPSKA 2m | G28: 12771 | H28: KOS | I28: 2 | K28: 1 | O28: =ROUND(ROUND(L28,4)*(1-M28),4) -> 0 | P28: =ROUND(ROUND(O28,4)*(1+N28),4) -> 0 | Q28: =ROUND($I28*O28,4) -> 0 | R28: =ROUND($I28*P28,4) -> 0
A29: 11100401055 | B29: 17 | C29: PREMAZ ANTIKOR. FEROSAN (1L) | G29: 3666 | H29: KOS | I29: 6 | K29: 1 | O29: =ROUND(ROUND(L29,4)*(1-M29),4) -> 0 | P29: =ROUND(ROUND(O29,4)*(1+N29),4) -> 0 | Q29: =ROUND($I29*O29,4) -> 0 | R29: =ROUND($I29*P29,4) -> 0
A30: 11100401061 | B30: 18 | C30: PREMAZ BELTOP (0,75l) | G30: 8433 | H30: KOS | I30: 10 | K30: 1 | O30: =ROUND(ROUND(L30,4)*(1-M30),4) -> 0 | P30: =ROUND(ROUND(O30,4)*(1+N30),4) -> 0 | Q30: =ROUND($I30*O30,4) -> 0 | R30: =ROUND($I30*P30,4) -> 0
A31: 11100401005 | B31: 19 | C31: PREMAZ BELTOP BORI lak lazura (0,75L) | G31: 4168 | H31: KOS | I31: 2 | K31: 1 | O31: =ROUND(ROUND(L31,4)*(1-M31),4) -> 0 | P31: =ROUND(ROUND(O31,4)*(1+N31),4) -> 0 | Q31: =ROUND($I31*O31,4) -> 0 | R31: =ROUND($I31*P31,4) -> 0
A32: 11100401056 | B32: 20 | C32: PREMAZ POKRIVNI AGROHEL ES TEM. SIVI _1 L | G32: 11284 | H32: KOS | I32: 20 | K32: 1 | O32: =ROUND(ROUND(L32,4)*(1-M32),4) -> 0 | P32: =ROUND(ROUND(O32,4)*(1+N32),4) -> 0 | Q32: =ROUND($I32*O32,4) -> 0 | R32: =ROUND($I32*P32,4) -> 0
A33: 11100401057 | B33: 21 | C33: PREMAZ POKRIVNI RAL 2010 ORANŽNA - 0.75l | D33: ZA KOVINO IN LES EMAJL TESSAROL | G33: 14627 | H33: KOS | I33: 2 | K33: 1 | O33: =ROUND(ROUND(L33,4)*(1-M33),4) -> 0 | P33: =ROUND(ROUND(O33,4)*(1+N33),4) -> 0 | Q33: =ROUND($I33*O33,4) -> 0 | R33: =ROUND($I33*P33,4) -> 0
A34: 11100401058 | B34: 22 | C34: PREMAZ POKRIVNI REZISTOL EMAJL AV 1-A 10 L | D34: RAL 7016 | G34: 11283 | H34: KOS | I34: 4 | K34: 1 | O34: =ROUND(ROUND(L34,4)*(1-M34),4) -> 0 | P34: =ROUND(ROUND(O34,4)*(1+N34),4) -> 0 | Q34: =ROUND($I34*O34,4) -> 0 | R34: =ROUND($I34*P34,4) -> 0
A35: 11100401059 | B35: 23 | C35: PREMAZ TALNI EPOKSIDNI 114 SIV | D35: HERPELIN 114 RAL 7040 | G35: 13228 | H35: KOS | I35: 2 | K35: 1 | O35: =ROUND(ROUND(L35,4)*(1-M35),4) -> 0 | P35: =ROUND(ROUND(O35,4)*(1+N35),4) -> 0 | Q35: =ROUND($I35*O35,4) -> 0 | R35: =ROUND($I35*P35,4) -> 0
A36: 11100401023 | B36: 24 | C36: RAZREDČILO NITRO (1L) | G36: 4166 | H36: L | I36: 50 | K36: 1 | O36: =ROUND(ROUND(L36,4)*(1-M36),4) -> 0 | P36: =ROUND(ROUND(O36,4)*(1+N36),4) -> 0 | Q36: =ROUND($I36*O36,4) -> 0 | R36: =ROUND($I36*P36,4) -> 0
A37: 11100401024 | B37: 25 | C37: RAZREDČILO SINTETIČNO TESAROL (1L) | G37: 3771 | H37: L | I37: 8 | K37: 1 | O37: =ROUND(ROUND(L37,4)*(1-M37),4) -> 0 | P37: =ROUND(ROUND(O37,4)*(1+N37),4) -> 0 | Q37: =ROUND($I37*O37,4) -> 0 | R37: =ROUND($I37*P37,4) -> 0
A38: 11100401034 | B38: 26 | C38: TRAK ZA ZAŠČITO 5cm | G38: 3779 | H38: KOS | I38: 200 | K38: 1 | O38: =ROUND(ROUND(L38,4)*(1-M38),4) -> 0 | P38: =ROUND(ROUND(O38,4)*(1+N38),4) -> 0 | Q38: =ROUND($I38*O38,4) -> 0 | R38: =ROUND($I38*P38,4) -> 0
A39: 11100401033 | B39: 27 | C39: TRAK ZA ZAŠČITO 3cm | G39: 12775 | H39: KOS | I39: 50 | K39: 1 | O39: =ROUND(ROUND(L39,4)*(1-M39),4) -> 0 | P39: =ROUND(ROUND(O39,4)*(1+N39),4) -> 0 | Q39: =ROUND($I39*O39,4) -> 0 | R39: =ROUND($I39*P39,4) -> 0
A40: 11100401038 | B40: 28 | C40: VALJ 10 SOLO | G40: 8574 | H40: KOS | I40: 20 | K40: 1 | O40: =ROUND(ROUND(L40,4)*(1-M40),4) -> 0 | P40: =ROUND(ROUND(O40,4)*(1+N40),4) -> 0 | Q40: =ROUND($I40*O40,4) -> 0 | R40: =ROUND($I40*P40,4) -> 0
A41: 11100401041 | B41: 29 | C41: VALJ KOMPLET POLYAMID MIDI | G41: 9302 | H41: KOS | I41: 20 | K41: 1 | O41: =ROUND(ROUND(L41,4)*(1-M41),4) -> 0 | P41: =ROUND(ROUND(O41,4)*(1+N41),4) -> 0 | Q41: =ROUND($I41*O41,4) -> 0 | R41: =ROUND($I41*P41,4) -> 0
A42: 11100401042 | B42: 30 | C42: VALJ KOMPLETNI POLAYMID | G42: 9160 | H42: KOS | I42: 2 | K42: 1 | O42: =ROUND(ROUND(L42,4)*(1-M42),4) -> 0 | P42: =ROUND(ROUND(O42,4)*(1+N42),4) -> 0 | Q42: =ROUND($I42*O42,4) -> 0 | R42: =ROUND($I42*P42,4) -> 0
A43: 11100401043 | B43: 31 | C43: VALJ PENA ZAOBLJEN | G43: 9414 | H43: KOS | I43: 12 | K43: 1 | O43: =ROUND(ROUND(L43,4)*(1-M43),4) -> 0 | P43: =ROUND(ROUND(O43,4)*(1+N43),4) -> 0 | Q43: =ROUND($I43*O43,4) -> 0 | R43: =ROUND($I43*P43,4) -> 0
A44: 11100401035 | B44: 32 | C44: VALJ PVC MALI Z ROČKO | G44: 8689 | H44: KOS | I44: 10 | K44: 1 | O44: =ROUND(ROUND(L44,4)*(1-M44),4) -> 0 | P44: =ROUND(ROUND(O44,4)*(1+N44),4) -> 0 | Q44: =ROUND($I44*O44,4) -> 0 | R44: =ROUND($I44*P44,4) -> 0
A45: 11100401060 | B45: 33 | C45: VALJČEK FI 12 x 22 mm | G45: 13777 | H45: KOS | I45: 30 | K45: 1 | O45: =ROUND(ROUND(L45,4)*(1-M45),4) -> 0 | P45: =ROUND(ROUND(O45,4)*(1+N45),4) -> 0 | Q45: =ROUND($I45*O45,4) -> 0 | R45: =ROUND($I45*P45,4) -> 0
A46: 11100401040 | B46: 34 | C46: VALJČEK GOBA MALI | G46: 8735 | H46: KOS | I46: 60 | K46: 1 | O46: =ROUND(ROUND(L46,4)*(1-M46),4) -> 0 | P46: =ROUND(ROUND(O46,4)*(1+N46),4) -> 0 | Q46: =ROUND($I46*O46,4) -> 0 | R46: =ROUND($I46*P46,4) -> 0
...

Sheet Sklop V.
C4: Seznam razpisanega blaga za sklop:
B5: V. | C5: VODOINŠTALATERSKI MATERIAL
C7: =IF('2. Podatki o ponudniku'!C5<>"","Naziv ponudnika: " & '2. Podatki o ponudniku'!C5,"")
C8: =IF('2. Podatki o ponudniku'!C7<>"","Identifikacijska številka za DDV: " & '2. Podatki o ponudniku'!C7,"")
A11: * | B11: 1. | C11: podsklop: podsklop: VODOINŠTALATERSKI MATERIAL | H11: ODPRT | L11: podsklop: VODOINŠTALATERSKI MATERIAL
A12: EOB | B12: Zap. št. | C12: Naziv blaga | D12: Lastnost 1 | E12: Lastnost 2 | F12: Lastnost 3 | G12: Informativna šifra PIS | H12: EM | I12: Količina | J12: Št. vzorcev | K12: Var. | L12: Veljavna cena brez DDV | M12: Popust | N12: Stopnja DDV | O12: Cena brez DDV | P12: Cena z DDV | Q12: Vrednost brez DDV | R12: Vrednost z DDV | S12: Proizvajalec | T12: Ponudnikov naziv blaga | U12: EAN | V12: Kataloška številka | W12: Opomba
A13: 11100102002 | B13: 1 | C13: CEV ALUPLAST 16 IZOLIRANA V KOLUTU UNIPIPE | G13: 12778 | H13: m | I13: 240 | K13: 1 | O13: =ROUND(ROUND(L13,4)*(1-M13),4) -> 0 | P13: =ROUND(ROUND(O13,4)*(1+N13),4) -> 0 | Q13: =ROUND($I13*O13,4) -> 0 | R13: =ROUND($I13*P13,4) -> 0
A14: 11100102003 | B14: 2 | C14: CEV ALUPLAST 20 IZOLIRANA V KOLUTU UNIPIPE | G14: 12779 | H14: m | I14: 190 | K14: 1 | O14: =ROUND(ROUND(L14,4)*(1-M14),4) -> 0 | P14: =ROUND(ROUND(O14,4)*(1+N14),4) -> 0 | Q14: =ROUND($I14*O14,4) -> 0 | R14: =ROUND($I14*P14,4) -> 0
A15: 11100102004 | B15: 3 | C15: CEV ALUPLAST 25 IZOLIRANA V KOLUTU UNIPIPE | G15: 12780 | H15: m | I15: 100 | K15: 1 | O15: =ROUND(ROUND(L15,4)*(1-M15),4) -> 0 | P15: =ROUND(ROUND(O15,4)*(1+N15),4) -> 0 | Q15: =ROUND($I15*O15,4) -> 0 | R15: =ROUND($I15*P15,4) -> 0
A16: 11100102016 | B16: 4 | C16: CEV ČRNA 25x25 | G16: 3541 | H16: KG | I16: 500 | K16: 1 | O16: =ROUND(ROUND(L16,4)*(1-M16),4) -> 0 | P16: =ROUND(ROUND(O16,4)*(1+N16),4) -> 0 | Q16: =ROUND($I16*O16,4) -> 0 | R16: =ROUND($I16*P16,4) -> 0
A17: 11100102017 | B17: 5 | C17: CEV ČRNA 3/4" | G17: 3537 | H17: KG | I17: 20 | K17: 1 | O17: =ROUND(ROUND(L17,4)*(1-M17),4) -> 0 | P17: =ROUND(ROUND(O17,4)*(1+N17),4) -> 0 | Q17: =ROUND($I17*O17,4) -> 0 | R17: =ROUND($I17*P17,4) -> 0
A18: 11100102021 | B18: 6 | C18: CEV ČRNA 40x40 | G18: 4232 | H18: kg | I18: 20 | K18: 1 | O18: =ROUND(ROUND(L18,4)*(1-M18),4) -> 0 | P18: =ROUND(ROUND(O18,4)*(1+N18),4) -> 0 | Q18: =ROUND($I18*O18,4) -> 0 | R18: =ROUND($I18*P18,4) -> 0
A19: 11100102022 | B19: 7 | C19: CEV ČRNA 40x60 | G19: 3543 | H19: KG | I19: 60 | K19: 1 | O19: =ROUND(ROUND(L19,4)*(1-M19),4) -> 0 | P19: =ROUND(ROUND(O19,4)*(1+N19),4) -> 0 | Q19: =ROUND($I19*O19,4) -> 0 | R19: =ROUND($I19*P19,4) -> 0
A20: 11100102100 | B20: 8 | C20: CEV ČRNA OKROGLA FI 60 | G20: 14536 | H20: kg | I20: 80 | K20: 1 | O20: =ROUND(ROUND(L20,4)*(1-M20),4) -> 0 | P20: =ROUND(ROUND(O20,4)*(1+N20),4) -> 0 | Q20: =ROUND($I20*O20,4) -> 0 | R20: =ROUND($I20*P20,4) -> 0
A21: 11100102101 | B21: 9 | C21: CEV INŠTALACIJSKA PN23 mm | D21: MAP-CEV-PN23 | G21: 12119 | H21: m | I21: 10 | K21: 1 | O21: =ROUND(ROUND(L21,4)*(1-M21),4) -> 0 | P21: =ROUND(ROUND(O21,4)*(1+N21),4) -> 0 | Q21: =ROUND($I21*O21,4) -> 0 | R21: =ROUND($I21*P21,4) -> 0
A22: 11100102102 | B22: 10 | C22: CEV OKROGLA ČRNA 6/4" | D22: 48.30x3.00x6000 | G22: 13959 | H22: KOS | I22: 2 | K22: 1 | O22: =ROUND(ROUND(L22,4)*(1-M22),4) -> 0 | P22: =ROUND(ROUND(O22,4)*(1+N22),4) -> 0 | Q22: =ROUND($I22*O22,4) -> 0 | R22: =ROUND($I22*P22,4) -> 0
A23: 11100102032 | B23: 11 | C23: CEV OREBRENA RF DN 16 3/4" | G23: 3556 | H23: M | I23: 20 | K23: 1 | O23: =ROUND(ROUND(L23,4)*(1-M23),4) -> 0 | P23: =ROUND(ROUND(O23,4)*(1+N23),4) -> 0 | Q23: =ROUND($I23*O23,4) -> 0 | R23: =ROUND($I23*P23,4) -> 0
A24: 11100102035 | B24: 12 | C24: CEV POCINKANA 1" | G24: 3550 | H24: KG | I24: 6 | K24: 1 | O24: =ROUND(ROUND(L24,4)*(1-M24),4) -> 0 | P24: =ROUND(ROUND(O24,4)*(1+N24),4) -> 0 | Q24: =ROUND($I24*O24,4) -> 0 | R24: =ROUND($I24*P24,4) -> 0
A25: 11100102105 | B25: 13 | C25: CEV PRIKLJUČNA L=450 mm | G25: 13686 | H25: KOS | I25: 2 | K25: 1 | O25: =ROUND(ROUND(L25,4)*(1-M25),4) -> 0 | P25: =ROUND(ROUND(O25,4)*(1+N25),4) -> 0 | Q25: =ROUND($I25*O25,4) -> 0 | R25: =ROUND($I25*P25,4) -> 0
A26: 11100102103 | B26: 14 | C26: CEV PRIKLJUČNA L=600 mm | G26: 13683 | H26: KOS | I26: 2 | K26: 1 | O26: =ROUND(ROUND(L26,4)*(1-M26),4) -> 0 | P26: =ROUND(ROUND(O26,4)*(1+N26),4) -> 0 | Q26: =ROUND($I26*O26,4) -> 0 | R26: =ROUND($I26*P26,4) -> 0
A27: 11100102104 | B27: 15 | C27: CEV PRIKLJUČNA M10-3/8" 450mm_DOLGI VRAT | D27: dolgi vrat | G27: 13693 | H27: KOS | I27: 2 | K27: 1 | O27: =ROUND(ROUND(L27,4)*(1-M27),4) -> 0 | P27: =ROUND(ROUND(O27,4)*(1+N27),4) -> 0 | Q27: =ROUND($I27*O27,4) -> 0 | R27: =ROUND($I27*P27,4) -> 0
A28: 11100102106 | B28: 16 | C28: CEV PRIKLJUČNA WC F1 110 | D28: GIBLJIVA CEV Z MANŠETO | G28: 12103 | H28: KOS | I28: 6 | K28: 1 | O28: =ROUND(ROUND(L28,4)*(1-M28),4) -> 0 | P28: =ROUND(ROUND(O28,4)*(1+N28),4) -> 0 | Q28: =ROUND($I28*O28,4) -> 0 | R28: =ROUND($I28*P28,4) -> 0
A29: 11100102041 | B29: 17 | C29: CEV PVC 110x1000 | G29: 3561 | H29: KOS | I29: 20 | K29: 1 | O29: =ROUND(ROUND(L29,4)*(1-M29),4) -> 0 | P29: =ROUND(ROUND(O29,4)*(1+N29),4) -> 0 | Q29: =ROUND($I29*O29,4) -> 0 | R29: =ROUND($I29*P29,4) -> 0
A30: 11100102042 | B30: 18 | C30: CEV PVC 110x2000 | G30: 3562 | H30: KOS | I30: 10 | K30: 1 | O30: =ROUND(ROUND(L30,4)*(1-M30),4) -> 0 | P30: =ROUND(ROUND(O30,4)*(1+N30),4) -> 0 | Q30: =ROUND($I30*O30,4) -> 0 | R30: =ROUND($I30*P30,4) -> 0
A31: 11100102043 | B31: 19 | C31: CEV PVC 110x250 | G31: 12790 | H31: KOS | I31: 20 | K31: 1 | O31: =ROUND(ROUND(L31,4)*(1-M31),4) -> 0 | P31: =ROUND(ROUND(O31,4)*(1+N31),4) -> 0 | Q31: =ROUND($I31*O31,4) -> 0 | R31: =ROUND($I31*P31,4) -> 0
A32: 11100102045 | B32: 20 | C32: CEV PVC 110x500 | G32: 3563 | H32: KOS | I32: 20 | K32: 1 | O32: =ROUND(ROUND(L32,4)*(1-M32),4) -> 0 | P32: =ROUND(ROUND(O32,4)*(1+N32),4) -> 0 | Q32: =ROUND($I32*O32,4) -> 0 | R32: =ROUND($I32*P32,4) -> 0
A33: 11100102048 | B33: 21 | C33: CEV PVC 32/500 | G33: 3518 | H33: KOS | I33: 10 | K33: 1 | O33: =ROUND(ROUND(L33,4)*(1-M33),4) -> 0 | P33: =ROUND(ROUND(O33,4)*(1+N33),4) -> 0 | Q33: =ROUND($I33*O33,4) -> 0 | R33: =ROUND($I33*P33,4) -> 0
A34: 11100102051 | B34: 22 | C34: CEV PVC 50*250 | G34: 3568 | H34: KOS | I34: 40 | K34: 1 | O34: =ROUND(ROUND(L34,4)*(1-M34),4) -> 0 | P34: =ROUND(ROUND(O34,4)*(1+N34),4) -> 0 | Q34: =ROUND($I34*O34,4) -> 0 | R34: =ROUND($I34*P34,4) -> 0
A35: 11100102052 | B35: 23 | C35: CEV PVC 50*500 | G35: 3567 | H35: KOS | I35: 40 | K35: 1 | O35: =ROUND(ROUND(L35,4)*(1-M35),4) -> 0 | P35: =ROUND(ROUND(O35,4)*(1+N35),4) -> 0 | Q35: =ROUND($I35*O35,4) -> 0 | R35: =ROUND($I35*P35,4) -> 0
A36: 11100102053 | B36: 24 | C36: CEV PVC 50x1000 | G36: 3558 | H36: KOS | I36: 60 | K36: 1 | O36: =ROUND(ROUND(L36,4)*(1-M36),4) -> 0 | P36: =ROUND(ROUND(O36,4)*(1+N36),4) -> 0 | Q36: =ROUND($I36*O36,4) -> 0 | R36: =ROUND($I36*P36,4) -> 0
A37: 11100102054 | B37: 25 | C37: CEV PVC 50x1500 | G37: 3559 | H37: KOS | I37: 10 | K37: 1 | O37: =ROUND(ROUND(L37,4)*(1-M37),4) -> 0 | P37: =ROUND(ROUND(O37,4)*(1+N37),4) -> 0 | Q37: =ROUND($I37*O37,4) -> 0 | R37: =ROUND($I37*P37,4) -> 0
A38: 11100102107 | B38: 26 | C38: CEV PVC PROZORNA 19x24 _ NON TOXIC | G38: 13549 | H38: m | I38: 20 | K38: 1 | O38: =ROUND(ROUND(L38,4)*(1-M38),4) -> 0 | P38: =ROUND(ROUND(O38,4)*(1+N38),4) -> 0 | Q38: =ROUND($I38*O38,4) -> 0 | R38: =ROUND($I38*P38,4) -> 0
A39: 11100102108 | B39: 27 | C39: CEV PVC ZA ZRAK FI 6 mm | G39: 13537 | H39: m | I39: 20 | K39: 1 | O39: =ROUND(ROUND(L39,4)*(1-M39),4) -> 0 | P39: =ROUND(ROUND(O39,4)*(1+N39),4) -> 0 | Q39: =ROUND($I39*O39,4) -> 0 | R39: =ROUND($I39*P39,4) -> 0
A40: 11100102109 | B40: 28 | C40: CEV PVC ZA ZRAK FI 8 mm | G40: 13538 | H40: m | I40: 20 | K40: 1 | O40: =ROUND(ROUND(L40,4)*(1-M40),4) -> 0 | P40: =ROUND(ROUND(O40,4)*(1+N40),4) -> 0 | Q40: =ROUND($I40*O40,4) -> 0 | R40: =ROUND($I40*P40,4) -> 0
... A49: 11100102099 | B49: 37 | C49: CEV VEZNA 3/8" 250MM | G49: 8675 | H49: KOS | I49: 4 | K49: 1 | O49: =ROUND(ROUND(L49,4)*(1-M49),4) -> 0 | P49: =ROUND(ROUND(O49,4)*(1+N49),4) -> 0 | Q49: =ROUND($I49*O49,4) -> 0 | R49: =ROUND($I49*P49,4) -> 0
A50: 11100102115 | B50: 38 | C50: CEV VODNA OBLIKA-U z navojnim priklj. 1/2" | D50: WSRUH 1212 ST (LA3DC08) | G50: 13986 | H50: KOS | I50: 4 | K50: 1 | O50: =ROUND(ROUND(L50,4)*(1-M50),4) -> 0 | P50: =ROUND(ROUND(O50,4)*(1+N50),4) -> 0 | Q50: =ROUND($I50*O50,4) -> 0 | R50: =ROUND($I50*P50,4) -> 0
A51: 11100102116 | B51: 39 | C51: CEV ZA BOJLER FI 10 X 1000 | G51: 13700 | H51: KOS | I51: 2 | K51: 1 | O51: =ROUND(ROUND(L51,4)*(1-M51),4) -> 0 | P51: =ROUND(ROUND(O51,4)*(1+N51),4) -> 0 | Q51: =ROUND($I51*O51,4) -> 0 | R51: =ROUND($I51*P51,4) -> 0
A52: 11100102117 | B52: 40 | C52: CEV ZA IZPUST UMAZANE VODE | D52: IVEC RA431B/E/IBC | G52: 13119 | H52: KOS | I52: 2 | K52: 1 | O52: =ROUND(ROUND(L52,4)*(1-M52),4) -> 0 | P52: =ROUND(ROUND(O52,4)*(1+N52),4) -> 0 | Q52: =ROUND($I52*O52,4) -> 0 | R52: =ROUND($I52*P52,4) -> 0
A53: 11100102118 | B53: 41 | C53: CEV ZA NIZKO MONTAŽO SPLAKOVALNIKA | D53: LIV 195774 | G53: 13961 | H53: KOS | I53: 4 | K53: 1 | O53: =ROUND(ROUND(L53,4)*(1-M53),4) -> 0 | P53: =ROUND(ROUND(O53,4)*(1+N53),4) -> 0 | Q53: =ROUND($I53*O53,4) -> 0 | R53: =ROUND($I53*P53,4) -> 0
A54: 11100102119 | B54: 42 | C54: CEV ZA PNEVMAT 4 x 2 mm CIPNEU | G54: 12431 | H54: m | I54: 20 | K54: 1 | O54: =ROUND(ROUND(L54,4)*(1-M54),4) -> 0 | P54: =ROUND(ROUND(O54,4)*(1+N54),4) -> 0 | Q54: =ROUND($I54*O54,4) -> 0 | R54: =ROUND($I54*P54,4) -> 0
...
