Workbook

Sheet REKAPITULACIJA
A2: 5.4 | C2: POPIS MATERIALA IN DEL
C4: OPOMBA: Vse naprave in elementi v popisu materiala so navedene primeroma. Vse naprave in elemente se mora dobaviti z ustreznimi certifikati, atesti, garancijami in navodili. Pri vseh napravah je potrebno upoštevati stroške zagona, meritve in nastavitve obratovalnih količin. Pri vseh elementih je potrebno upoštevati spojni in tesnilni material. Vsa dela na objektu se morajo izvajati v skladu z načrti ter popisi materiala in del faze PZI. V ponudbi za izvedbo je zajeto tudi posnemanje dejanskega stanja izvedenih instalacij, ki jih mora sproti vnašati v en izvod PZI dokumentacije izvajalec del in jih dostaviti investitorju ta pa jih dostavi projektantom za izdelavo PID. V ponudbi je potrebno zajeti še sledeča dela: Tlačni preizkusi, funkcijska navodila, izpiranje cevododov, čiščenje cevovodov, pripravljalna dela, zaključna dela in zarisovanje tras.
C6: REKAPITULACIJA
C8: STROJNE INSTALACIJE
B10: 1 | C10: =RIGHT('1.VOKA'!B4,23) -> VODOVOD IN KANALIZACIJA | D10: ='1.VOKA'!G11 -> 0 | E10: EUR
B11: 2 | C11: =RIGHT('2.MEDICINSKI PLINI'!B10,16) -> MEDICINSKI PLINI | D11: ='2.MEDICINSKI PLINI'!H161 -> 0 | E11: EUR
B12: 3 | C12: OGREVANJE IN HLAJENJE | D12: ='3.OGRHL'!F593 -> 0 | E12: EUR
B13: 4 | C13: PREZRAČEVANJE IN KLIMATIZACIJA | D13: ='4.PREZRAČEVANJE'!F255 -> 0 | E13: EUR
B14: 5 | C14: Nepredvidena dela: 5% vsote vseh zgornjih točk (obračun po dejansko izvedenih delih in materialu, potrdi nadzornik) | D14: =SUM(D10:D13)*(0.05) -> 0 | E14: EUR
C16: VSE SKUPAJ | D16: =SUM(D10:D14) -> 0 | E16: EUR

Sheet 1.VOKA
B1: OPIS POSTAVKE | C1: ENOTA | D1: KOLIČINA | E1: DOBAVA/ENOTA | F1: MONTAŽA /ENOTA | G1: SKUPAJ / ENOTA | H1: SKUPNA CENA [EUR]
B2: STROJNE INSTALACIJE
B4: 5.4.1 VODOVOD IN KANALIZACIJA
B6: =B17 -> 5.4.1.2 Hidrantno omrežje in gasilniki | G6: =H51 -> 0
B7: =B56 -> 5.4.1.6 NOTRANJA VODOVODNA INŠTALACIJA - razvodno omrežje | G7: =H170 -> 0
B8: =B173 -> 5.4.1.7 SANITARNA OPREMA | G8: =H213 -> 0
B9: =B217 -> 5.4.1.8 FEKALNA KANALIZACIJA | G9: =H270 -> 0
B10: =B273 -> 4.5.1.9 SKUPNE POZICIJE | G10: =H291 -> 0
B11: Skupaj | G11: =SUM(G6:G10) -> 0
B13: OPOMBA: Vse naprave in elementi v popisu materiala so navedene primeroma. Vse naprave in elemente se mora dobaviti z ustreznimi certifikati, atesti, garancijami in navodili. Pri vseh napravah je potrebno upoštevati stroške zagona, meritve in nastavitve obratovalnih količin. Pri vseh elementih je potrebno upoštevati spojni in tesnilni material. Vsa dela na objektu se morajo izvajati v skladu z načrti ter popisi materiala in del faze PZI. V ponudbi za izvedbo je zajeto tudi posnemanje dejanskega stanja izvedenih instalacij, ki jih mora sproti vnašati v en izvod PZI dokumentacije izvajalec del in jih dostaviti investitorju ta pa jih dostavi projektantom za izdelavo PID.
B14: OPOMBA: V ponudbi je potrebno zajeti še sledeča dela: Tlačni preizkusi, funkcijska navodila, izpiranje cevododov, čiščenje cevovodov, pripravljalna dela, zaključna dela in zarisovanje tras.
B17: 5.4.1.2 Hidrantno omrežje in gasilniki
A19: 1 | B19: Demontažna dela: - demontaža obstoječih gasilnikov in obešal, hramba na varnem mestu za čas adaptacijskih del. - ponovna montaža gasilnikov na ustrezna mesta, po načrtu. | C19: kpl | D19: 1 | H19: =D19*G19 -> 0
A21: =COUNT(A$19:A20)+1 -> 2 | B21: Demontažna dela: - zapiranje vode na najbližjem zapornem elementu, obveščanje uporabnikov - demontaža 2 obstoječih hidrantnih omaric - demontaža obstoječih hidrantnih cevovodov, dim. 2", ocenjene dolžine 3m - 2x začepljenje cevi na mestu odreza za čas adaptacije - 2x odstranitev čepa in priključitev nove cevi na obstoječe - po prenovitvenih delih - demontirane elemente je potrebno odpeljati na trajno deponijo, vključno plačilo deponijske takse. | C21: kpl | D21: 1 | G21: =E21+F21 -> 0 | H21: =D21*G21 -> 0
A23: =COUNT(A$19:A22)+1 -> 3 | B23: Napisna ploščica za označevanje elementov, velikosti 60x45 mm, vključno pritrdilni material. (ocenjeno) | C23: kos | D23: 2 | G23: =E23+F23 -> 0 | H23: =D23*G23 -> 0
A25: =COUNT(A$19:A24)+1 -> 4 | B25: Stenski hidrant montiran na steni, tip EURO, po EN671-1, sestoječ iz: -pločevinaste omarice z vratci na tečaje, dim. 740x840x250 mm, protikorozijsko opleskane in z odgovarjajočo oznako na vratcih -priključnega medeninastega ventila za hidrant dim. 50 mm, s stabilno spojko "C" in reducirnim kosom -ročnika z ustreznim ustnikom -tlačne gumijaste poltoge cevi dim. 25 mm, dolžine 30 m, navite na vrtljivem kolutu, po EN694 Opomba 1: Pred naročilom obvezno na objektu preveriti levi / desni priklop. Opobmba 2: Omarica je standardne globine: 25 cm! Predvidena je podometna vgradnja v zidni niši. Ustreza: Gallus ali enakovredno | C25: kos | D25: 2 | G25: =E25+F25 -> 0 | H25: =D25*G25 -> 0
A27: =COUNT(A$19:A26)+1 -> 5 | B27: Omarica za prenosni gasilnik, izdelana iz pločevine, s protikorozijskim opleskom, za nadometno vgradnjo ali vzidavo, skupaj s pritrdilnim materialom, razmestitev po objektu skladno z načrtom požarne varnosti. Opomba: Omarica se predvidi za podometno vgradnjo v zidni niši. Gasilniki so CO2-5kg. Ustreza: Gallus ali enakovredno
B28: dim.: 290/740/250 - za 1 gasilnik | C28: kos | D28: 4 | G28: =E28+F28 -> 0 | H28: =D28*G28 -> 0
A30: =COUNT(A$19:A29)+1 -> 6 | B30: Cevovodi za požarno vodo iz pocinkane srednje težke varjene navojne cevi DIN 2440, materiala St33, spajanje z navojnimi fitingi, vključno z montažnim in tesnilnim materialom, ter z požarnim tesnenjem na prehodih skozi požarne stene.
B31: DN 50 | C31: m | D31: 4 | G31: =E31+F31 -> 0 | H31: =D31*G31 -> 0
A33: =COUNT(A$19:A32)+1 -> 7 | B33: Toplotna izolacija hidrantnih cevovodov vodenih vidno v neogrevanih garažnih prostorih (pod stropom ali ob stenah), izvedena iz: - gibkih cevi iz sintetičnega kavčuka, lepljenih na cev, koeficient parozapornosti min 3000, debelina 9 mm
B34: DN 50 | C34: m | D34: 4 | G34: =E34+F34 -> 0 | H34: =D34*G34 -> 0
A36: =COUNT(A$19:A35)+1 -> 8 | B36: Obešala in podpore cevovodovi iz objemke, matice in protimatice, z navojno palico, s kovinskimi vgradnimi čepi, ali klemami za vgradnjo na kovinske profile z atestom
B37: DN 50 | C37: kg | D37: 5 | G37: =E37+F37 -> 0 | H37: =D37*G37 -> 0
A39: =COUNT(A$19:A38)+1 -> 9 | B39: Pomožni podporni obešalni in konzolni material iz jeklenih profilov | C39: kg | D39: 25 | G39: =E39+F39 -> 0 | H39: =D39*G39 -> 0
A41: =COUNT(A$19:A40)+1 -> 10 | B41: Barvanje vidnih kovinskih delov, držal in obešal z odgovarjajočo barvo | C41: m2 | D41: 2 | G41: =E41+F41 -> 0 | H41: =D41*G41 -> 0
A43: =COUNT(A$19:A42)+1 -> 11 | B43: Avtomatski odzračevalni ventil DN15, skupaj s krogelno zaporno pipo R1/2", navojni priključek. | C43: kos | D43: 2 | G43: =E43+F43 -> 0 | H43: =D43*G43 -> 0
A45: =COUNT(A$19:A44)+1 -> 12 | B45: Izpiranje cevovodov z vodo | C45: kpl | D45: 1 | G45: =E45+F45 -> 0 | H45: =D45*G45 -> 0
A47: =COUNT(A$19:A46)+1 -> 13 | B47: Hladni tlačni preizkus hidrantnega omrežja z vodnim tlakom 1,5 delovnega tlaka, v trajanju 2 uri, ter izdelava zapisnika. | C47: kpl | D47: 1 | G47: =E47+F47 -> 0 | H47: =D47*G47 -> 0
A49: =COUNT(A$19:A48)+1 -> 14 | B49: Pregled in meritve notranjih hidrantov s strani pooblaščene organizacije in izdaja pozitivnega poročila, vključno pečatenje hidrantov. | C49: kpl | D49: 1 | G49: =E49+F49 -> 0 | H49: =D49*G49 -> 0
B51: Skupaj hidrantno omrežje | H51: =SUM(H19:H50) -> 0
B56: 5.4.1.6 NOTRANJA VODOVODNA INŠTALACIJA - razvodno omrežje
B58: DEMONTAŽE
A59: 1 | B59: Demontaže razvodnega omrežja HSV, TSV in CIR v obravnavanih prostorih v 1. nadstropju, v obsegu: - zapiranje vodov TSV in HSV, ki napajajo 1.nadstropje, na najbližjem zapornem organu, vključno obveščanje uporabnikov. - demontaža pocinkanih cevovodov, v pritličju in kleti, vgrajenih v predelnih stenah in jaških, ter pod stropom, dim. DN15 do DN32, ocenjena skupna dolžina: 48 m - enako kot zgoraj, razen: demontaža v 1. nadstropju, ocenjen skupna dolžina: 41 m - odklop sanitarnih porabnikov iz vodovodnega omrežja (iztočne mešalne armature, WC-kotlički, tuši...), ocenjena količina: 35x kos - odvoz demontiranega materiala na trajno deponijo, vključno plačilo deponijske pristojbine | C59: kpl | D59: 1 | G59: =E59+F59 -> 0 | H59: =D59*G59 -> 0
A61: =COUNT(A$59:A60)+1 -> 2 | B61: Blindiranje obstoječih cevovodov Izdelava zaključkov obstoječih priključnih cevovodov v pritličju obsega: - 3x dvojni odrez obstoječih cevovodov TSV, HSV in CIR tik ob mestu zadnjega sanitarnega porabnika. Ta mesta so lahko v steni, jašku... ocenjena količina: 14x kos - prevezava / navezava vodov TSV in CIR, tik ob zadnjem porabniku, ocenjena količina: 12x kos - postavka zajema vse potrebne materiale, fitinge, cevovode, tesnila, čepe, pritrdilne elemente, potrebna orodja... za izvedbo opisanih del
B62: Opomba: Izdelava utorov v predelnih in zidanih stenah je vključena v načrtu arhitekture / gradbeništva. Prav tako je vključena sanacija obravnavanih sten po inštalacijskih delih. | C62: kpl | D62: 1 | G62: =E62+F62 -> 0 | H62: =D62*G62 -> 0
A64: =COUNT(A$59:A63)+1 -> 3 | B64: Pregled in raziskava obstoječega omrežja v drugih delih stavbe ter iskanje vodov, vozlišč, zapornih in regulacijskih organov. | C64: h | D64: 18 | G64: =E64+F64 -> 0 | H64: =D64*G64 -> 0
B66: MONTAŽE
A68: =COUNT(A$59:A67)+1 -> 4 | B68: Krogelni ventil z izpustno pipco, izdelan iz nerjavnega jekla Cr-Ni-Mo WR.N 1.44.01 za spajanje s stisljivimi fiting, za hladno in toplo sanitarno vodo, dimenzij:
B69: Φ 15 DN12 | C69: kos | D69: 16 | G69: =E69+F69 -> 0 | H69: =D69*G69 -> 0
B70: Φ 18 DN15 | C70: kos | D70: 14 | G70: =E70+F70 -> 0 | H70: =D70*G70 -> 0
B71: Φ 22 DN20 | C71: kos | D71: 12 | G71: =E71+F71 -> 0 | H71: =D71*G71 -> 0
B72: Φ 28 DN25 | C72: kos | D72: 2 | G72: =E72+F72 -> 0 | H72: =D72*G72 -> 0
B73: Φ 35 DN32 | C73: kos | D73: 1 | G73: =E73+F73 -> 0 | H73: =D73*G73 -> 0
B74: Φ 42 DN40 | C74: kos | D74: 1 | G74: =E74+F74 -> 0 | H74: =D74*G74 -> 0
A76: =COUNT(A$59:A75)+1 -> 5 | B76: Dušilni termostatski ventil in čistilni kos, za regulacijo cirkulacije tople sanitarne vode, z navojnima priključkoma, iz medenine, s poševnim vretenom za regulacijo pretoka, z nastavljivim termostatskim elementom, za PN 10, z vsemi potrebnimi priključki, z možnostjo programsko vodenega pregrevanja cevovoda nad 65°C (legionela), max delovna temperatura 100 °C, ohišje prehodnega ventila in krožnika ventila iz rdeče litine rg5, v sestavi: - ventil MTCV-A z adapterjem za elektrotermični pogon TWA-A - elektrotermični pogon TWA-A/NC 24V - adapter za kabelsko tipalo - kabelsko tipalo ESMB-12 Opomba1: Kabelska povezava do krmilnika CCR2+ v elektro krmilni omari in programiranje je vključeno v načrtu s področja elektrotehnike. Opomba2: Vključno 2x prehodni kos navoj - press fiting. npr. Danfoss MTCV modul C + čistilni kos
B77: DN 15 (Φ 18 ) | C77: kos | D77: 14 | G77: =E77+F77 -> 0 | H77: =D77*G77 -> 0
A79: =COUNT(A$59:A78)+1 -> 6 | B79: Regulator za programsko vodeno termično dezinfekcijo vode in zapis temperatur (NC). Regulator se uporablja za optimiranje procesa termične dezinfekcije sistemov cirkulacije sanitarne tople vode z dodatno funkcijo registracije in nadzora nad temperaturami v cirkulaciji sanitarne tople vode. S podatki: - napajalna napetost 24 V DC - izhodni signal 24 V AC - možnost dograditve kartice SD za zajem podatkov (do 1 GB) - vključno modul za prekrmiljenje - možnost za preprogramiranje z uporabo mobilnega telefona - možnost krmiljenja do 20 ventilov Opomba: Napajanje 24V DC je vključeno v načrtu s področja elektrotehnike. Opomba: Z regulatorja se vodi signal napake na obstoječi sistem Scada, kar je vključeno v načrtu s področja elektrotehnike. Ustreza: Danfoss CCR2+ | C79: kos | D79: 1 | G79: =E79+F79 -> 0 | H79: =D79*G79 -> 0
A81: =COUNT(A$59:A80)+1 -> 7 | B81: Poševnosedežni ventil za natančno nastavitev oz. omejitev pretoka, z navojnima priključkoma, ohišje iz rdeče litine, s čitljivimi nastavitvenimi oznakami, z možnostjo fiksiranja in plombiranja izbrane nastavitve. Primeren za vgradnjo v vodovodno inštalacijo. Opomba: Vključno 2x prehodni kos navoj - press fiting.
B82: DN15 | C82: kos | D82: 2 | G82: =E82+F82 -> 0 | H82: =D82*G82 -> 0
A84: =COUNT(A$59:A83)+1 -> 8 | B84: Cevovodi iz cevi iz nerjavnega jekla za spajanje s stisljivimi fitingi in indikatorjem stiskanja. Primerne za termično in kemično definfekcijo. Ustrezne za razvod hladne sanitarne vode. - material Cr-Ni-Mo Wr.N 1.4401 (DIN EN 10088) - C-faktor 140 - Toplotno raztezanje 0,016 mm/m·K - Hrapavost cevi 1,5mm - Toplotna prevodnost cevi 15W/m·K
B85: Φ 15x1.0 (DN12) | C85: m | D85: 60 | G85: =E85+F85 -> 0 | H85: =D85*G85 -> 0
B86: Φ 18x1.0 (DN15) | C86: m | D86: 258 | G86: =E86+F86 -> 0 | H86: =D86*G86 -> 0
B87: Φ 22x1.2 (DN20) | C87: m | D87: 102 | G87: =E87+F87 -> 0 | H87: =D87*G87 -> 0
B88: Φ 28x1.2 (DN25) | C88: m | D88: 42 | G88: =E88+F88 -> 0 | H88: =D88*G88 -> 0
B89: Φ 35x1.5 (DN32) | C89: m | D89: 66 | G89: =E89+F89 -> 0 | H89: =D89*G89 -> 0
B90: Φ 42x1.5 (DN40) | C90: m | D90: 12 | G90: =E90+F90 -> 0 | H90: =D90*G90 -> 0
A92: =COUNT(A$59:A91)+1 -> 9 | B92: Cevovodi iz cevi iz nerjavnega jekla za spajanje s stisljivimi fitingi in indikatorjem stiskanja vključno s spojkami za hladno stiskanje za dolžinsko spajanje cevi enakega premera in reducirnimi kosi za spajanje cevi različnega premera. Primerne za termično in kemično definfekcijo. Ustrezne za razvod tople sanitarne vode. - material Cr-Ni-Mo Wr.N 1.4401 (DIN EN 10088) - C-faktor 140 - Toplotno raztezanje 0,016 mm/m·K - Hrapavost cevi 1,5mm - Toplotna prevodnost cevi 15W/m·K
B93: Φ 15x1.0 (DN12) | C93: m | D93: 78 | G93: =E93+F93 -> 0 | H93: =D93*G93 -> 0
B94: Φ 18x1.0 (DN15) | C94: m | D94: 186 | G94: =E94+F94 -> 0 | H94: =D94*G94 -> 0
B95: Φ 22x1.2 (DN20) | C95: m | D95: 96 | G95: =E95+F95 -> 0 | H95: =D95*G95 -> 0
B96: Φ 28x1.2 (DN25) | C96: m | D96: 42 | G96: =E96+F96 -> 0 | H96: =D96*G96 -> 0
B97: Φ 35x1.5 (DN32) | C97: m | D97: 54 | G97: =E97+F97 -> 0 | H97: =D97*G97 -> 0
A99: =COUNT(A$59:A98)+1 -> 10 | B99: Cevovodi iz cevi iz nerjavnega jekla za spajanje s stisljivimi fitingi in indikatorjem stiskanja. Vključno s spojkami za hladno stiskanje za dolžinsko spajanje cevi enakega premera in reducirnimi kosi za spajanje cevi različnega premera. Primerne za termično in kemično definfekcijo. Ustrezne za razvod cirkulacije tople sanitarne vode. - material Cr-Ni-Mo Wr.N 1.4401 (DIN EN 10088) - C-faktor 140 - Toplotno raztezanje 0,016 mm/m·K - Hrapavost cevi 1,5mm - Toplotna prevodnost cevi 15W/m·K
B100: Φ 15x1.0 (DN12) | C100: m | D100: 156 | G100: =E100+F100 -> 0 | H100: =D100*G100 -> 0
B101: Φ 18x1.0 (DN15) | C101: m | D101: 60 | G101: =E101+F101 -> 0 | H101: =D101*G101 -> 0
A103: =COUNT(A$59:A102)+1 -> 11 | B103: Cevni loki iz nerjavnega jekla za spajanje s stisljivimi fitingi in indikatorjem stiskanja. Primerne za termično in kemično definfekcijo. Ustrezne za razvod sanitarne vode. - material Cr-Ni-Mo Wr.N 1.4401 (DIN EN 10088) - C-faktor 140 - Toplotno raztezanje 0,016 mm/m·K - Hrapavost cevi 1,5mm - Toplotna prevodnost cevi 15W/m·K Opomba: Vključno prehodni loki 'navoj - press'. Opomba: Ocenjena količina.
B104: Φ 15x1.0 (DN12) | C104: kos | D104: 265 | G104: =E104+F104 -> 0 | H104: =D104*G104 -> 0
B105: Φ 18x1.0 (DN15) | C105: kos | D105: 428 | G105: =E105+F105 -> 0 | H105: =D105*G105 -> 0
B106: Φ 22x1.2 (DN20) | C106: kos | D106: 180 | G106: =E106+F106 -> 0 | H106: =D106*G106 -> 0
B107: Φ 28x1.2 (DN25) | C107: kos | D107: 77 | G107: =E107+F107 -> 0 | H107: =D107*G107 -> 0
B108: Φ 35x1.5 (DN32) | C108: kos | D108: 110 | G108: =E108+F108 -> 0 | H108: =D108*G108 -> 0
B109: Φ 42x1.5 (DN40) | C109: kos | D109: 11 | G109: =E109+F109 -> 0 | H109: =D109*G109 -> 0
A111: =COUNT(A$59:A110)+1 -> 12 | B111: T-kosi enakokraki ali reducirni iz nerjavnega jekla za spajanje s stisljivimi fitingi in indikatorjem stiskanja. Primerne za termično in kemično definfekcijo. Ustrezne za razvod sanitarne vode. - material Cr-Ni-Mo Wr.N 1.4401 (DIN EN 10088) - C-faktor 140 - Toplotno raztezanje 0,016 mm/m·K - Hrapavost cevi 1,5mm - Toplotna prevodnost cevi 15W/m·K Opomba: Vključno prehodni T-kosi 'navoj - press'. Opomba: Ocenjena količina.
B112: Ф15x1(DN12)/Ф15x1(DN12) | C112: m | D112: 45 | G112: =E112+F112 -> 0 | H112: =D112*G112 -> 0
B113: Ф18x1(DN15)/Ф15x1(DN12) | C113: m | D113: 80 | G113: =E113+F113 -> 0 | H113: =D113*G113 -> 0
B114: Ф18x1(DN15)/Ф18x1(DN15) | C114: m | D114: 126 | G114: =E114+F114 -> 0 | H114: =D114*G114 -> 0
B115: Ф22x1.2(DN20)/Ф18x1(DN15) | C115: m | D115: 55 | G115: =E115+F115 -> 0 | H115: =D115*G115 -> 0
B116: Ф22x1.2(DN20)/Ф22x1.2(DN20) | C116: m | D116: 26 | G116: =E116+F116 -> 0 | H116: =D116*G116 -> 0
B117: Ф28x1.2(DN25)/Ф18x1(DN15) | C117: m | D117: 35 | G117: =E117+F117 -> 0 | H117: =D117*G117 -> 0
B118: Ф28x1.2(DN25)/Ф22x1.2(DN20) | C118: m | D118: 9 | G118: =E118+F118 -> 0 | H118: =D118*G118 -> 0
B119: Ф28x1.2(DN25)/Ф28x1.2(DN25) | C119: m | D119: 5 | G119: =E119+F119 -> 0 | H119: =D119*G119 -> 0
B120: Ф35x1.5(DN32)/Ф18x1(DN15) | C120: m | D120: 6 | G120: =E120+F120 -> 0 | H120: =D120*G120 -> 0
B121: Ф35x1.5(DN32)/Ф22x1.2(DN20) | C121: m | D121: 3 | G121: =E121+F121 -> 0 | H121: =D121*G121 -> 0
B122: Ф35x1.5(DN32)/Ф28x1.5(DN25) | C122: m | D122: 2 | G122: =E122+F122 -> 0 | H122: =D122*G122 -> 0
B123: Ф35x1.5(DN32)/Ф35x1.5(DN32) | C123: m | D123: 1 | G123: =E123+F123 -> 0 | H123: =D123*G123 -> 0
B124: Ф42x1.5(DN40)/42x1.5(DN40) | C124: m | D124: 1 | G124: =E124+F124 -> 0 | H124: =D124*G124 -> 0
A126: =COUNT(A$59:A125)+1 -> 13 | B126: Reducirni kosi iz nerjavnega jekla za spajanje s stisljivimi fitingi in indikatorjem stiskanja. Primerne za termično in kemično definfekcijo. Ustrezne za razvod sanitarne vode. - material Cr-Ni-Mo Wr.N 1.4401 (DIN EN 10088) - C-faktor 140 - Toplotno raztezanje 0,016 mm/m·K - Hrapavost cevi 1,5mm - Toplotna prevodnost cevi 15W/m·K Opomba: Ocenjena količina.
B127: Ф18x1(DN15)/Ф15x1(DN12) | C127: kos | D127: 28 | G127: =E127+F127 -> 0 | H127: =D127*G127 -> 0
B128: Ф22x1.2(DN20)/Ф18x1(DN15) | C128: kos | D128: 32 | G128: =E128+F128 -> 0 | H128: =D128*G128 -> 0
B129: Ф28x1.5(DN25)/Ф22x1.2(DN20) | C129: kos | D129: 18 | G129: =E129+F129 -> 0 | H129: =D129*G129 -> 0
B130: Ф35x1.5(DN32)/Ф28x1.5(DN25) | C130: kos | D130: 7 | G130: =E130+F130 -> 0 | H130: =D130*G130 -> 0
B131: Ф42x1.5(DN40)/Ф35x1.5(DN32) | C131: kos | D131: 3 | G131: =E131+F131 -> 0 | H131: =D131*G131 -> 0
A133: =COUNT(A$59:A132)+1 -> 14 | B133: Spojke za hladno stiskanje iz nerjavnega jekla za spajanje s stisljivimi fitingi in indikatorjem stiskanja. Primerne za termično in kemično definfekcijo. Ustrezne za razvod sanitarne vode. - material Cr-Ni-Mo Wr.N 1.4401 (DIN EN 10088) - C-faktor 140 - Toplotno raztezanje 0,016 mm/m·K - Hrapavost cevi 1,5mm - Toplotna prevodnost cevi 15W/m·K Opomba: Ocenjena količina.
B134: Ф15x1(DN12) | C134: kos | D134: 88 | G134: =E134+F134 -> 0 | H134: =D134*G134 -> 0
B135: Ф18x1(DN15) | C135: kos | D135: 143 | G135: =E135+F135 -> 0 | H135: =D135*G135 -> 0
B136: Ф22x1.2(DN20) | C136: kos | D136: 60 | G136: =E136+F136 -> 0 | H136: =D136*G136 -> 0
B137: Ф28x1.5(DN25) | C137: kos | D137: 26 | G137: =E137+F137 -> 0 | H137: =D137*G137 -> 0
B138: Ф35x1.5(DN32) | C138: kos | D138: 37 | G138: =E138+F138 -> 0 | H138: =D138*G138 -> 0
B139: Ф42x1.5(DN40) | C139: kos | D139: 3 | G139: =E139+F139 -> 0 | H139: =D139*G139 -> 0
...

Sheet 2.MEDICINSKI PLINI
B1: OPIS POSTAVKE | C1: ENOTA | D1: KOLIČINA | E1: DOBAVA/ENOTA | F1: MONTAŽA /ENOTA | G1: SKUPAJ / ENOTA | H1: SKUPNA CENA [EUR]
B2: STROJNE INSTALACIJE
B4: 5.4.1 MEDICINSKI PLINI
B7: OPOMBA: Vse naprave in elementi v popisu materiala so navedene primeroma. Vse naprave in elemente se mora dobaviti z ustreznimi certifikati, atesti, garancijami in navodili. Pri vseh napravah je potrebno upoštevati stroške zagona, meritve in nastavitve obratovalnih količin. Pri vseh elementih je potrebno upoštevati spojni in tesnilni material. Vsa dela na objektu se morajo izvajati v skladu z načrti ter popisi materiala in del faze PZI. V ponudbi za izvedbo je zajeto tudi posnemanje dejanskega stanja izvedenih instalacij, ki jih mora sproti vnašati v en izvod PZI dokumentacije izvajalec del in jih dostaviti investitorju ta pa jih dostavi projektantom za izdelavo PID.
B8: V ponudbi je potrebno zajeti še sledeča dela: Tlačni preizkusi, funkcijska navodila, izpiranje cevododov, čiščenje cevovodov, pripravljalna dela, zaključna dela in zarisovanje tras.
B10: 5.4.1 MEDICINSKI PLINI
B12: SPLOŠNI OPIS
B14: Izvajalec je dolžan imeti znanja, ki so predpisano zahtevana v GZ in tam opredeljena skozi obvezni delovodski in mojstrski izpit, iz česar izhaja, da je strokovno usposobljena oseba za posamezno vrsto inštalacije in pozna vse potrebne standardne detajle
B15: Instalacija medicinskih plinov mora biti zaradi specifičnih zahtev izdelana iz bakrenih cevi in fitingov.
B16: Za medicinske namene se uporabljajo specialne cevi iz bakra, material SF-Cu po EN predpisih. Te cevi odlikujejo dobre sposobnosti za varjenje in tehniko trdega lotanja. To so vlečene cevi iz celega, žarjene v vakuumu in dobavljene po želji v palicah (trde) ali v kolutih (mehke).
B17: S preizkusi na plinotesnost in trdnost materiala je zagotovljeno, da so cevi popolnoma zrakotesne, brez poroznih mest. Visoke dimenzijske tolerance zagotavljajo dobre lastnosti pri trdem lotanju, kar je zaradi varnosti zelo pomembno. Cevi morajo biti absolutno čiste in nemastne. Zaradi možnosti vstopa nečistoč pri transportu in montaži so cevi na konceh zaprte s plastičnimi pokrovi. Vsi fitingi, in to mufe, T - kosi, cevni loki in cevni reducirni kosi so iz bakra in morajo biti izdelani po predpisih za tovrstne instalacije.
B18: Izvršiti je potrebno sledeče kontrole in teste:
B19: -preizkus na prepuščanje cevi
... B33: Cevi medicinskih plinov je potrebno nedvoumno označiti z vrsto in smerjo medija po DIN 2403
A35: 1. | B35: CEVOVODI
A37: 1 | B37: Specialne bakrene cevi, zahtevane za medicinske pline, za trdo lotanje, material in lastnosti v skladu z DIN EN 13348, vlečene iz celega, v notranjosti, specialno razmaščene in očiščene tako, da vsebnost maščob ne prekorači 0,2 mg/dm2, testirane na nepropustnost, material mora biti homogen in brez razpok, na konceh zaradi čistoče začepljene s plastičnimi čepi. Trde cevi se dobavljajo v dolžini 5m, mehke pa do 25 m.
B38: Fitingi (kolena, loki, reducirni kosi, T-kosi, mufe...)morajo odgovarjati DIN EN 1254 in se morajo spajkati z materialom po DIN 8512.
B39: Ø 8 x 1 mm (max. del. tlak 104 bar) | C39: m | D39: 355 | G39: =E39+F39 -> 0 | H39: =D39*G39 -> 0
B40: Ø 12 x 1 mm (max. del. tlak 104 bar) | C40: m | D40: 140 | G40: =E40+F40 -> 0 | H40: =D40*G40 -> 0
B41: Ø 15 x 1 mm (max. del. tlak 104 bar) | C41: m | D41: 65 | G41: =E41+F41 -> 0 | H41: =D41*G41 -> 0
B42: Ø 18 x 1 mm (max. del. tlak 104 bar) | C42: m | D42: 21 | G42: =E42+F42 -> 0 | H42: =D42*G42 -> 0
B43: Ø 22 x 1 mm (max. del. tlak 104 bar) | C43: m | D43: 60 | G43: =E43+F43 -> 0 | H43: =D43*G43 -> 0
B44: Ø 28 x 1,5 mm (max. del. tlak 104 bar) | C44: m | D44: 15 | G44: =E44+F44 -> 0 | H44: =D44*G44 -> 0
B45: Ø 35 x 1,5 mm (max. del. tlak 104 bar) | C45: m | D45: 20 | G45: =E45+F45 -> 0 | H45: =D45*G45 -> 0
A47: 2 | B47: Srebrni lot za spajkanje bakrenih elementov in cevi, za obratovalne temperature do 7100C. Lot v skladu z DIN EN 1044. Kolut je iz žice premera 1,5 mm ali v palčkah.
B48: Naročilo po zahtevnosti razvoda. | C48: kpl | D48: 5 | G48: =E48+F48 -> 0 | H48: =D48*G48 -> 0
A50: 3 | B50: Mast za pomoč pri trdem lotanju bakra in medeninastih materialov | C50: kpl | D50: 5 | G50: =E50+F50 -> 0 | H50: =D50*G50 -> 0
A52: 4 | B52: Sredstvo za testiranje tesnosti cevovodov, ventilov, itd. | C52: kpl | D52: 1 | G52: =E52+F52 -> 0 | H52: =D52*G52 -> 0
A54: 5 | B54: Obešalni material za cevi, sestoječ iz:
B55: - cevnih objemk različnih dimenzij
B56: - U-tirnice, za več cevi
B57: - C-tirnice
B58: - drsne matice
B59: - stenski nosilci iz jeklene pločevine, pocinkani
B60: - konzole iz jeklene pločevine, pocinkane
B61: - sistemski vijaki z matico, podložko in plastično podlogo
B62: - razni vijaki in matice, PVC vložki | C62: kg | D62: 140 | G62: =E62+F62 -> 0 | H62: =D62*G62 -> 0
A64: 6 | B64: Oznake cevi, samolepilne, s smernimi puščicami, simbolnimi oznakami, barve po ISO 32 in ISO 5359 ali nevtralne barve | C64: kpl | D64: 1 | G64: =E64+F64 -> 0 | H64: =D64*G64 -> 0
A66: 7 | B66: Tlačni preizkusi in preizkusi delovanja sistema ter kontrola pravilnosti na posameznih priključkih, uregulacija sistema, zagon, poiskusno obratovanje, z meritvami in zapisniki | C66: kpl | D66: 1 | G66: =E66+F66 -> 0 | H66: =D66*G66 -> 0
A68: 8 | B68: Čiščenje in izpihovanje cevi | C68: kpl | D68: 1 | G68: =E68+F68 -> 0 | H68: =D68*G68 -> 0
A70: 9 | B70: Izdelava in montaža zaščitne pločevinaste pregrade v pritličju, izdelane iz nerjavne pločevine deb. 1,0 mm, za zaščito vertikalnih vodov medicinskih plinov (izvedba podobno kot obstoječe). Vključno demontaža obstoječe zaščitne pločevine. Opomba: Po potrditvi nadzornika se lahko uporabi obstoječa zaščitna pločevina, če je spoznana za ustrezno. | C70: kpl | D70: 1 | G70: =E70+F70 -> 0 | H70: =D70*G70 -> 0
A73: 2. | B73: KONTROLNE ENOTE
A75: 1 | B75: Ventilsko manometrska omarica za 3 pline: vakuum, kisik, KZ-5, po DIN EN ISO 7396-1, ki omogoča izklop plinov na posameznih območjih zaradi popravil ali napak. V omarici se kontrolira odstopanje tlakov posameznih plinov ter potom signalov obvešča osebje. Vzdrževanje in popravila na posameznih območjih se lahko izvaja, ne da bi se zaprl celoten sistem napajanja. Omarica sestoji iz:
B76: - osnovnega dela, namenjenega za podometno ali nadometno montažo, narejenega iz nerjavečega jekla, z vijaki za pritrditev ventilskih grup, z luknjami za cevi in kable, zaščiteno pred prahom in umazanijo
B77: - zgornjega dela z vratci, prirejeno za vgradnjo na osnovni del, z možnostjo odpiranja v sili, ključem in indentifikacijsko nalepko, pobarvano z RAL 9002 (bela) | C77: kpl | D77: 1 | G77: =E77+F77 -> 0 | H77: =D77*G77 -> 0
A80: 2 | B80: Ventilski sklop za medicinske pline DN20, specifičen za posamezne pline, s tlačnim senzorjem, merilnikom tlaka in povezovalnimi cevmi Ø 22 x 1 mm, dolžine 300 mm
B81: - plin O2 (kisik) | C81: kpl | D81: 1 | G81: =E81+F81 -> 0 | H81: =D81*G81 -> 0
B82: - plin Kz (komprimiran zrak) | C82: kpl | D82: 1 | G82: =E82+F82 -> 0 | H82: =D82*G82 -> 0
A84: 3 | B84: Ventilski sklop za vakum DN32, s tlačnim senzorjem, manometrom in priključnimi cevmi Ø 35 x 1,5 mm, dolžine 300 mm | C84: kpl | D84: 1 | G84: =E84+F84 -> 0 | H84: =D84*G84 -> 0
A86: 4 | B86: Tlačni preizkusi in preizkusi delovanja sistema ter kontrola pravilnosti na posameznih priključkih, uregulacija sistema, zagon, poiskusno obratovanje, z meritvami in zapisniki | C86: kpl | D86: 1 | G86: =E86+F86 -> 0 | H86: =D86*G86 -> 0
A88: 5 | B88: Označevanje instalacije, napisne ploščice in ostale zakonsko določene oznake, ocenjeno | C88: kos | D88: 100 | G88: =E88+F88 -> 0 | H88: =D88*G88 -> 0
A91: 3. | B91: PRIKLJUČKI
A93: 1 | B93: Sklopke za dobavo plina na mesto potrošnje, primerne za vgradnjo podometno, nadometno, v stenske luči, panelne sisteme (kanale) ter stative. Da bi zagotovili pravilen plin na priključnem mestu, imajo sklopke za vsako vrsto plina posebno obliko vtične odprtine. Notranji mehanizem zagotavlja varnost. Sklopke morajo odgovarjati EN ISO 9170-1 in DIN 13260, del 2. Tehnični podatki so:
B94: - delovni tlak: 5 - bar, max. 10 bar
B95: - pretok: 40 Nlit/min
B96: - zaklepni mehanizem: v 2. stopnjah (v mirovanju in delovni)
B97: - nepovratni ventil: možnost popravila pri delovnem tlaku
B98: Sestavni deli:
B99: - pokrivna plošča
B100: - potisni obroč
B101: - vtična sklopka
B102: - osnovna plošča sklopke
B103: - označbena nalepka
B104: Sklopke so za sledeče pline:
B105: - kisik - priključek: Cu cev Ø 8 x 1 mm | C105: kpl | D105: 32 | G105: =E105+F105 -> 0 | H105: =D105*G105 -> 0
B106: - komprimiran zrak - priključek: Cu cev Ø 8 x 1 mm | C106: kpl | D106: 32 | G106: =E106+F106 -> 0 | H106: =D106*G106 -> 0
B107: - vakuum - priključek: Cu cev Ø 12 x 1 mm | C107: kpl | D107: 30 | G107: =E107+F107 -> 0 | H107: =D107*G107 -> 0
B108: Opomba: Medicinski kanali so v popisu elektro inštalacij. Kanali imajo predpripravljena mesta za priključitev sklopk.
A110: 2 | B110: Stenska medicinska tirnica pravokotnega profila 25×10/1 mm iz RF jekla, navedene dolžine, vgrajena na višini cca 1,3 m od tal (priporočena višina), komplet s pritrdilnimi elementi, distančniki in ozemljilnim vijakom ali sponko 6mm2. Vključno nosilno ogrodje oz. lokalna ojačitev za vgradnjo medicinske tirnice in medicinskega kanala v suhomontažno steno, nosilnost do 10 kg/tm. - dobava in montaža Opomba: dolžina tirnice je enaka dolžini bolniškega kanala. Opomba: Tirnice so predvidene v bolniških sobah, koronarni enoti ter v obeh ambulantah. Opomba: Oprema za pritrditev na tirnice je v sklopu dobave medicinske opreme.
B111: stenska tirnica, L=1,5m | C111: kpl | D111: 10 | G111: =E111+F111 -> 0 | H111: =D111*G111 -> 0
B112: stenska tirnica, L=3,5m | C112: kpl | D112: 8 | G112: =E112+F112 -> 0 | H112: =D112*G112 -> 0
B113: stenska tirnica, L=5,0m | C113: kpl | D113: 2 | G113: =E113+F113 -> 0 | H113: =D113*G113 -> 0
A115: 3 | B115: Smiselno podobno kot zgoraj, razen: nosilec za monitor/stenska tirnica Opomba: Vgradnja v koronarni enoti. | C115: kos | D115: 10 | G115: =E115+F115 -> 0 | H115: =D115*G115 -> 0
A117: 5 | B117: Tlačni preizkusi in preizkusi delovanja sistema ter kontrola pravilnosti na posameznih priključkih, uregulacija sistema, zagon, poiskusno obratovanje, z meritvami in zapisniki | C117: kpl | D117: 1 | G117: =E117+F117 -> 0 | H117: =D117*G117 -> 0
A119: 6 | B119: Označevanje instalacije, napisne ploščice in ostale zakonsko določene oznake | C119: kpl | D119: 1 | G119: =E119+F119 -> 0 | H119: =D119*G119 -> 0
A122: 4. | B122: ALARMI
A124: 1 | B124: Informacijsko - upravljalni tabló, za kontrolo obratovalnega stanja sistema medicinskih plinov, vključno z izhodom za alarmiranje v primeru izpada delovanja sistema. Tablo je montiran na steni ob ventilski omarici. | C124: kpl | D124: 1 | G124: =E124+F124 -> 0 | H124: =D124*G124 -> 0
A126: 2 | B126: Delovni signal, odgovarja DIN EN ISO 7396-1, z možnostjo sprožitve vizualnega (LED) in zvočnega signala, kompletno z montažno opremo (AMS 3G) | C126: kpl | D126: 3 | G126: =E126+F126 -> 0 | H126: =D126*G126 -> 0
A128: 3 | B128: preizkusi delovanja sistema ter kontrola pravilnosti na posameznih priključkih, uregulacija sistema, zagon, poiskusno obratovanje, z meritvami in zapisniki | C128: kpl | D128: 1 | G128: =E128+F128 -> 0 | H128: =D128*G128 -> 0
A130: 4 | B130: Glavni varnostni signal, za javljanje izpada treh vrst plina (AMS) | C130: kpl | D130: 1 | G130: =E130+F130 -> 0 | H130: =D130*G130 -> 0
A132: 5. | B132: DEMONTAŽE
A134: 1 | B134: Demontaža obstoječih inštalacij medicinskih plinov v kardiološkem oddelku, ki zajema:
B135: - odklop omrežja v obravnavanih prostorih s centralnega omrežja medicinskih plinov, za vse obravnavane pline - demontaža vertikale za vakuum, od omarice v 1. nadstropju do priključka na glavno razvodno cev. Premer cevi fi 35, ocenjena dolžina 12 m.
B136: - začasno blindiranje na ostranjenih koncih obstojčih razvodov (3x), za čas del. Odčepljanje in spojitev novih cevi po zaključku del.
B137: - obveščanje uporabnikov o času nedelovanja celotnega ali dela sistema ob demontažah in predelavah na vertikalnih vodih. | C137: kpl | D137: 1 | G137: =E137+F137 -> 0 | H137: =D137*G137 -> 0
A139: 2 | B139: Demontaža obstoječih bakrenih razvodov za MP, vključno demontaža priključnih spojk/vtičnic na mestih porabe. V ocenjenih količinah:
B140: Ø 8 x 1 mm | C140: m | D140: 120 | G140: =E140+F140 -> 0 | H140: =D140*G140 -> 0
B141: Ø 12 x 1 mm | C141: m | D141: 90 | G141: =E141+F141 -> 0 | H141: =D141*G141 -> 0
B142: Ø 15 x 1 mm | C142: m | D142: 70 | G142: =E142+F142 -> 0 | H142: =D142*G142 -> 0
B143: Ø 18 x 1 mm | C143: m | D143: 30 | G143: =E143+F143 -> 0 | H143: =D143*G143 -> 0
B144: Ø 22 x 1 mm | C144: m | D144: 150 | G144: =E144+F144 -> 0 | H144: =D144*G144 -> 0
B145: sklopka za MP | C145: kos | D145: 65 | G145: =E145+F145 -> 0 | H145: =D145*G145 -> 0
A147: 6. | B147: SPLOŠNI STROŠKI
A149: 1 | B149: Izdelava vseh potrebnih detajlov in dopolnilnih del, katera je potrebno izvesti za dokončanje posameznih del tudi če potrebni detajli niso navedeni in opisani v popisu del in so ta dopolnila nujna za pravilno funkcioniranje sistemov in elementov objekta | C149: kpl | D149: 1 | G149: =E149+F149 -> 0 | H149: =D149*G149 -> 0
A151: 2 | B151: AtestI, certifikati in poročila, ki so zakonsko zahtevani za vgrajeni material in posamezne sklope | C151: kpl | D151: 1 | G151: =E151+F151 -> 0 | H151: =D151*G151 -> 0
A153: 3 | B153: Navodila za vzdrževanje in obratovanje, sheme delovanja naprav v okvirju, pritrjeno na steno | C153: kpl | D153: 1 | G153: =E153+F153 -> 0 | H153: =D153*G153 -> 0
A155: 4 | B155: Priklop razvodov medicinskih plinov na vire (obstoječa inštalacija) , kompletno s tesnilnim in pritrdilnim materialom | C155: kpl | D155: 1 | G155: =E155+F155 -> 0 | H155: =D155*G155 -> 0
A157: 5 | B157: Pripravljalna dela, zarisovanje, regulacija, zaključna dela ter preizkus funkcionalnosti. | C157: kpl | D157: 1 | G157: =E157+F157 -> 0 | H157: =D157*G157 -> 0
A159: 6 | B159: Transportni, zavarovalni in splošni stroški | C159: kpl | D159: 1 | G159: =E159+F159 -> 0 | H159: =D159*G159 -> 0
B161: Skupaj medicinski plini | H161: =SUM(H19:H160) -> 0
...

Sheet 3.OGRHL
A5: Poz. | B5: Opis dela oz. dobave | C5: enota | D5: količina | E5: cena/EM | F5: Skupaj
B7: OPOMBA: Vse naprave in elementi v popisu materiala so navedene primeroma. V kolikor ni navdeno eksplicitno drugače celja za vse postavke dobava in montaža. Vse naprave in elemente se mora dobaviti z ustreznimi certifikati, atesti, garancijami in navodili. Pri vseh napravah je potrebno upoštevati stroške zagona, meritve in nastavitve obratovalnih količin. Pri vseh elementih je potrebno upoštevati spojni in tesnilni material. Vsa dela na objektu se morajo izvajati v skladu z načrti ter popisi materiala in del faze PZI. V ponudbi za izvedbo je zajeto tudi posnemanje dejanskega stanja izvedenih instalacij, ki jih mora sproti vnašati v en izvod PZI dokumentacije izvajalec del in jih dostaviti investitorju ta pa jih dostavi projektantom za izdelavo PID.
B9: 4.3.3 POPIS MATERIALA IN DEL
B11: HLADILNA POSTAJA
A13: 1 | B13: Dobava, montaža in zagon hladilnega agregata z naslednjimi karakteristikami:
B14: Hladilni agregat za pripravo hladne vode, z zračno hlajenimi ondenzatorjem kompaktne izvedbe s tovarniško vgrajenim hidravličnim modulom brez rezervoarja z minimalno potrebno količino vode v sistemu 2,5l/kW, z naslednjimi konstrukcijskimi in tehničnimi zahtevami:
B15: - kompresor je spiralni, s samo tremi rotirajočimi deli, 2-polni električen motor, dvojno uležajen na antivibracijskih podlogah,
B16: - hladilno sredstvo je R32
B17: - hidravlični modul komplet s centrifugalno vodno črpalko z motorjem z notranjo termično zaščito, z variabilnim številom vrtljajev (frekvenčni pretvornik), pretočnim stikalom, varnostnim ventilom, regulacijskim ventilom, manometri, filtrom in polnilnim priključkom
B18: - uparjalnik je ploščni z direktno ekspanzijo hladiva, izoliran s parozaporno toplotno izolacijo z zaprto celično strukturo
B19: - hladilni krog je opremljen z vsemi potrebnimi komponentami za normalno obratovanje (sušilno patrono, pokazno steklo, zaporni ventil, polnilni priključek, tlačno stikalo itd) ter mikroprocesorsko vodenim ekspanzijskim ventilom
B20: - regulacija hladilne moči je večstopenjska
B21: - aksialni ventilatorji so nizkohrupni ''Flying Bird'' z 11 lopaticami. Motor je 2-stopenjski, izloacije razreda F in zaščite IP54 z vgrajeno zaščito proti preobremenitvi.
B22: - Kondenzatrski registri morajo biti izdelani iz MIKROKANALOV AL cevi ekspandiranih na aluminiaste lamele ter tlačno testiranih s suhim zrakom. To omogoča za 3,5x boljšo časno protikorozivno zaščito, manjši padec zračnega tlaka za 50%, visokotlačno čiščenje-vzdrževanje do 68 bar, ter manjšo količino hladiva v sitemu (manjši negativni vpliv na okolje).
B23: - naprava je opremljean z električno omaro z ločenim močnostnim in regulacijskim delom Pro-Dialog; močnostni del mora vsebovati vse potrebne varovalke in kontaktorje, regulacijski del mora vsebovati mikroprocesor za učinkovito delovanje in nadziranje agregata; vključene morajo biti tudi naslednje varnostne funkcije: stikalo za izklop v sili, varovanje kompresorja pred tekočino, stikalo za previsok in prenizek tlak, omogoča MODBUS povezavo.
B24: - protizmrzovalni termostat oz. zaščita hidravličnih delov naprave
B25: - krmilnik za nadzor in upravljanje agregata
... B63: Ustreza: CARRIER
B64: Tip: 30RB-160R | C64: kpl | D64: 1 | F64: =E64*D64 -> 0
A66: 2 | B66: Priklop naprave na obstoječo avtomatiko hladilne strojnice, sestavljena iz sledečih elementov:
B67: Temperaturno tipalo za namestitev na zalogovnik za območje od -30 do 80 st.C dolžine 200mm vključno s tuljko | C67: kos | D67: 2 | F67: =E67*D67 -> 0
B68: Vmesnik za povezavo na CNS | C68: kos | D68: 1 | F68: =E68*D68 -> 0
B69: Vmesnik za povezavo na Hladilni agregat | C69: kos | D69: 2 | F69: =E69*D69 -> 0
B70: Programiranje obstoječega DCC regulatorja | C70: kos | D70: 1 | F70: =E70*D70 -> 0
B71: Grafični zaslon na dotik za posluževanje | C71: kos | D71: 1 | F71: =E71*D71 -> 0
A73: 3 | B73: Dobava in montaža Obtočna črpalka za hladilno vodo frekvenčno regulacijo za PN6, kompletno s: protiprirobnicami vijačnim in tesnilnim materialom in gumi kompenzatorji za preprečevanje vibracij
B74: Proizvod: Grundfos
B75: Tip: MAGNA 3 50-180F
B76: G = 14,1 m3/h
B77: H = 120 kPa
B78: N = 0,76kW
B79: U=1x230V | C79: kos | D79: 1 | F79: =E79*D79 -> 0
A81: 4 | B81: Merilnik hladilne energije proizv. KAMSTRUP tip Multical 602 Ultraflow, ultrazvočni, razstavljive izvedbe, overjen, sestoječ iz merilnika pretoka, računske enote in dveh temperaturnih tipal Pt500. Računska enota z baterijskim napajanjem, vklj. s komunikacijskim modulom ModBUS, ethernet, TC/IP nazivni pretok 15 m3/h, s prirobničnim priključkom, vključno s protiprirobnicama, tesnili in vijaki, PN 16, DN 50 | C81: kos | D81: 1 | F81: =E81*D81 -> 0
A83: 5 | B83: Dobava in montaža Zaporna loputa za vgradnjo med prirobnice za hladilno vodo in tlak PN6 vključno s protiprirobnicami, vijačnim in tesnilnim materialom.
B84: DN 65 | C84: kos | D84: 4 | F84: =E84*D84 -> 0
B85: DN 80 | C85: kos | D85: 3 | F85: =E85*D85 -> 0
A87: 6 | B87: Dobava in montaža Protipovratna loputa za vgradnjo med prirobnice za hladno vodo in tlak PN6 vključno s protiprirobnicami, vijačnim in tesnilnim materialom
B88: DN 65 | C88: kos | D88: 1 | F88: =E88*D88 -> 0
B89: DN 80 | C89: kos | D89: 1 | F89: =E89*D89 -> 0
A91: 7 | B91: Dobava in montaža Litoželezni lovilec nesnage za PN16 s prirobničnimi priključki, protiprirobnicami, pritrdilnim in tesnilnim materialom
B92: DN 65 | C92: kos | D92: 1 | F92: =E92*D92 -> 0
B93: DN 80 | C93: kos | D93: 1 | F93: =E93*D93 -> 0
A95: 8 | B95: Dobava in montaža Krogelna polnilno-izpraznilna pipa za ogrevno/hladilno vodo PN16 s tesnilnim materialom ter nastavkom za gumi cev:
B96: DN 15 | C96: kos | D96: 4 | F96: =E96*D96 -> 0
B97: DN 20 | C97: kos | D97: 2 | F97: =E97*D97 -> 0
A99: 9 | B99: Predelava Zbiralnik-razdelilnik, narejen iz brezšivnih cevi po DIN 2458. Predlava obsega: Odstranitev odcepa DN50, ter na isto mesto privaritev sedla DN65. ter prirobnice PN6
B101: OPOMBA: na mesu predelav se razdelilnik izolira s protikondenčno izolacijo debeline 38mm | C101: kpl | D101: 2 | F101: =E101*D101 -> 0
A103: 10 | B103: Dobava in montaža črnih navojnih cevi PN16 po DIN 2440 vključno z varilnimi materialom, varilnimi loki, obešalnim in pritrdilnim materialom ter dodatkom za razrez
B104: DN 15 | C104: m | D104: 10 | F104: =E104*D104 -> 0
B105: DN 20 | C105: m | D105: 10 | F105: =E105*D105 -> 0
A107: 11 | B107: Dobava in montaža srednje težkih cevi PN6 po DIN 2448 vključno z varilnimi materialom, varilnimi loki, obešalnim in pritrdilnim materialom ter dodatkom za razrez
B108: DN 65 | C108: m | D108: 72 | F108: =E108*D108 -> 0
B109: DN 80 | C109: m | D109: 12 | F109: =E109*D109 -> 0
B110: DN 100 | C110: m | D110: 22 | F110: =E110*D110 -> 0
A112: 12 | B112: Jekleni lok iz celega, 90°
B113: Dobava in montaža Gladko krivljeni lok po DIN 1629,PN16 , izdelan iz jeklene cevi iz celega, iz materiala St. 37.0, dimenzije in teže po DIN 2605, oblika 5, vključno z varilnim materialom.
B114: Dobava in montaža
B115: DN 65 | C115: kos. | D115: 12 | F115: =E115*D115 -> 0
B116: DN 80 | C116: kos. | D116: 6 | F116: =E116*D116 -> 0
B117: DN 100 | C117: kos. | D117: 8 | F117: =E117*D117 -> 0
A119: 13 | B119: Dobava in montaža Gumi kompenzator za priklop toplotne črpalke agregata na cevni razvod in preprečevanje prenosa vibracij, skupaj s prirobnicami.
B120: DN 80 | C120: kos | D120: 2 | F120: =E120*D120 -> 0
A122: 14 | B122: Dobava in montaža Odzračevalni lonec, izdelen iz jeklene cevi iz celega po DIN 2448, PN16, material St.37.0, komplet z odzračevalno cevjo, izpustni pipicoDN15 in varilnim materialom.
B123: Dobava in montaža
B124: DN 100 | C124: kos. | D124: 4 | F124: =E124*D124 -> 0
A126: 15 | B126: Dobava in montaža Izolacija cevovodov hlajenja s fleksibilno zaprto celično izolacijo iz sintetičnega kavčuka z visoko upornostjo proti difuziji vodne pare in nizko toplotno prevodnostjo. Vključno s samolepilnimi trakovi in lepilom. Material je samougasljiv, ne kaplja in ne širi ognja. Tehnični podatki: - toplotna prevodnost λ ≤ 0,034 W/m.K pri 0 °C - koeficient upora proti difuziji vodne pare je μ ≥ 10.000 - za temperaturno področje od -50°C do + 110°C - požarni razred B-s3,d0 po EN 13501-1
B127: Proizvod/Kaimann
B128: Tip:ST ali ustrezno
B129: DN 65(d=38mm) | C129: m | D129: 12 | F129: =E129*D129 -> 0
B130: DN 100(d=38mm) | C130: m | D130: 22 | F130: =E130*D130 -> 0
A132: 16 | B132: Dobava in montaža Izolacija cevovodov hlajenja s fleksibilno zaprto celično izolacijo iz sintetičnega kavčuka z visoko upornostjo proti difuziji vodne pare in nizko toplotno prevodnostjo ovito v Aluminijasto pločevino vodotesne izvedbe. Vključno s samolepilnimi trakovi in lepilom. Material je samougasljiv, ne kaplja in ne širi ognja. Tehnični podatki: - toplotna prevodnost λ ≤ 0,034 W/m.K pri 0 °C - koeficient upora proti difuziji vodne pare je μ ≥ 10.000 - za temperaturno področje od -50°C do + 110°C - požarni razred B-s3,d0 po EN 13501-1
B133: Proizvod/Kaimann
B134: Tip:ST ali ustrezno
B135: DN 80(d=38mm)+AL pločevina | C135: m | D135: 12 | F135: =E135*D135 -> 0
A137: 17 | B137: Dobava in montaža Manometer, vzmetni cevni, razred točnosti 2.5, okrov iz jekla, nosilni obroč iz jekla, lakiran, premer okrova 80 mm, priključek R 1/2, radialno navzdol, vključno z manometersko pipo, merilno območje 0 do 10 bar. | C137: kos | D137: 4 | F137: =E137*D137 -> 0
A139: 18 | B139: Dobava in montaža Stekleni termometer, ravni, merilno območje 0 do 120°C, dolžina potopne cevi 63 mm. Navojni priključek R 1/2, vključno z varilno obojko. | C139: kos | D139: 4 | F139: =E139*D139 -> 0
A141: 19 | B141: Dobava in montaža Stikalo pretoka za tekočine, potopno, vključno s tuljko, | C141: kos | D141: 1 | F141: =E141*D141 -> 0
A143: 20 | B143: Dobava in montaža Obešalni in pritrdilni material sistemskega proizvajalca HILTI za cevovode, izdelan iz različnih sistemskih jeklenih pocinkanih profilov, objemnih trakov izdelanih iz luknjičastega pocinkanega jeklenega traku, vijakov, matic in zidnih vložkov, obešala za razvode hladne vode naj ima na obodu protikondenčno gumo zaradi preprečitve rosanja na stiku cevi in obešala, skupne teže | C143: kg | D143: 187 | F143: =E143*D143 -> 0
A145: 21 | B145: Dvakratno zaščitno miniziranje cevi, kozol in držal po predhodnem čiščenju | C145: m2 | D145: 10 | F145: =E145*D145 -> 0
A147: 22 | B147: Barvanje vidnih delov cevi, armaturein podpore z lakom odpornim na visoke temperature | C147: m2 | D147: 5 | F147: =E147*D147 -> 0
A150: =COUNT(A$65:A149)+1 -> 22 | B150: Transportni, zavarovalni in ostali splošni stroški | C150: kpl | D150: 1 | F150: =E150*D150 -> 0
A152: =COUNT(A$65:A151)+1 -> 23 | B152: Poiskusno obratovanje, regulacija armatur in meritev pretokov in temperatur pri pooblaščeni instituciji | C152: kpl | D152: 1 | F152: =E152*D152 -> 0
A153: =COUNT(A$65:A152)+1 -> 24 | B153: Lepljenje oznak cevovodov ter napisne ploščice | C153: kpl | D153: 1 | F153: =E153*D153 -> 0
A155: =COUNT(A$65:A154)+1 -> 25 | B155: Uporaba avtodvigala za postavitev Hladilnega agregata na streho | C155: kpl | D155: 1 | F155: =E155*D155 -> 0
A157: =COUNT(A$65:A156)+1 -> 26 | B157: Prestavitev cevi za hladilno vodo, ki vključuje: - Praznjenje hladilnega sistema - Demontaža cevi DN100 z izolacijio…..............22m - Ponovna montaža na novo lokacijo - ponovna a izolacija cevi s parozaporno izolacijo d=38mm - Ponovno polnjenje sistema - Tlačni preiskus | C157: kpl | D157: 1 | F157: =E157*D157 -> 0
B159: SKUPAJ | F159: =SUM(F61:F155) -> 0
B161: RADIATORSKO OGREVANJE
A163: 1 | B163: Dobava in montaža jeklenih panelnih radiatorjev HIGIENIK IZVEDBE iz dvakrat dekapirane pločevine debeline 1,25 mm, predhodno tovarniško obarvani, odzračevalnimi pipicami, slepimi čepi, nosilnimi konzolami, vijaki in vložki za pritrditev, z integrirnim ventilom za dvocevno ogrevanje ; Radiatorji imajo spodnji sredinski priključek ter vgrajen termostatsko ventil ter možnost menjave strani ventila. Skupaj z radijatorji naročiti tudi okrasne letve in pokrivne rozete število po spisku radiatorjev.
B164: Tip:
B165: 10VM
B166: 900x600 | C166: kos | D166: 2 | F166: =E166*D166 -> 0
B168: 20VM
B169: 600x1800 | C169: kos | D169: 27 | F169: =E169*D169 -> 0
B171: 30VM
B172: 600x1800 | C172: kos | D172: 1 | F172: =E172*D172 -> 0
A174: 2 | B174: Dobava in montaža Radiatorska termostatska glava z vgrajenim tipalom, ki deluje v temperaturnem območju 5°C do 26°C. Polnjenje je plinsko ali tekočinsko. Izdelana skladno z EN215-1. Glava omogoča protizamrzovalno zaščito, zaklepanje nastavitvene točke temperature, z zaščito proti kraji. priključek glave je kompatibilen že vgrajenemu ventilu na radiatorju
B175: Tip: Danfoss RA 2000
B176: DN 15 | C176: kos | D176: 30 | F176: =E176*D176 -> 0
A178: 3 | B178: Dobava in montaža Univerzalni kotni priključek za radiator, s priključnim navojem 3/4 z EURO konusem, s čepom za nastavitev pretoka skozi radiator, kompletno s spojkami za fleksibilno cev Tip:……………………… | C178: kos | D178: 30 | F178: =E178*D178 -> 0
A180: 4 | B180: Dobava in montaža kroglenega ventila s privijalom s ploščatim tesnenjem za toplo/hladno vodo PN 6 dimenzije,
...

Sheet 4.PREZRAČEVANJE
A5: Poz. | B5: Opis dela oz. dobave | C5: enota | D5: količina | E5: cena/EM | F5: Skupaj
B7: OPOMBA: Vse naprave in elementi v popisu materiala so navedene primeroma. V kolikor ni navdeno eksplicitno drugače velja za vse postavke dobava in montaža. Vse naprave in elemente se mora dobaviti z ustreznimi certifikati, atesti, garancijami in navodili. Pri vseh napravah je potrebno upoštevati stroške zagona, meritve in nastavitve obratovalnih količin. Pri vseh elementih je potrebno upoštevati spojni in tesnilni material. Vsa dela na objektu se morajo izvajati v skladu z načrti ter popisi materiala in del faze PZI. V ponudbi za izvedbo je zajeto tudi posnemanje dejanskega stanja izvedenih instalacij, ki jih mora sproti vnašati v en izvod PZI dokumentacije izvajalec del in jih dostaviti investitorju ta pa jih dostavi projektantom za izdelavo PID.
B9: 4.3.3 POPIS MATERIALA IN DEL
B11: SISTEM N-1 HOSPITALNI DEL
A13: 1 | B13: Dobava in montaža Dovodna klimatske naprave za 13100 m3/h notranje izvedbe sestavljena iz funkcijskih enot, ki se spajajo na licu mesta. Notranje površine so popolnoma gladke, brez ostrih robov in zvarov. Izvedba klimata mora biti HIGIENIK skladna s VDI 6022 in DIN 1946-4. Potrebni certifikati: Higienik izvedba ILH BERLIN, EUROVENT. Notranjost naprav mora biti iz nerjavnega jekla 1.4301. Ohišja enot so izdelana v dvoplaščni izvedbi z zunanjimi stenami iz prašnato barvane pocinkane pločevine z vmesno negorljivo izolacijo (razred A1 po DIN 4102).vključno z zaščitno rešetko za zajem in izpuh zraka. Stran posluževanja definirati ob naročilu. Naprava je dobavljena s protivibracijsko gumo cca 3 cm (med klimatom in podestom oz nosilno konstrukcijo).
B14: Konstrukcijsko ogrodje je iz 38 mm kvadratnih profilov. Ogrodje je spojeno z vogalniki. Enota nima zvarov in jo je mogoče popolnoma demontirati. Mehanska togost ustreza standardu EN 1886. Ločljivi dvostenski pokrovi so debeline 48 mm. Notranjost pokrovov je zapolnjena z negorljivo mineralno volno za akustično in toplotno izolacijo.
B15: Tehnične značilnosti ohišja (potrjene s strani EUROVENT): - Mehanska togost: razred D1 - Tesnost ohišja: razred L1 - Faktor toplotne prevodnosti: razred T2 - Faktor toplotnih mostov: razred TB1 Tehnične značilnosti ohišja in sistema finega filtra F9 (skladna s tehnično smernico VDI 6022 Blatt1): - Sistem za hitro izmenjavo filtrov skladno s VDI6022 Vrednosti zmanjšanja jakosti zvoka ohišja mora biti minimalno (potrjeno s strani EUROVENT): -Srednja frekvenca oktave (Hz) 125 250 500 1000 2000 4000 8000 Zmanjšanje jakosti zvoka (dB) 15,8 27 30,2 35,1 35,4 35,8 36,5 Notranje površine so popolnoma gladke brez ostrih robov in varov. Pokrovi notranjih sten so iz nerjavečega jekla 1.4301 in zunanjih sten iz pocinkane pločevine debeline 1.0 mm. Po izdelavi so v celoti praškasto obarvani, 60 μm (RAL 7001).
B16: Jadrovinasti priključek
B18: Zaporna žaluzija na motorni pogon:
B20: Filtrna enota:
B21: Na vstopu svežega zraka v klimatsko napravo
B22: Kvaliteta filtra = F7
B24: Glikolski izmenjevalnik (grelnik):
B25: pretok zraka: 13100 m3/h
B26: vstop zraka: -13 °C
B27: izstop zraka: 9,22 °C
B28: Antifrogen N 35%
... B72: Jadrovinasti priključek
B73: USTREZA EUROCLIMA 15/12 | C73: kpl | D73: 1 | F73: =D73*E73 -> 0
A75: 2 | B75: Dobava in montaža Odvodna klimatska naprava za 13100 m3/h notranje izvedbe sestavljena iz funkcijskih enot, ki se spajajo na licu mesta. Notranje površine so popolnoma gladke, brez ostrih robov in zvarov. Izvedba klimata mora biti HIGIENIK skladna s VDI 6022 in DIN 1946-4. Potrebni certifikati: Higienik izvedba ILH BERLIN, EUROVENT. Notranjost naprav mora biti iz nerjavnega jekla 1.4301. Ohišja enot so izdelana v dvoplaščni izvedbi z zunanjimi stenami iz prašnato barvane pocinkane pločevine z vmesno negorljivo izolacijo (razred A1 po DIN 4102).vključno z zaščitno rešetko za zajem in izpuh zraka. Stran posluževanja definirati ob naročilu. Naprava je dobavljena s protivibracijsko gumo cca 3 cm (med klimatom in podestom oz nosilno konstrukcijo).
B76: Konstrukcijsko ogrodje je iz 38 mm kvadratnih profilov. Ogrodje je spojeno z vogalniki. Enota nima zvarov in jo je mogoče popolnoma demontirati. Mehanska togost ustreza standardu EN 1886. Ločljivi dvostenski pokrovi so debeline 48 mm. Notranjost pokrovov je zapolnjena z negorljivo mineralno volno za akustično in toplotno izolacijo.
B77: Tehnične značilnosti ohišja (potrjene s strani EUROVENT): - Mehanska togost: razred D1 - Tesnost ohišja: razred L1 - Faktor toplotne prevodnosti: razred T2 - Faktor toplotnih mostov: razred TB1 Tehnične značilnosti ohišja in sistema finega filtra F9 (skladna s tehnično smernico VDI 6022 Blatt1): - Sistem za hitro izmenjavo filtrov skladno s VDI6022 Vrednosti zmanjšanja jakosti zvoka ohišja mora biti minimalno (potrjeno s strani EUROVENT): -Srednja frekvenca oktave (Hz) 125 250 500 1000 2000 4000 8000 Zmanjšanje jakosti zvoka (dB) 15,8 27 30,2 35,1 35,4 35,8 36,5 Notranje površine so popolnoma gladke brez ostrih robov in varov. Pokrovi notranjih sten so iz nerjavečega jekla 1.4301 in zunanjih sten iz pocinkane pločevine debeline 1.0 mm. Po izdelavi so v celoti praškasto obarvani, 60 μm (RAL 7001).
B79: Jadrovinasti priključek
B81: Filtrna enota:
B82: Na vstopu svežega zraka v klimatsko napravo
B83: Kvaliteta filtra = M5
B85: Zvočno dušilna enota dolžine 1200 mm
B87: Ventilator s frekfenčnim regulatorjem:
B88: Vdo= 13100 m3/h
B89: dPex= 600 Pa
B90: Pm= 7,3 kW
B92: Glikolski izmenjevalnik (hladilnik):
... B103: Jadrovinasti priključek
B104: USTREZA EUROCLIMA 15/12 | C104: kpl | D104: 1 | F104: =D104*E104 -> 0
A106: 4 | B106: Conski dogrelniki zraka za sledeče parametre izdelani skladno s VDI 6022 in DIN 1946-4
A108: 4.1 | B108: pretok zraka: 3780 m3/h
B109: vstop zraka: 14 °C
B110: izstop zraka: 25 °C
B111: toplotna moč: 15,22 Kw
B112: ogrevna voda: 70/50 °C
B113: dimenzija:800x400mm
B114: ∆pzrak = 60Pa
B115: ∆pvoda = 4,8 kPa | C115: kos | D115: 1 | F115: =D115*E115 -> 0
A117: 4.2 | B117: pretok zraka: 2680 m3/h
B118: vstop zraka: 14 °C
B119: izstop zraka: 25 °C
B120: toplotna moč: 12,26 Kw
B121: ogrevna voda:70/50 °C
B122: dimenzija:500x400mm
B123: ∆pzrak = 61Pa
B124: ∆pvoda = 4,8 kPa | C124: kos | D124: 1 | F124: =D124*E124 -> 0
A127: 4.3 | B127: pretok zraka: 6600 m3/h
B128: vstop zraka: 14 °C
B129: izstop zraka: 25 °C
B130: toplotna moč: 39,87 Kw
B131: ogrevna voda: 70/50 °C
B132: dimenzija:1200x600mm
B133: ∆pzrak = 39Pa
B134: ∆pvoda = 4,8 kPa | C134: kos | D134: 1 | F134: =D134*E134 -> 0
A136: 5 | B136: Dušilnik zvoka, z ohišjem iz jeklene pocinkane pločevine, s prirobnicama, z negorljivimi dušilnimi kulisami v okvirju iz pocinkane pločevine, zunanje površine polnil zaščitene s perforirano pločevino proti odnašanju vlaken do hitrosti 20 m/s, z aerodinamičnimi vodili na vstopu in izstopu, pretok zraka 13100 m3/h, tlačni padec 37Pa, dušenje pri 250Hz je 9 dB.
B137: 1000x1000 L=500mm | C137: kos | D137: 1 | F137: =E137*D137 -> 0
A139: 6 | B139: Dušilnik zvoka, z ohišjem iz jeklene pocinkane pločevine, s prirobnicama, z negorljivimi dušilnimi kulisami v okvirju iz pocinkane pločevine, zunanje površine polnil zaščitene s perforirano pločevino proti odnašanju vlaken do hitrosti 20 m/s, z aerodinamičnimi vodili na vstopu in izstopu, pretok zraka 13100 m3/h, tlačni padec 42Pa, dušenje pri 250Hz je 17 dB.
B140: 1000x1000 L=1000mm | C140: kos | D140: 1 | F140: =E140*D140 -> 0
A142: 7 | B142: kanalska filtrna sekcija skupaj z prikazovalnikom diferenčnega tlaka za kontrolo zamazanosti filtra :
B143: Na odvodu zavženega zraka iz izolacijskih sob
B144: Dimnezija 762x610x292
B145: pretok zraka 795m3/h
B146: Tlačni padec pri 795m3/h=29Pa
B147: Kvaliteta filtra = H-13 | C147: kos | D147: 1 | F147: =E147*D147 -> 0
A149: 8 | B149: Elektronski regulator pretoka skupaj z dušilnikom zvoka za vzdrževanje želenega pretoka zraka, s sredinsko uležajeno zrakotesno loputo, za priklop na spirokanalsko mrežo, z merilno zaslonko za merjenje zastojnega in statičnega tlaka, s potenciometrom za nastavitev maks. in min. pretoka, z hitrim elektromotornim pogonom (24V ), z možnostjo krmiljenjea preko analognega signala 0-10V ali 4-20mA z okroglim ali kvadratnim ohišjem iz pocinkane pločevine, zvočno izoliran s 50mm debelim ovojem zvočne izolacije, PRED NABAVO SE MORATA ELEKTRO IZVAJALEC in IZVAJALEC CNS USKLADITI GLEDE TIPA POGONA IN NAPAJANJA POGONOV
B150: Φ160 | C150: kos | D150: 36 | F150: =D150*E150 -> 0
B151: Φ200 | C151: kos | D151: 8 | F151: =D151*E151 -> 0
A153: 9 | B153: Mehanski regulator pretoka za vzdrževanje želenega pretoka zraka, s sredinsko uležajeno zrakotesno loputo, za priklop na spirokanalsko mrežo, z merilno zaslonko za merjenje zastojnega in statičnega tlaka, z vzmetnim pogoinom lopute z okroglim ohišjem iz pocinkane pločevine, zvočno izoliran s 40mm debelim ovojem zvočne izolacije,
B154: Φ125 | C154: kos | D154: 14 | F154: =D154*E154 -> 0
B155: Φ160 | C155: kos | D155: 9 | F155: =D155*E155 -> 0
A157: 10 | B157: Mehanski regulator pretoka za vzdrževanje želenega pretoka zraka, s sredinsko uležajeno zrakotesno loputo, za priklop na kvadratno kanalsko mrežo, z merilno zaslonko za merjenje zastojnega in statičnega tlaka, z vzmetnim pogoinom lopute z okroglim ali kvadratnim ohišjem iz pocinkane pločevine, zvočno izoliran s 40mm debelim ovojem zvočne izolacije,
B158: 600x300 | C158: kos | D158: 4 | F158: =D158*E158 -> 0
A160: 11 | B160: Protipožarna loputa pravokotnega preseka, po EN 1366-2, z atestom za požarno odpornost 90 min, izdelana iz pocinkane pločevine, z elektromotornim pogonom 230V, z mejnima tipkaloma za kontrolo odprte in zaprte lege lopute, s priključno dozo, dolžina L=400mm. PRED NABAVO SE MORATA STROJNI IN ELEKTRO IZVAJALEC USKLADITI GLEDE TIPA POGONA IN NAPAJANJA POGONOV
B161: 250x200 | C161: kos | D161: 11 | F161: =D161*E161 -> 0
B162: 300x200 | C162: kos | D162: 4 | F162: =D162*E162 -> 0
B163: 1000x300 | C163: kos | D163: 4 | F163: =D163*E163 -> 0
A165: 12 | B165: Protipožarna loputa okroglega preseka, po EN 1366-2, z atestom za požarno odpornost 90 min, izdelana iz pocinkane pločevine, z elektromotornim pogonom 230V, z mejnima tipkaloma za kontrolo odprte in zaprte lege lopute, s priključno dozo in protipožarno maso za zatesnitev podprtine med požarno loputo in zdiom. Dolžina L=400mm. PRED NABAVO SE MORATA STROJNI IN ELEKTRO IZVAJALEC USKLADITI GLEDE TIPA POGONA IN NAPAJANJA POGONOV
B166: velikost: Ф125 | C166: kos | D166: 1 | F166: =D166*E166 -> 0
B167: velikost: Ф160 | C167: kos | D167: 4 | F167: =D167*E167 -> 0
A169: 13 | B169: STENSKI difuzor s perforirano sprednjo ploščo za vpih zraka, barva in tip perforacije po izbiri arhitekta, vključno priključna komora s perforirano pločevino, s čelnim priključkom z regulacijsko loputo, pritrdilnim in tesnilnim materialom.
B170: tip: 525x225; DN 160 | C170: kos | D170: 20 | F170: =D170*E170 -> 0
A172: 14 | B172: Kvadratni difuzor z vrtljivimi in posamično nastavljivimi usmerniki za vpih zraka, barva po izbiri arhitekta, sestavljen iz priključne komore s perforirano pločevino, s stranskim priključkom z regulacijsko loputo, pritrdilnim in tesnilnim materialom.
B173: tip: 400x400; DN 160 | C173: kos | D173: 5 | F173: =D173*E173 -> 0
B174: tip: 500x500; DN 160 | C174: kos | D174: 8 | F174: =D174*E174 -> 0
B175: tip: 600x600; DN 200 | C175: kos | D175: 6 | F175: =D175*E175 -> 0
A177: 15 | B177: Gibka zračna cev z zvočno in toplotno izolacijo, za priključitev distribucijskih elementov na kanalski razvod, z notranjo površino odporno na abrazivnost zraka, kompletno s pritrdilnim materialom.
B178: DN 125 | C178: m | D178: 32 | F178: =D178*E178 -> 0
B179: DN 160 | C179: m | D179: 55 | F179: =D179*E179 -> 0
B180: DN 200 | C180: m | D180: 18 | F180: =D180*E180 -> 0
A182: 16 | B182: Aluminijasta rešetka za odvod zraka sestavljena iz okvirja in nastavka za regulacijo količine zraka, skupaj s pritrdilnim in tesnilnim materialom.
B183: velikost: 325x 225 | C183: kos | D183: 31 | F183: =D183*E183 -> 0
B184: velikost: 425x 225 | C184: kos | D184: 6 | F184: =D184*E184 -> 0
A186: 17 | B186: Priključna komora za aluminijaste rešetke za odvod zraka izdelana iz pocinkane pločevine, skupaj s pritrdilnim in tesnilnim materialom. Za naslednje dimenzije in tipe rešetk
B187: velikost: 325x 225 | C187: kos | D187: 31 | F187: =D187*E187 -> 0
B188: velikost: 425x 225 | C188: kos | D188: 6 | F188: =D188*E188 -> 0
...
