Workbook

Sheet REKAPITULACIJA
A2: 5.4 | C2: POPIS MATERIALA IN DEL
C4: OPOMBA: Vse naprave in elementi v popisu materiala so navedene primeroma. Vse naprave in elemente se mora dobaviti z ustreznimi certifikati, atesti, garancijami in navodili. Pri vseh napravah je potrebno upoštevati stroške zagona, meritve in nastavitve obratovalnih količin. Pri vseh elementih je potrebno upoštevati spojni in tesnilni material. Vsa dela na objektu se morajo izvajati v skladu z načrti ter popisi materiala in del faze PZI. V ponudbi za izvedbo je zajeto tudi posnemanje dejanskega stanja izvedenih instalacij, ki jih mora sproti vnašati v en izvod PZI dokumentacije izvajalec del in jih dostaviti investitorju ta pa jih dostavi projektantom za izdelavo PID. V ponudbi je potrebno zajeti še sledeča dela: Tlačni preizkusi, funkcijska navodila, izpiranje cevododov, čiščenje cevovodov, pripravljalna dela, zaključna dela in zarisovanje tras.
C6: REKAPITULACIJA
C8: STROJNE INSTALACIJE
B10: 1 | C10: =RIGHT('1.VOKA'!B4,23) -> VODOVOD IN KANALIZACIJA | D10: ='1.VOKA'!G11 -> 0 | E10: EUR
B11: 2 | C11: =RIGHT('2.MEDICINSKI PLINI'!B10,16) -> MEDICINSKI PLINI | D11: ='2.MEDICINSKI PLINI'!H161 -> 0 | E11: EUR
B12: 3 | C12: OGREVANJE IN HLAJENJE | D12: ='3.OGRHL'!F593 -> 0 | E12: EUR
B13: 4 | C13: PREZRAČEVANJE IN KLIMATIZACIJA | D13: ='4.PREZRAČEVANJE'!F255 -> 0 | E13: EUR
B14: 5 | C14: Nepredvidena dela: 5% vsote vseh zgornjih točk (obračun po dejansko izvedenih delih in materialu, potrdi nadzornik) | D14: =SUM(D10:D13)*(0.05) -> 0 | E14: EUR
C16: VSE SKUPAJ | D16: =SUM(D10:D14) -> 0 | E16: EUR

Sheet 1.VOKA
B1: OPIS POSTAVKE | C1: ENOTA | D1: KOLIČINA | E1: DOBAVA/ENOTA | F1: MONTAŽA /ENOTA | G1: SKUPAJ / ENOTA | H1: SKUPNA CENA [EUR]
B2: STROJNE INSTALACIJE
B4: 5.4.1 VODOVOD IN KANALIZACIJA
B6: =B17 -> 5.4.1.2 Hidrantno omrežje in gasilniki | G6: =H51 -> 0
B7: =B56 -> 5.4.1.6 NOTRANJA VODOVODNA INŠTALACIJA - razvodno omrežje | G7: =H170 -> 0
B8: =B173 -> 5.4.1.7 SANITARNA OPREMA | G8: =H213 -> 0
B9: =B217 -> 5.4.1.8 FEKALNA KANALIZACIJA | G9: =H270 -> 0
B10: =B273 -> 4.5.1.9 SKUPNE POZICIJE | G10: =H291 -> 0
B11: Skupaj | G11: =SUM(G6:G10) -> 0
B13: OPOMBA: Vse naprave in elementi v popisu materiala so navedene primeroma. Vse naprave in elemente se mora dobaviti z ustreznimi certifikati, atesti, garancijami in navodili. Pri vseh napravah je potrebno upoštevati stroške zagona, meritve in nastavitve obratovalnih količin. Pri vseh elementih je potrebno upoštevati spojni in tesnilni material. Vsa dela na objektu se morajo izvajati v skladu z načrti ter popisi materiala in del faze PZI. V ponudbi za izvedbo je zajeto tudi posnemanje dejanskega stanja izvedenih instalacij, ki jih mora sproti vnašati v en izvod PZI dokumentacije izvajalec del in jih dostaviti investitorju ta pa jih dostavi projektantom za izdelavo PID.
B14: OPOMBA: V ponudbi je potrebno zajeti še sledeča dela: Tlačni preizkusi, funkcijska navodila, izpiranje cevododov, čiščenje cevovodov, pripravljalna dela, zaključna dela in zarisovanje tras.
B17: 5.4.1.2 Hidrantno omrežje in gasilniki
A19: 1 | B19: Demontažna dela: - demontaža obstoječih gasilnikov in obešal, hramba na varnem mestu za čas adaptacijskih del. - ponovna montaža gasilnikov na ustrezna mesta, po načrtu. | C19: kpl | D19: 1 | H19: =D19*G19 -> 0
A21: =COUNT(A$19:A20)+1 -> 2 | B21: Demontažna dela: - zapiranje vode na najbližjem zapornem elementu, obveščanje uporabnikov - demontaža 2 obstoječih hidrantnih omaric - demontaža obstoječih hidrantnih cevovodov, dim. 2", ocenjene dolžine 3m - 2x začepljenje cevi na mestu odreza za čas adaptacije - 2x odstranitev čepa in priključitev nove cevi na obstoječe - po prenovitvenih delih - demontirane elemente je potrebno odpeljati na trajno deponijo, vključno plačilo deponijske takse. | C21: kpl | D21: 1 | G21: =E21+F21 -> 0 | H21: =D21*G21 -> 0
A23: =COUNT(A$19:A22)+1 -> 3 | B23: Napisna ploščica za označevanje elementov, velikosti 60x45 mm, vključno pritrdilni material. (ocenjeno) | C23: kos | D23: 2 | G23: =E23+F23 -> 0 | H23: =D23*G23 -> 0
A25: =COUNT(A$19:A24)+1 -> 4 | B25: Stenski hidrant montiran na steni, tip EURO, po EN671-1, sestoječ iz: -pločevinaste omarice z vratci na tečaje, dim. 740x840x250 mm, protikorozijsko opleskane in z odgovarjajočo oznako na vratcih -priključnega medeninastega ventila za hidrant dim. 50 mm, s stabilno spojko "C" in reducirnim kosom -ročnika z ustreznim ustnikom -tlačne gumijaste poltoge cevi dim. 25 mm, dolžine 30 m, navite na vrtljivem kolutu, po EN694 Opomba 1: Pred naročilom obvezno na objektu preveriti levi / desni priklop. Opobmba 2: Omarica je standardne globine: 25 cm! Predvidena je podometna vgradnja v zidni niši. Ustreza: Gallus ali enakovredno | C25: kos | D25: 2 | G25: =E25+F25 -> 0 | H25: =D25*G25 -> 0
A27: =COUNT(A$19:A26)+1 -> 5 | B27: Omarica za prenosni gasilnik, izdelana iz pločevine, s protikorozijskim opleskom, za nadometno vgradnjo ali vzidavo, skupaj s pritrdilnim materialom, razmestitev po objektu skladno z načrtom požarne varnosti. Opomba: Omarica se predvidi za podometno vgradnjo v zidni niši. Gasilniki so CO2-5kg. Ustreza: Gallus ali enakovredno
B28: dim.: 290/740/250 - za 1 gasilnik | C28: kos | D28: 4 | G28: =E28+F28 -> 0 | H28: =D28*G28 -> 0
A30: =COUNT(A$19:A29)+1 -> 6 | B30: Cevovodi za požarno vodo iz pocinkane srednje težke varjene navojne cevi DIN 2440, materiala St33, spajanje z navojnimi fitingi, vključno z montažnim in tesnilnim materialom, ter z požarnim tesnenjem na prehodih skozi požarne stene.
B31: DN 50 | C31: m | D31: 4 | G31: =E31+F31 -> 0 | H31: =D31*G31 -> 0
A33: =COUNT(A$19:A32)+1 -> 7 | B33: Toplotna izolacija hidrantnih cevovodov vodenih vidno v neogrevanih garažnih prostorih (pod stropom ali ob stenah), izvedena iz: - gibkih cevi iz sintetičnega kavčuka, lepljenih na cev, koeficient parozapornosti min 3000, debelina 9 mm
B34: DN 50 | C34: m | D34: 4 | G34: =E34+F34 -> 0 | H34: =D34*G34 -> 0
A36: =COUNT(A$19:A35)+1 -> 8 | B36: Obešala in podpore cevovodovi iz objemke, matice in protimatice, z navojno palico, s kovinskimi vgradnimi čepi, ali klemami za vgradnjo na kovinske profile z atestom
B37: DN 50 | C37: kg | D37: 5 | G37: =E37+F37 -> 0 | H37: =D37*G37 -> 0
A39: =COUNT(A$19:A38)+1 -> 9 | B39: Pomožni podporni obešalni in konzolni material iz jeklenih profilov | C39: kg | D39: 25 | G39: =E39+F39 -> 0 | H39: =D39*G39 -> 0
A41: =COUNT(A$19:A40)+1 -> 10 | B41: Barvanje vidnih kovinskih delov, držal in obešal z odgovarjajočo barvo | C41: m2 | D41: 2 | G41: =E41+F41 -> 0 | H41: =D41*G41 -> 0
A43: =COUNT(A$19:A42)+1 -> 11 | B43: Avtomatski odzračevalni ventil DN15, skupaj s krogelno zaporno pipo R1/2", navojni priključek. | C43: kos | D43: 2 | G43: =E43+F43 -> 0 | H43: =D43*G43 -> 0
A45: =COUNT(A$19:A44)+1 -> 12 | B45: Izpiranje cevovodov z vodo | C45: kpl | D45: 1 | G45: =E45+F45 -> 0 | H45: =D45*G45 -> 0
A47: =COUNT(A$19:A46)+1 -> 13 | B47: Hladni tlačni preizkus hidrantnega omrežja z vodnim tlakom 1,5 delovnega tlaka, v trajanju 2 uri, ter izdelava zapisnika. | C47: kpl | D47: 1 | G47: =E47+F47 -> 0 | H47: =D47*G47 -> 0
A49: =COUNT(A$19:A48)+1 -> 14 | B49: Pregled in meritve notranjih hidrantov s strani pooblaščene organizacije in izdaja pozitivnega poročila, vključno pečatenje hidrantov. | C49: kpl | D49: 1 | G49: =E49+F49 -> 0 | H49: =D49*G49 -> 0
B51: Skupaj hidrantno omrežje | H51: =SUM(H19:H50) -> 0
B56: 5.4.1.6 NOTRANJA VODOVODNA INŠTALACIJA - razvodno omrežje
B58: DEMONTAŽE
A59: 1 | B59: Demontaže razvodnega omrežja HSV, TSV in CIR v obravnavanih prostorih v 1. nadstropju, v obsegu: - zapiranje vodov TSV in HSV, ki napajajo 1.nadstropje, na najbližjem zapornem organu, vključno obveščanje uporabnikov. - demontaža pocinkanih cevovodov, v pritličju in kleti, vgrajenih v predelnih stenah in jaških, ter pod stropom, dim. DN15 do DN32, ocenjena skupna dolžina: 48 m - enako kot zgoraj, razen: demontaža v 1. nadstropju, ocenjen skupna dolžina: 41 m - odklop sanitarnih porabnikov iz vodovodnega omrežja (iztočne mešalne armature, WC-kotlički, tuši...), ocenjena količina: 35x kos - odvoz demontiranega materiala na trajno deponijo, vključno plačilo deponijske pristojbine | C59: kpl | D59: 1 | G59: =E59+F59 -> 0 | H59: =D59*G59 -> 0
A61: =COUNT(A$59:A60)+1 -> 2 | B61: Blindiranje obstoječih cevovodov Izdelava zaključkov obstoječih priključnih cevovodov v pritličju obsega: - 3x dvojni odrez obstoječih cevovodov TSV, HSV in CIR tik ob mestu zadnjega sanitarnega porabnika. Ta mesta so lahko v steni, jašku... ocenjena količina: 14x kos - prevezava / navezava vodov TSV in CIR, tik ob zadnjem porabniku, ocenjena količina: 12x kos - postavka zajema vse potrebne materiale, fitinge, cevovode, tesnila, čepe, pritrdilne elemente, potrebna orodja... za izvedbo opisanih del
B62: Opomba: Izdelava utorov v predelnih in zidanih stenah je vključena v načrtu arhitekture / gradbeništva. Prav tako je vključena sanacija obravnavanih sten po inštalacijskih delih. | C62: kpl | D62: 1 | G62: =E62+F62 -> 0 | H62: =D62*G62 -> 0
A64: =COUNT(A$59:A63)+1 -> 3 | B64: Pregled in raziskava obstoječega omrežja v drugih delih stavbe ter iskanje vodov, vozlišč, zapornih in regulacijskih organov. | C64: h | D64: 18 | G64: =E64+F64 -> 0 | H64: =D64*G64 -> 0
B66: MONTAŽE
A68: =COUNT(A$59:A67)+1 -> 4 | B68: Krogelni ventil z izpustno pipco, izdelan iz nerjavnega jekla Cr-Ni-Mo WR.N 1.44.01 za spajanje s stisljivimi fiting, za hladno in toplo sanitarno vodo, dimenzij:
B69: Φ 15 DN12 | C69: kos | D69: 16 | G69: =E69+F69 -> 0 | H69: =D69*G69 -> 0
...

Sheet 2.MEDICINSKI PLINI
B1: OPIS POSTAVKE | C1: ENOTA | D1: KOLIČINA | E1: DOBAVA/ENOTA | F1: MONTAŽA /ENOTA | G1: SKUPAJ / ENOTA | H1: SKUPNA CENA [EUR]
B2: STROJNE INSTALACIJE
B4: 5.4.1 MEDICINSKI PLINI
B7: OPOMBA: Vse naprave in elementi v popisu materiala so navedene primeroma. Vse naprave in elemente se mora dobaviti z ustreznimi certifikati, atesti, garancijami in navodili. Pri vseh napravah je potrebno upoštevati stroške zagona, meritve in nastavitve obratovalnih količin. Pri vseh elementih je potrebno upoštevati spojni in tesnilni material. Vsa dela na objektu se morajo izvajati v skladu z načrti ter popisi materiala in del faze PZI. V ponudbi za izvedbo je zajeto tudi posnemanje dejanskega stanja izvedenih instalacij, ki jih mora sproti vnašati v en izvod PZI dokumentacije izvajalec del in jih dostaviti investitorju ta pa jih dostavi projektantom za izdelavo PID.
B8: V ponudbi je potrebno zajeti še sledeča dela: Tlačni preizkusi, funkcijska navodila, izpiranje cevododov, čiščenje cevovodov, pripravljalna dela, zaključna dela in zarisovanje tras.
B10: 5.4.1 MEDICINSKI PLINI
B12: SPLOŠNI OPIS
B14: Izvajalec je dolžan imeti znanja, ki so predpisano zahtevana v GZ in tam opredeljena skozi obvezni delovodski in mojstrski izpit, iz česar izhaja, da je strokovno usposobljena oseba za posamezno vrsto inštalacije in pozna vse potrebne standardne detajle
B15: Instalacija medicinskih plinov mora biti zaradi specifičnih zahtev izdelana iz bakrenih cevi in fitingov.
B16: Za medicinske namene se uporabljajo specialne cevi iz bakra, material SF-Cu po EN predpisih. Te cevi odlikujejo dobre sposobnosti za varjenje in tehniko trdega lotanja. To so vlečene cevi iz celega, žarjene v vakuumu in dobavljene po želji v palicah (trde) ali v kolutih (mehke).
B17: S preizkusi na plinotesnost in trdnost materiala je zagotovljeno, da so cevi popolnoma zrakotesne, brez poroznih mest. Visoke dimenzijske tolerance zagotavljajo dobre lastnosti pri trdem lotanju, kar je zaradi varnosti zelo pomembno. Cevi morajo biti absolutno čiste in nemastne. Zaradi možnosti vstopa nečistoč pri transportu in montaži so cevi na konceh zaprte s plastičnimi pokrovi. Vsi fitingi, in to mufe, T - kosi, cevni loki in cevni reducirni kosi so iz bakra in morajo biti izdelani po predpisih za tovrstne instalacije.
B18: Izvršiti je potrebno sledeče kontrole in teste:
B19: -preizkus na prepuščanje cevi
... B33: Cevi medicinskih plinov je potrebno nedvoumno označiti z vrsto in smerjo medija po DIN 2403
A35: 1. | B35: CEVOVODI
A37: 1 | B37: Specialne bakrene cevi, zahtevane za medicinske pline, za trdo lotanje, material in lastnosti v skladu z DIN EN 13348, vlečene iz celega, v notranjosti, specialno razmaščene in očiščene tako, da vsebnost maščob ne prekorači 0,2 mg/dm2, testirane na nepropustnost, material mora biti homogen in brez razpok, na konceh zaradi čistoče začepljene s plastičnimi čepi. Trde cevi se dobavljajo v dolžini 5m, mehke pa do 25 m.
B38: Fitingi (kolena, loki, reducirni kosi, T-kosi, mufe...)morajo odgovarjati DIN EN 1254 in se morajo spajkati z materialom po DIN 8512.
B39: Ø 8 x 1 mm (max. del. tlak 104 bar) | C39: m | D39: 355 | G39: =E39+F39 -> 0 | H39: =D39*G39 -> 0
B40: Ø 12 x 1 mm (max. del. tlak 104 bar) | C40: m | D40: 140 | G40: =E40+F40 -> 0 | H40: =D40*G40 -> 0
B41: Ø 15 x 1 mm (max. del. tlak 104 bar) | C41: m | D41: 65 | G41: =E41+F41 -> 0 | H41: =D41*G41 -> 0
B42: Ø 18 x 1 mm (max. del. tlak 104 bar) | C42: m | D42: 21 | G42: =E42+F42 -> 0 | H42: =D42*G42 -> 0
B43: Ø 22 x 1 mm (max. del. tlak 104 bar) | C43: m | D43: 60 | G43: =E43+F43 -> 0 | H43: =D43*G43 -> 0
B44: Ø 28 x 1,5 mm (max. del. tlak 104 bar) | C44: m | D44: 15 | G44: =E44+F44 -> 0 | H44: =D44*G44 -> 0
B45: Ø 35 x 1,5 mm (max. del. tlak 104 bar) | C45: m | D45: 20 | G45: =E45+F45 -> 0 | H45: =D45*G45 -> 0
A47: 2 | B47: Srebrni lot za spajkanje bakrenih elementov in cevi, za obratovalne temperature do 7100C. Lot v skladu z DIN EN 1044. Kolut je iz žice premera 1,5 mm ali v palčkah.
B48: Naročilo po zahtevnosti razvoda. | C48: kpl | D48: 5 | G48: =E48+F48 -> 0 | H48: =D48*G48 -> 0
A50: 3 | B50: Mast za pomoč pri trdem lotanju bakra in medeninastih materialov | C50: kpl | D50: 5 | G50: =E50+F50 -> 0 | H50: =D50*G50 -> 0
A52: 4 | B52: Sredstvo za testiranje tesnosti cevovodov, ventilov, itd. | C52: kpl | D52: 1 | G52: =E52+F52 -> 0 | H52: =D52*G52 -> 0
A54: 5 | B54: Obešalni material za cevi, sestoječ iz:
B55: - cevnih objemk različnih dimenzij
B56: - U-tirnice, za več cevi
B57: - C-tirnice
B58: - drsne matice
B59: - stenski nosilci iz jeklene pločevine, pocinkani
B60: - konzole iz jeklene pločevine, pocinkane
B61: - sistemski vijaki z matico, podložko in plastično podlogo
B62: - razni vijaki in matice, PVC vložki | C62: kg | D62: 140 | G62: =E62+F62 -> 0 | H62: =D62*G62 -> 0
A64: 6 | B64: Oznake cevi, samolepilne, s smernimi puščicami, simbolnimi oznakami, barve po ISO 32 in ISO 5359 ali nevtralne barve | C64: kpl | D64: 1 | G64: =E64+F64 -> 0 | H64: =D64*G64 -> 0
A66: 7 | B66: Tlačni preizkusi in preizkusi delovanja sistema ter kontrola pravilnosti na posameznih priključkih, uregulacija sistema, zagon, poiskusno obratovanje, z meritvami in zapisniki | C66: kpl | D66: 1 | G66: =E66+F66 -> 0 | H66: =D66*G66 -> 0
A68: 8 | B68: Čiščenje in izpihovanje cevi | C68: kpl | D68: 1 | G68: =E68+F68 -> 0 | H68: =D68*G68 -> 0
...

Sheet 3.OGRHL
A5: Poz. | B5: Opis dela oz. dobave | C5: enota | D5: količina | E5: cena/EM | F5: Skupaj
B7: OPOMBA: Vse naprave in elementi v popisu materiala so navedene primeroma. V kolikor ni navdeno eksplicitno drugače celja za vse postavke dobava in montaža. Vse naprave in elemente se mora dobaviti z ustreznimi certifikati, atesti, garancijami in navodili. Pri vseh napravah je potrebno upoštevati stroške zagona, meritve in nastavitve obratovalnih količin. Pri vseh elementih je potrebno upoštevati spojni in tesnilni material. Vsa dela na objektu se morajo izvajati v skladu z načrti ter popisi materiala in del faze PZI. V ponudbi za izvedbo je zajeto tudi posnemanje dejanskega stanja izvedenih instalacij, ki jih mora sproti vnašati v en izvod PZI dokumentacije izvajalec del in jih dostaviti investitorju ta pa jih dostavi projektantom za izdelavo PID.
B9: 4.3.3 POPIS MATERIALA IN DEL
B11: HLADILNA POSTAJA
A13: 1 | B13: Dobava, montaža in zagon hladilnega agregata z naslednjimi karakteristikami:
B14: Hladilni agregat za pripravo hladne vode, z zračno hlajenimi ondenzatorjem kompaktne izvedbe s tovarniško vgrajenim hidravličnim modulom brez rezervoarja z minimalno potrebno količino vode v sistemu 2,5l/kW, z naslednjimi konstrukcijskimi in tehničnimi zahtevami:
B15: - kompresor je spiralni, s samo tremi rotirajočimi deli, 2-polni električen motor, dvojno uležajen na antivibracijskih podlogah,
B16: - hladilno sredstvo je R32
B17: - hidravlični modul komplet s centrifugalno vodno črpalko z motorjem z notranjo termično zaščito, z variabilnim številom vrtljajev (frekvenčni pretvornik), pretočnim stikalom, varnostnim ventilom, regulacijskim ventilom, manometri, filtrom in polnilnim priključkom
B18: - uparjalnik je ploščni z direktno ekspanzijo hladiva, izoliran s parozaporno toplotno izolacijo z zaprto celično strukturo
B19: - hladilni krog je opremljen z vsemi potrebnimi komponentami za normalno obratovanje (sušilno patrono, pokazno steklo, zaporni ventil, polnilni priključek, tlačno stikalo itd) ter mikroprocesorsko vodenim ekspanzijskim ventilom
B20: - regulacija hladilne moči je večstopenjska
B21: - aksialni ventilatorji so nizkohrupni ''Flying Bird'' z 11 lopaticami. Motor je 2-stopenjski, izloacije razreda F in zaščite IP54 z vgrajeno zaščito proti preobremenitvi.
B22: - Kondenzatrski registri morajo biti izdelani iz MIKROKANALOV AL cevi ekspandiranih na aluminiaste lamele ter tlačno testiranih s suhim zrakom. To omogoča za 3,5x boljšo časno protikorozivno zaščito, manjši padec zračnega tlaka za 50%, visokotlačno čiščenje-vzdrževanje do 68 bar, ter manjšo količino hladiva v sitemu (manjši negativni vpliv na okolje).
B23: - naprava je opremljean z električno omaro z ločenim močnostnim in regulacijskim delom Pro-Dialog; močnostni del mora vsebovati vse potrebne varovalke in kontaktorje, regulacijski del mora vsebovati mikroprocesor za učinkovito delovanje in nadziranje agregata; vključene morajo biti tudi naslednje varnostne funkcije: stikalo za izklop v sili, varovanje kompresorja pred tekočino, stikalo za previsok in prenizek tlak, omogoča MODBUS povezavo.
B24: - protizmrzovalni termostat oz. zaščita hidravličnih delov naprave
B25: - krmilnik za nadzor in upravljanje agregata
... B63: Ustreza: CARRIER
B64: Tip: 30RB-160R | C64: kpl | D64: 1 | F64: =E64*D64 -> 0
A66: 2 | B66: Priklop naprave na obstoječo avtomatiko hladilne strojnice, sestavljena iz sledečih elementov:
B67: Temperaturno tipalo za namestitev na zalogovnik za območje od -30 do 80 st.C dolžine 200mm vključno s tuljko | C67: kos | D67: 2 | F67: =E67*D67 -> 0
B68: Vmesnik za povezavo na CNS | C68: kos | D68: 1 | F68: =E68*D68 -> 0
B69: Vmesnik za povezavo na Hladilni agregat | C69: kos | D69: 2 | F69: =E69*D69 -> 0
B70: Programiranje obstoječega DCC regulatorja | C70: kos | D70: 1 | F70: =E70*D70 -> 0
B71: Grafični zaslon na dotik za posluževanje | C71: kos | D71: 1 | F71: =E71*D71 -> 0
A73: 3 | B73: Dobava in montaža Obtočna črpalka za hladilno vodo frekvenčno regulacijo za PN6, kompletno s: protiprirobnicami vijačnim in tesnilnim materialom in gumi kompenzatorji za preprečevanje vibracij
B74: Proizvod: Grundfos
B75: Tip: MAGNA 3 50-180F
B76: G = 14,1 m3/h
B77: H = 120 kPa
B78: N = 0,76kW
B79: U=1x230V | C79: kos | D79: 1 | F79: =E79*D79 -> 0
A81: 4 | B81: Merilnik hladilne energije proizv. KAMSTRUP tip Multical 602 Ultraflow, ultrazvočni, razstavljive izvedbe, overjen, sestoječ iz merilnika pretoka, računske enote in dveh temperaturnih tipal Pt500. Računska enota z baterijskim napajanjem, vklj. s komunikacijskim modulom ModBUS, ethernet, TC/IP nazivni pretok 15 m3/h, s prirobničnim priključkom, vključno s protiprirobnicama, tesnili in vijaki, PN 16, DN 50 | C81: kos | D81: 1 | F81: =E81*D81 -> 0
A83: 5 | B83: Dobava in montaža Zaporna loputa za vgradnjo med prirobnice za hladilno vodo in tlak PN6 vključno s protiprirobnicami, vijačnim in tesnilnim materialom.
B84: DN 65 | C84: kos | D84: 4 | F84: =E84*D84 -> 0
B85: DN 80 | C85: kos | D85: 3 | F85: =E85*D85 -> 0
A87: 6 | B87: Dobava in montaža Protipovratna loputa za vgradnjo med prirobnice za hladno vodo in tlak PN6 vključno s protiprirobnicami, vijačnim in tesnilnim materialom
B88: DN 65 | C88: kos | D88: 1 | F88: =E88*D88 -> 0
B89: DN 80 | C89: kos | D89: 1 | F89: =E89*D89 -> 0
A91: 7 | B91: Dobava in montaža Litoželezni lovilec nesnage za PN16 s prirobničnimi priključki, protiprirobnicami, pritrdilnim in tesnilnim materialom
...

Sheet 4.PREZRAČEVANJE
A5: Poz. | B5: Opis dela oz. dobave | C5: enota | D5: količina | E5: cena/EM | F5: Skupaj
B7: OPOMBA: Vse naprave in elementi v popisu materiala so navedene primeroma. V kolikor ni navdeno eksplicitno drugače velja za vse postavke dobava in montaža. Vse naprave in elemente se mora dobaviti z ustreznimi certifikati, atesti, garancijami in navodili. Pri vseh napravah je potrebno upoštevati stroške zagona, meritve in nastavitve obratovalnih količin. Pri vseh elementih je potrebno upoštevati spojni in tesnilni material. Vsa dela na objektu se morajo izvajati v skladu z načrti ter popisi materiala in del faze PZI. V ponudbi za izvedbo je zajeto tudi posnemanje dejanskega stanja izvedenih instalacij, ki jih mora sproti vnašati v en izvod PZI dokumentacije izvajalec del in jih dostaviti investitorju ta pa jih dostavi projektantom za izdelavo PID.
B9: 4.3.3 POPIS MATERIALA IN DEL
B11: SISTEM N-1 HOSPITALNI DEL
A13: 1 | B13: Dobava in montaža Dovodna klimatske naprave za 13100 m3/h notranje izvedbe sestavljena iz funkcijskih enot, ki se spajajo na licu mesta. Notranje površine so popolnoma gladke, brez ostrih robov in zvarov. Izvedba klimata mora biti HIGIENIK skladna s VDI 6022 in DIN 1946-4. Potrebni certifikati: Higienik izvedba ILH BERLIN, EUROVENT. Notranjost naprav mora biti iz nerjavnega jekla 1.4301. Ohišja enot so izdelana v dvoplaščni izvedbi z zunanjimi stenami iz prašnato barvane pocinkane pločevine z vmesno negorljivo izolacijo (razred A1 po DIN 4102).vključno z zaščitno rešetko za zajem in izpuh zraka. Stran posluževanja definirati ob naročilu. Naprava je dobavljena s protivibracijsko gumo cca 3 cm (med klimatom in podestom oz nosilno konstrukcijo).
B14: Konstrukcijsko ogrodje je iz 38 mm kvadratnih profilov. Ogrodje je spojeno z vogalniki. Enota nima zvarov in jo je mogoče popolnoma demontirati. Mehanska togost ustreza standardu EN 1886. Ločljivi dvostenski pokrovi so debeline 48 mm. Notranjost pokrovov je zapolnjena z negorljivo mineralno volno za akustično in toplotno izolacijo.
B15: Tehnične značilnosti ohišja (potrjene s strani EUROVENT): - Mehanska togost: razred D1 - Tesnost ohišja: razred L1 - Faktor toplotne prevodnosti: razred T2 - Faktor toplotnih mostov: razred TB1 Tehnične značilnosti ohišja in sistema finega filtra F9 (skladna s tehnično smernico VDI 6022 Blatt1): - Sistem za hitro izmenjavo filtrov skladno s VDI6022 Vrednosti zmanjšanja jakosti zvoka ohišja mora biti minimalno (potrjeno s strani EUROVENT): -Srednja frekvenca oktave (Hz) 125 250 500 1000 2000 4000 8000 Zmanjšanje jakosti zvoka (dB) 15,8 27 30,2 35,1 35,4 35,8 36,5 Notranje površine so popolnoma gladke brez ostrih robov in varov. Pokrovi notranjih sten so iz nerjavečega jekla 1.4301 in zunanjih sten iz pocinkane pločevine debeline 1.0 mm. Po izdelavi so v celoti praškasto obarvani, 60 μm (RAL 7001).
B16: Jadrovinasti priključek
B18: Zaporna žaluzija na motorni pogon:
B20: Filtrna enota:
B21: Na vstopu svežega zraka v klimatsko napravo
B22: Kvaliteta filtra = F7
B24: Glikolski izmenjevalnik (grelnik):
B25: pretok zraka: 13100 m3/h
B26: vstop zraka: -13 °C
B27: izstop zraka: 9,22 °C
B28: Antifrogen N 35%
... B72: Jadrovinasti priključek
B73: USTREZA EUROCLIMA 15/12 | C73: kpl | D73: 1 | F73: =D73*E73 -> 0
A75: 2 | B75: Dobava in montaža Odvodna klimatska naprava za 13100 m3/h notranje izvedbe sestavljena iz funkcijskih enot, ki se spajajo na licu mesta. Notranje površine so popolnoma gladke, brez ostrih robov in zvarov. Izvedba klimata mora biti HIGIENIK skladna s VDI 6022 in DIN 1946-4. Potrebni certifikati: Higienik izvedba ILH BERLIN, EUROVENT. Notranjost naprav mora biti iz nerjavnega jekla 1.4301. Ohišja enot so izdelana v dvoplaščni izvedbi z zunanjimi stenami iz prašnato barvane pocinkane pločevine z vmesno negorljivo izolacijo (razred A1 po DIN 4102).vključno z zaščitno rešetko za zajem in izpuh zraka. Stran posluževanja definirati ob naročilu. Naprava je dobavljena s protivibracijsko gumo cca 3 cm (med klimatom in podestom oz nosilno konstrukcijo).
B76: Konstrukcijsko ogrodje je iz 38 mm kvadratnih profilov. Ogrodje je spojeno z vogalniki. Enota nima zvarov in jo je mogoče popolnoma demontirati. Mehanska togost ustreza standardu EN 1886. Ločljivi dvostenski pokrovi so debeline 48 mm. Notranjost pokrovov je zapolnjena z negorljivo mineralno volno za akustično in toplotno izolacijo.
B77: Tehnične značilnosti ohišja (potrjene s strani EUROVENT): - Mehanska togost: razred D1 - Tesnost ohišja: razred L1 - Faktor toplotne prevodnosti: razred T2 - Faktor toplotnih mostov: razred TB1 Tehnične značilnosti ohišja in sistema finega filtra F9 (skladna s tehnično smernico VDI 6022 Blatt1): - Sistem za hitro izmenjavo filtrov skladno s VDI6022 Vrednosti zmanjšanja jakosti zvoka ohišja mora biti minimalno (potrjeno s strani EUROVENT): -Srednja frekvenca oktave (Hz) 125 250 500 1000 2000 4000 8000 Zmanjšanje jakosti zvoka (dB) 15,8 27 30,2 35,1 35,4 35,8 36,5 Notranje površine so popolnoma gladke brez ostrih robov in varov. Pokrovi notranjih sten so iz nerjavečega jekla 1.4301 in zunanjih sten iz pocinkane pločevine debeline 1.0 mm. Po izdelavi so v celoti praškasto obarvani, 60 μm (RAL 7001).
B79: Jadrovinasti priključek
B81: Filtrna enota:
B82: Na vstopu svežega zraka v klimatsko napravo
B83: Kvaliteta filtra = M5
B85: Zvočno dušilna enota dolžine 1200 mm
B87: Ventilator s frekfenčnim regulatorjem:
B88: Vdo= 13100 m3/h
B89: dPex= 600 Pa
B90: Pm= 7,3 kW
B92: Glikolski izmenjevalnik (hladilnik):
... B103: Jadrovinasti priključek
B104: USTREZA EUROCLIMA 15/12 | C104: kpl | D104: 1 | F104: =D104*E104 -> 0
A106: 4 | B106: Conski dogrelniki zraka za sledeče parametre izdelani skladno s VDI 6022 in DIN 1946-4
A108: 4.1 | B108: pretok zraka: 3780 m3/h
B109: vstop zraka: 14 °C
B110: izstop zraka: 25 °C
B111: toplotna moč: 15,22 Kw
B112: ogrevna voda: 70/50 °C
...
